BEGIN:VCALENDAR
VERSION:2.0
PRODID:-//A Rocha - ECPv6.15.19//NONSGML v1.0//EN
CALSCALE:GREGORIAN
METHOD:PUBLISH
X-ORIGINAL-URL:https://arocha.ca
X-WR-CALDESC:Events for A Rocha
REFRESH-INTERVAL;VALUE=DURATION:PT1H
X-Robots-Tag:noindex
X-PUBLISHED-TTL:PT1H
BEGIN:VTIMEZONE
TZID:America/Vancouver
BEGIN:DAYLIGHT
TZOFFSETFROM:-0800
TZOFFSETTO:-0700
TZNAME:PDT
DTSTART:20230312T100000
END:DAYLIGHT
BEGIN:STANDARD
TZOFFSETFROM:-0700
TZOFFSETTO:-0800
TZNAME:PST
DTSTART:20231105T090000
END:STANDARD
BEGIN:DAYLIGHT
TZOFFSETFROM:-0800
TZOFFSETTO:-0700
TZNAME:PDT
DTSTART:20240310T100000
END:DAYLIGHT
BEGIN:STANDARD
TZOFFSETFROM:-0700
TZOFFSETTO:-0800
TZNAME:PST
DTSTART:20241103T090000
END:STANDARD
BEGIN:DAYLIGHT
TZOFFSETFROM:-0800
TZOFFSETTO:-0700
TZNAME:PDT
DTSTART:20250309T100000
END:DAYLIGHT
BEGIN:STANDARD
TZOFFSETFROM:-0700
TZOFFSETTO:-0800
TZNAME:PST
DTSTART:20251102T090000
END:STANDARD
END:VTIMEZONE
BEGIN:VTIMEZONE
TZID:America/Winnipeg
BEGIN:DAYLIGHT
TZOFFSETFROM:-0600
TZOFFSETTO:-0500
TZNAME:CDT
DTSTART:20230312T080000
END:DAYLIGHT
BEGIN:STANDARD
TZOFFSETFROM:-0500
TZOFFSETTO:-0600
TZNAME:CST
DTSTART:20231105T070000
END:STANDARD
BEGIN:DAYLIGHT
TZOFFSETFROM:-0600
TZOFFSETTO:-0500
TZNAME:CDT
DTSTART:20240310T080000
END:DAYLIGHT
BEGIN:STANDARD
TZOFFSETFROM:-0500
TZOFFSETTO:-0600
TZNAME:CST
DTSTART:20241103T070000
END:STANDARD
BEGIN:DAYLIGHT
TZOFFSETFROM:-0600
TZOFFSETTO:-0500
TZNAME:CDT
DTSTART:20250309T080000
END:DAYLIGHT
BEGIN:STANDARD
TZOFFSETFROM:-0500
TZOFFSETTO:-0600
TZNAME:CST
DTSTART:20251102T070000
END:STANDARD
END:VTIMEZONE
BEGIN:VEVENT
DTSTART;TZID=America/Vancouver:20241207T130000
DTEND;TZID=America/Vancouver:20241207T160000
DTSTAMP:20260419T163718
CREATED:20241028T220823Z
LAST-MODIFIED:20241119T175227Z
UID:48370-1733576400-1733587200@arocha.ca
SUMMARY:Christmas Open House (Surrey\, BC)
DESCRIPTION:Celebrate the Christmas season with the A Rocha community! \nEnjoy caroling by the fireplace in our cozy heritage Guest House with a hot chocolate in hand. Come by for some homemade treats and kids crafts. On your way out\, be sure to stop by the A Rocha Farm Store to stock up on gifts for friends and family! \nNo RSVP required – see you there!
URL:https://arocha.ca/event/christmas-open-house-surrey-bc-2024/
LOCATION:A Rocha’s Brooksdale Environmental Centre\, 1620 192 St\, Surrey\, British Columbia\, V3Z 9V2\, Canada
CATEGORIES:BC Special Events,Brooksdale,Special Events
ATTACH;FMTTYPE=image/png:https://arocha.ca/wp-content/uploads/2024/10/Save-the-Date-Christmas-Open-House-2024.png
END:VEVENT
BEGIN:VEVENT
DTSTART;TZID=America/Winnipeg:20241214T090000
DTEND;TZID=America/Winnipeg:20241214T170000
DTSTAMP:20260419T163718
CREATED:20241007T195443Z
LAST-MODIFIED:20241129T181706Z
UID:48275-1734166800-1734195600@arocha.ca
SUMMARY:Christmas Bird Count (East Braintree\, MB)
DESCRIPTION:Do you love birding? Are you excited about community science? \nOur annual Christmas bird count is coming up at the Boreal Ecology Centre in East Braintree on December 14. \nBring warm clothes\, binoculars\, a camera (if you have one)\, and snacks (we will provide lunch). Please also bring what you feel you need to hike winter trails (snow pants\, hiking poles\, etc.) \n\nRVSP HEREPlease RSVP by clicking on the button above.\nIf you have questions please contact us here for more info×Contact Us \n    \n    \n    \n    \n                    \n                \n                                    \n                \n                \n\n    \n\n    \n    \n    \n    \n    \n\n\n\n    \n    \n\n\n\nYour Name\n\n\nYour Email\n\n\nYour Subject\n\n\nYour Message\n\nYes\, I want to sign up for ARMB's monthly newsletter!\n\n\n\n\n\n\n\n\nreCAPTCHA helps prevent automated form spam.\n\nThe submit button will be disabled until you complete the CAPTCHA.\n\n\n\n\n\n\n\nContact Information \n  \n       \n \n Close\n×RSVP Here\n\n    \n    \n    \n    \n        \n\n    \n\n    \n    \n    \n    \n    \n\n\n\n    \n            \n          Event RSVP (Manitoba)\n\n          \n          Sorry\, this form is not available.          \n        \n          \n       \n \n\nClose\n \nHere’s what Birds Canada has to say about their Christmas Bird Count:  \nStarted in 1900\, the Christmas Bird Count is North America’s longest-running Citizen Science project. Counts happen in over 2000 localities throughout the Western Hemisphere. \nThe information collected by thousands of volunteer participants forms one of the world’s largest sets of wildlife survey data. The results are used daily by conservation biologists and naturalists to assess the population trends and distribution of birds. \nEach Christmas Bird Count is conducted on a single day between December 14 and January 5. Counts are carried out within a 24-km diameter circle that stays the same from year to year. They are organized\, usually as group efforts\, at the local level\, often by a birding club or naturalist organization. \nThis is a great opportunity to explore the birds that we have in and around the Boreal Ecology Centre and engage people in conducting citizen science. This is part of the work that we want to take on in order to promote connections at the Boreal Ecology Centre that can contribute to conservation.
URL:https://arocha.ca/event/christmas-bird-count-east-braintree-mb-3/
LOCATION:Boreal Ecology Centre\, A Rocha Boreal Ecology Centre\, East Braintree\, Manitoba\, Canada
CATEGORIES:Boreal Ecology Centre,Manitoba,MB Conservation,MB Special Events,MB Volunteer Days,Special Events
ATTACH;FMTTYPE=image/jpeg:https://arocha.ca/wp-content/uploads/2019/12/TIMC4535.jpg
END:VEVENT
END:VCALENDAR