BEGIN:VCALENDAR
VERSION:2.0
PRODID:-//A Rocha - ECPv6.15.19//NONSGML v1.0//EN
CALSCALE:GREGORIAN
METHOD:PUBLISH
X-ORIGINAL-URL:https://arocha.ca
X-WR-CALDESC:Events for A Rocha
REFRESH-INTERVAL;VALUE=DURATION:PT1H
X-Robots-Tag:noindex
X-PUBLISHED-TTL:PT1H
BEGIN:VTIMEZONE
TZID:America/Winnipeg
BEGIN:DAYLIGHT
TZOFFSETFROM:-0600
TZOFFSETTO:-0500
TZNAME:CDT
DTSTART:20210314T080000
END:DAYLIGHT
BEGIN:STANDARD
TZOFFSETFROM:-0500
TZOFFSETTO:-0600
TZNAME:CST
DTSTART:20211107T070000
END:STANDARD
BEGIN:DAYLIGHT
TZOFFSETFROM:-0600
TZOFFSETTO:-0500
TZNAME:CDT
DTSTART:20220313T080000
END:DAYLIGHT
BEGIN:STANDARD
TZOFFSETFROM:-0500
TZOFFSETTO:-0600
TZNAME:CST
DTSTART:20221106T070000
END:STANDARD
BEGIN:DAYLIGHT
TZOFFSETFROM:-0600
TZOFFSETTO:-0500
TZNAME:CDT
DTSTART:20230312T080000
END:DAYLIGHT
BEGIN:STANDARD
TZOFFSETFROM:-0500
TZOFFSETTO:-0600
TZNAME:CST
DTSTART:20231105T070000
END:STANDARD
END:VTIMEZONE
BEGIN:VEVENT
DTSTART;TZID=America/Winnipeg:20221119T083000
DTEND;TZID=America/Winnipeg:20221119T120000
DTSTAMP:20260424T121556
CREATED:20220922T190110Z
LAST-MODIFIED:20230927T164942Z
UID:40922-1668846600-1668859200@arocha.ca
SUMMARY:Boggy River Brunch Fundraiser (Winnipeg\, MB)
DESCRIPTION:Enjoy a crepe and the A Rocha Manitoba community in an informal come-and-go fundraiser with award winning guest Chef Christy Barkman. The A Rocha team will be present to share stories and warm beverages. \nWhen: November 19 (between 8:30am – 12pm) Purchase your ticket below for the 1/2 hour time slot you would like to come. (Ticket purchase covers the cost of the crepe and coffee or tea). \nWhere: 214 Ethelbert St. (Home of Gordon and Lori Matties) \nContact us here for more info×Contact Us\n\n    \n    \n    \n    \n                    \n                \n                                    \n                \n                \n\n    \n\n    \n    \n    \n    \n    \n\n\n\n    \n    \n\n\n\nYour Name\n\n\nYour Email\n\n\nYour Subject\n\n\nYour Message\n\nYes\, I want to sign up for ARMB's monthly newsletter!\n\n\n\n\n\n\n\n\nreCAPTCHA helps prevent automated form spam.\n\nThe submit button will be disabled until you complete the CAPTCHA.\n\n\n\n\n\n\n\nContact Information \n  \n       \n \n\nClose
URL:https://arocha.ca/event/boggy-river-brunch2022/
LOCATION:214 Ethelbert St\, 214 Ethelbert St\, Winnipeg\, Manitoba\, R3G 1V7\, Canada
CATEGORIES:Manitoba,Special Events,Winnipeg
ATTACH;FMTTYPE=image/jpeg:https://arocha.ca/wp-content/uploads/2022/09/monika-grabkowska-jsgJtBOR6jY-unsplash-scaled-e1663794288392.jpg
END:VEVENT
BEGIN:VEVENT
DTSTART;TZID=America/Winnipeg:20221129T190000
DTEND;TZID=America/Winnipeg:20221129T210000
DTSTAMP:20260424T121556
CREATED:20221101T193240Z
LAST-MODIFIED:20221116T201213Z
UID:41354-1669748400-1669755600@arocha.ca
SUMMARY:Germinating Conversations: Feeding the World? (Winnipeg\, MB)
DESCRIPTION:“Feeding the World?”\nAs inflation and a rising cost of living takes hold around the world\, we are told again of a “perfect storm” for those dependent on a globalized food system. What does the emerging global food price crisis mean for ordinary life and efforts to feed one’s family? What are the stories we\, here on the prairies\, tell ourselves about “feeding the world”? How do they intersect with cheap food policies\, export-oriented agriculture\, corporate concentration\, and the multitude of ways people harvest and grow food? \n\n\n\n\n\nYou’re invited to a live facilitated roundtable dialogue with growers\, harvesters\, and eaters. The Germinating Conversations initiative nurtures relationships between Manitoba farmers\, harvesters\, and eaters by paying close attention to the art of listening well. \nPARTICIPANTS: Lydia Carpenter\, Jim Cornelius\, Colleen Dyck\, Reg Dyck\, Ryan Turnbull\, and Janelle Wride \nWHEN: Tuesday\, Nov 29\, 7:00PM \nWHERE: Canadian Mennonite University (Great Hall\, North Campus) \nThis event is supported through a partnership between A Rocha Canada\, Canadian Foodgrains Bank\, Canadian Mennonite University\, and Mennonite Central Committee Manitoba.
URL:https://arocha.ca/event/germinating-conversations-feeding-the-world-winnipeg-mb/
LOCATION:Canadian Mennonite University\, 500 Shaftesbury Blvd\, Winnipeg\, Manitoba\, R3P 2N2\, Canada
CATEGORIES:Manitoba,MB Special Events,Special Events,Winnipeg
ATTACH;FMTTYPE=image/jpeg:https://arocha.ca/wp-content/uploads/2022/11/Germinating-Conversations-1-1-scaled.jpg
END:VEVENT
END:VCALENDAR