BEGIN:VCALENDAR
VERSION:2.0
PRODID:-//A Rocha - ECPv6.15.19//NONSGML v1.0//EN
CALSCALE:GREGORIAN
METHOD:PUBLISH
X-WR-CALNAME:A Rocha
X-ORIGINAL-URL:https://arocha.ca
X-WR-CALDESC:Events for A Rocha
REFRESH-INTERVAL;VALUE=DURATION:PT1H
X-Robots-Tag:noindex
X-PUBLISHED-TTL:PT1H
BEGIN:VTIMEZONE
TZID:America/Toronto
BEGIN:DAYLIGHT
TZOFFSETFROM:-0500
TZOFFSETTO:-0400
TZNAME:EDT
DTSTART:20240310T070000
END:DAYLIGHT
BEGIN:STANDARD
TZOFFSETFROM:-0400
TZOFFSETTO:-0500
TZNAME:EST
DTSTART:20241103T060000
END:STANDARD
BEGIN:DAYLIGHT
TZOFFSETFROM:-0500
TZOFFSETTO:-0400
TZNAME:EDT
DTSTART:20250309T070000
END:DAYLIGHT
BEGIN:STANDARD
TZOFFSETFROM:-0400
TZOFFSETTO:-0500
TZNAME:EST
DTSTART:20251102T060000
END:STANDARD
BEGIN:DAYLIGHT
TZOFFSETFROM:-0500
TZOFFSETTO:-0400
TZNAME:EDT
DTSTART:20260308T070000
END:DAYLIGHT
BEGIN:STANDARD
TZOFFSETFROM:-0400
TZOFFSETTO:-0500
TZNAME:EST
DTSTART:20261101T060000
END:STANDARD
END:VTIMEZONE
BEGIN:VTIMEZONE
TZID:America/Vancouver
BEGIN:DAYLIGHT
TZOFFSETFROM:-0800
TZOFFSETTO:-0700
TZNAME:PDT
DTSTART:20240310T100000
END:DAYLIGHT
BEGIN:STANDARD
TZOFFSETFROM:-0700
TZOFFSETTO:-0800
TZNAME:PST
DTSTART:20241103T090000
END:STANDARD
BEGIN:DAYLIGHT
TZOFFSETFROM:-0800
TZOFFSETTO:-0700
TZNAME:PDT
DTSTART:20250309T100000
END:DAYLIGHT
BEGIN:STANDARD
TZOFFSETFROM:-0700
TZOFFSETTO:-0800
TZNAME:PST
DTSTART:20251102T090000
END:STANDARD
BEGIN:DAYLIGHT
TZOFFSETFROM:-0800
TZOFFSETTO:-0700
TZNAME:PDT
DTSTART:20260308T100000
END:DAYLIGHT
BEGIN:STANDARD
TZOFFSETFROM:-0700
TZOFFSETTO:-0800
TZNAME:PST
DTSTART:20261101T090000
END:STANDARD
END:VTIMEZONE
BEGIN:VEVENT
DTSTART;TZID=America/Toronto:20250114T200000
DTEND;TZID=America/Toronto:20250114T210000
DTSTAMP:20260419T115235
CREATED:20241126T144229Z
LAST-MODIFIED:20250114T164049Z
UID:48612-1736884800-1736888400@arocha.ca
SUMMARY:A Rocha Ontario - Year in Review and Vision for the Future
DESCRIPTION:You are invited to join the A Rocha Ontario team to reflect on our work over the past year and discuss the future of creation care. In this 1-hour virtual event\, we will provide updates about our work\, welcome your questions\, and discuss together the challenges and opportunities involved in caring for creation. \nLong-time supporters and those new to the A Rocha Ontario network are all welcome to this online event\, along with everyone in between \nIf you have any questions\, please reach out to us at ontario@arocha.ca. \nRegististration is now closed.\nRegistered participants will recieve zoom instructions via email (please check your spam/junk folders). If you registered and do not recieve zoom insturctions by Tuesday\, January 14th\, please reach out to us at ontario@arocha.ca. \nMake a DonationSupport A Rocha OntarioIf you are interested in supporting A Rocha Ontario’s work\, please consider making an online donation.Make a Donation
URL:https://arocha.ca/event/ontario-year-in-review/
LOCATION:ON
CATEGORIES:Greater Toronto Area,Hamilton,ON Special Events,Online Programming,Ontario,Ottawa
ATTACH;FMTTYPE=image/png:https://arocha.ca/wp-content/uploads/2024/11/ARON-2024.png
ORGANIZER;CN="A Rocha Ontario":MAILTO:ontario@arocha.ca
END:VEVENT
BEGIN:VEVENT
DTSTART;TZID=America/Toronto:20250125T140000
DTEND;TZID=America/Toronto:20250125T200000
DTSTAMP:20260419T115235
CREATED:20250113T135436Z
LAST-MODIFIED:20250113T135436Z
UID:48821-1737813600-1737835200@arocha.ca
SUMMARY:Winter Activities\, Potluck Supper and Evening Program (Ottawa/Gatineau\, ON)
DESCRIPTION:Join A Rocha Ottawa for our Winter Activities\, Potluck Supper and Evening Program! \nIf you are unable to the afternoon activities\, feel free to join us for supper and the evening program. \nSchedule:\n2:00 pm Winter Activities\nJoin us in Gatineau Park for winter outdoor activities including hiking\, snowshoeing\, and cross-country skiing. You can choose your activity. We will lead a group cross-country ski for anyone who would like to join us. We have plenty of cross-country ski equipment available for those who don’t have any. If you intend to snowshoe you will need to bring your own snowshoes. Meet at 264 Kingsmere at 2:00 pm. (for directions or for a ride please send an e-mail to: paul.heintzman@arocha.ca ). \n5:30 pm Potluck Supper\nPlease RSVP and let us know what you plan to bring so that we can plan accordingly. \n7:00 pm Coping with Climate Grief: A Christian Perspective\nDr. Carmen Hust and Dr. Nancy Brookes will lead an interactive exploration of our climate grief and how our Christian faith can move us from denial or despair to claiming our agency as a means to live in harmony with all God’s creation. Carmen is a retired professor of nursing and Nancy is a retired psychiatric nurse. Both involved with CANE- Canadian Nurses for the Environment. \nPlease RSVP via email to paul.heintzman@arocha.ca to let us know if you will be attending and what you will be bringing for the potluck supper.
URL:https://arocha.ca/event/jan-25-ottawa-gatineau/
LOCATION:ON
CATEGORIES:Ontario,Ottawa
ATTACH;FMTTYPE=image/jpeg:https://arocha.ca/wp-content/uploads/2023/02/image001.jpg
ORGANIZER;CN="A Rocha Ottawa":MAILTO:paul.heintzman@arocha.ca
END:VEVENT
BEGIN:VEVENT
DTSTART;TZID=America/Vancouver:20250128T170000
DTEND;TZID=America/Vancouver:20250128T180000
DTSTAMP:20260419T115235
CREATED:20250117T101754Z
LAST-MODIFIED:20250117T102852Z
UID:48871-1738083600-1738087200@arocha.ca
SUMMARY:Church EarthKeepers Meet-Up (January 2025)
DESCRIPTION:Once a month meet-up with people mobilizing earthkeeping at churches. Are you mobilizing your church to care for creation? Do you wish more people shared your interest? Then join like-minded folks for a Church Earthkeepers Meet-Up. At these monthly sessions we’ll learn from each other by swapping stories as a way to encourage and equip us to catalyze earthkeeping at church. Come prepared to share your ideas and to hear what works for others as we build a network of regular people working to care for creation within a local church setting. \nThese online gatherings will take place the last Tuesday of every month at 5 PM – 6 PM Pacific Time (8 PM – 9 PM Eastern Time). The following are the scheduled dates for the few next months: \n\nJanuary 28\nFebruary 25\nMarch 25\nApril 29\nMay 27\nJune 24\n\nDetails including the Zoom link will be available upon registration. \n\nBuy Tickets on Eventbrite\n\nBuy Tickets
URL:https://arocha.ca/event/church-earthkeepers-meet-up-january-2025/
LOCATION:Online
CATEGORIES:BC Conservation,BC Special Events,BC Volunteer Days,Brooksdale,Day Camps,Manitoba,MB Conservation,MB Special Events,MB Volunteer Days,ON Conservation,ON Special Events,ON Volunteer Days,Online Programming,Ontario,Restoration Days,Special Events
ATTACH;FMTTYPE=image/jpeg:https://arocha.ca/wp-content/uploads/2025/01/Day-1-Sessions-by-Tim-Hall001-scaled.jpg
END:VEVENT
END:VCALENDAR