BEGIN:VCALENDAR
VERSION:2.0
PRODID:-//A Rocha - ECPv6.15.19//NONSGML v1.0//EN
CALSCALE:GREGORIAN
METHOD:PUBLISH
X-WR-CALNAME:A Rocha
X-ORIGINAL-URL:https://arocha.ca
X-WR-CALDESC:Events for A Rocha
REFRESH-INTERVAL;VALUE=DURATION:PT1H
X-Robots-Tag:noindex
X-PUBLISHED-TTL:PT1H
BEGIN:VTIMEZONE
TZID:America/Toronto
BEGIN:DAYLIGHT
TZOFFSETFROM:-0500
TZOFFSETTO:-0400
TZNAME:EDT
DTSTART:20230312T070000
END:DAYLIGHT
BEGIN:STANDARD
TZOFFSETFROM:-0400
TZOFFSETTO:-0500
TZNAME:EST
DTSTART:20231105T060000
END:STANDARD
BEGIN:DAYLIGHT
TZOFFSETFROM:-0500
TZOFFSETTO:-0400
TZNAME:EDT
DTSTART:20240310T070000
END:DAYLIGHT
BEGIN:STANDARD
TZOFFSETFROM:-0400
TZOFFSETTO:-0500
TZNAME:EST
DTSTART:20241103T060000
END:STANDARD
BEGIN:DAYLIGHT
TZOFFSETFROM:-0500
TZOFFSETTO:-0400
TZNAME:EDT
DTSTART:20250309T070000
END:DAYLIGHT
BEGIN:STANDARD
TZOFFSETFROM:-0400
TZOFFSETTO:-0500
TZNAME:EST
DTSTART:20251102T060000
END:STANDARD
END:VTIMEZONE
BEGIN:VTIMEZONE
TZID:UTC
BEGIN:STANDARD
TZOFFSETFROM:+0000
TZOFFSETTO:+0000
TZNAME:UTC
DTSTART:20230101T000000
END:STANDARD
END:VTIMEZONE
BEGIN:VEVENT
DTSTART;VALUE=DATE:20240911
DTEND;VALUE=DATE:20241116
DTSTAMP:20260419T172626
CREATED:20240625T151805Z
LAST-MODIFIED:20240912T124648Z
UID:47659-1726012800-1731715199@arocha.ca
SUMMARY:Nature Academy - Fall 2024
DESCRIPTION:An outdoor school for hands-on science\, inquiry-led and place-based nature exploration where we teach children to wonder\, love and care for the earth. Learn more. \nPayment & Registration\nAfter purchasing your Eventbrite ticket(s)\, please make sure to also fill out the registration form below. \n\nRegistering more than one child?\n\n					\n						Purchase Ticket(s)\n\n\n\n\n\n\n					\n				\n					\n						Complete Registration Form (MANDATORY)\nRegistration Form\n\n					\n				If this program is cancelled due to low enrolment or health and safety restrictions\, payment will be fully refundable. \nMake a DonationSupport Environmental Education in Ontario\nHelp support A Rocha Ontario’s environmental education work by making a donation! Your donation will support the staff time\, equipment\, and programming costs associated with our environmental education programs and events (like Nature Academy). With your support\, our team can offer accessible outdoor experiences that promote ecological literacy and environmental stewardship \nMake a Donation
URL:https://arocha.ca/event/nature-academy-fall-2024/
LOCATION:Cedar Haven Eco-Centre\, 1039 97\, Freelton\, Ontario\, L0R 1K0\, Canada
CATEGORIES:Nature Academy,Ontario
ATTACH;FMTTYPE=image/jpeg:https://arocha.ca/wp-content/uploads/2022/06/DSC_6832-scaled.jpg
ORGANIZER;CN="A Rocha Ontario":MAILTO:ontario@arocha.ca
END:VEVENT
BEGIN:VEVENT
DTSTART;TZID=America/Toronto:20241005T090000
DTEND;TZID=America/Toronto:20241005T150000
DTSTAMP:20260419T172626
CREATED:20240819T125539Z
LAST-MODIFIED:20240819T125539Z
UID:47959-1728118800-1728140400@arocha.ca
SUMMARY:EarthKeepers Club (October 2024)
DESCRIPTION:The EarthKeepers Club is a space for youth (ages 12-16) to connect with others their age that have similar interests in the environment and conservation. An example of a typical day might look like a work project to remove invasive species in the morning\, followed by a discussion over lunch about what it means to be a good steward\, and wrapping up by catching and identifying dragonflies in the afternoon. Through this program\, we aim to make a tangible impact and have fun along the way! \nThe EarthKeepers Club currently has no cost to join and runs from April-November\, usually on the second Saturday of each month. We are able to offer 3 volunteer hours for high school students that participate in a program day \nRegistration\nBook your ticket to let us know you’re coming! If this is your first time participating in the EarthKeepers Club in 2024\, please also complete the registration form below. \n\n					\n						Book Ticket(s)\n\n\n\n\n\n\n					\n				\n					\n						Complete Registration Form\nRegistration Form
URL:https://arocha.ca/event/earthkeepers-club-october-2024/
LOCATION:Cedar Haven Eco-Centre\, 1039 97\, Freelton\, Ontario\, L0R 1K0\, Canada
CATEGORIES:ON Conservation,Ontario
ATTACH;FMTTYPE=image/png:https://arocha.ca/wp-content/uploads/2024/03/Website-Banners-2.png
ORGANIZER;CN="A Rocha Ontario":MAILTO:ontario@arocha.ca
END:VEVENT
BEGIN:VEVENT
DTSTART;TZID=America/Toronto:20241005T143000
DTEND;TZID=America/Toronto:20241005T200000
DTSTAMP:20260419T172626
CREATED:20240918T152600Z
LAST-MODIFIED:20240918T152600Z
UID:48135-1728138600-1728158400@arocha.ca
SUMMARY:Fall Colours Hike\, Potluck Supper and Presentation (Ottawa/Gatineau\, ON)
DESCRIPTION:Join A Rocha Ottawa for our Fall Colours Walk\, Potluck Supper and Presentation! \nIf you are unable to attend all three parts of the event\, feel free to attend the parts that you can. \nSchedule:\n2:30 pm: Fall Colours Walk \nMeet at 264 Kingsmere (for directions or if you need a ride\, please contact paul.heintzman@arocha.ca )\, and we’ll begin on our Fall Colours Walk along the King Mountain Trail. Features of this trail include panoramic views of the fall colours in Gatineau Park\, the City of Ottawa and the Ottawa Valley. Note: if it is a nice day\, traffic will be heavy in the village of Old Chelsea and on the Gatineau Parkway\, so give yourself plenty of travel time to arrive by 2:30 pm. \n5:30 pm: Potluck Supper  \nPlease RSVP (via email) to let us know what you plan to bring. \n7:00 pm: Presentation \nLuke Wilson has been serving as CEO of A Rocha Canada since 2019. In his presentation\, he will provide an overview of A Rocha’s work in Canada and abroad\, spotlighting program and project work from the different centres in British Columbia\, Manitoba\, and Ontario. Luke will also share a bit about A Rocha’s goals for the future and how the organization is seeking to navigate the future of creation care in Canada. \nTo RSVP or for more information\, email Paul at paul.heintzman@arocha.ca.
URL:https://arocha.ca/event/fall-hike-ottawa-gatineau-2024/
LOCATION:ON
CATEGORIES:Ontario,Ottawa
ATTACH;FMTTYPE=image/jpeg:https://arocha.ca/wp-content/uploads/2022/10/image002.jpg
ORGANIZER;CN="A Rocha Ottawa":MAILTO:paul.heintzman@arocha.ca
END:VEVENT
BEGIN:VEVENT
DTSTART;TZID=UTC:20241029T170000
DTEND;TZID=UTC:20241029T180000
DTSTAMP:20260419T172626
CREATED:20241008T233439Z
LAST-MODIFIED:20241008T233439Z
UID:48284-1730221200-1730224800@arocha.ca
SUMMARY:Church EarthKeepers Meet-Up (October 2024)
DESCRIPTION:Once a month meet-up with people mobilizing earthkeeping at churches. \nAre you mobilizing your church to care for creation? Do you wish more people shared your interest? Then join like-minded folks for a Church Earthkeepers Meet-Up. At these monthly sessions we’ll learn from each other by swapping stories as a way to encourage and equip us to catalyze earthkeeping at church. Come prepared to share your ideas and to hear what works for others as we build a network of regular people working to care for creation within a local church setting. \nThese online gatherings will take place the last Tuesday of every month at 5 PM – 6 PM Pacific Time (8 PM – 9 PM Eastern Time). \nThe following are the scheduled dates for the next two months: \n\nOctober 29\nNovember 25\n\n\nBuy Tickets on Eventbrite\n\nBuy Tickets
URL:https://arocha.ca/event/church-earthkeepers-meet-up-october-2024/
LOCATION:Online
CATEGORIES:BC Special Events,Brooksdale,Manitoba,MB Special Events,ON Conservation,Online Programming,Ontario,Special Events
ATTACH;FMTTYPE=image/jpeg:https://arocha.ca/wp-content/uploads/2024/10/Day-1-Sessions-by-Tim-Hall001-scaled.jpg
END:VEVENT
END:VCALENDAR