BEGIN:VCALENDAR
VERSION:2.0
PRODID:-//A Rocha - ECPv6.15.19//NONSGML v1.0//EN
CALSCALE:GREGORIAN
METHOD:PUBLISH
X-WR-CALNAME:A Rocha
X-ORIGINAL-URL:https://arocha.ca
X-WR-CALDESC:Events for A Rocha
REFRESH-INTERVAL;VALUE=DURATION:PT1H
X-Robots-Tag:noindex
X-PUBLISHED-TTL:PT1H
BEGIN:VTIMEZONE
TZID:America/Toronto
BEGIN:DAYLIGHT
TZOFFSETFROM:-0500
TZOFFSETTO:-0400
TZNAME:EDT
DTSTART:20230312T070000
END:DAYLIGHT
BEGIN:STANDARD
TZOFFSETFROM:-0400
TZOFFSETTO:-0500
TZNAME:EST
DTSTART:20231105T060000
END:STANDARD
BEGIN:DAYLIGHT
TZOFFSETFROM:-0500
TZOFFSETTO:-0400
TZNAME:EDT
DTSTART:20240310T070000
END:DAYLIGHT
BEGIN:STANDARD
TZOFFSETFROM:-0400
TZOFFSETTO:-0500
TZNAME:EST
DTSTART:20241103T060000
END:STANDARD
BEGIN:DAYLIGHT
TZOFFSETFROM:-0500
TZOFFSETTO:-0400
TZNAME:EDT
DTSTART:20250309T070000
END:DAYLIGHT
BEGIN:STANDARD
TZOFFSETFROM:-0400
TZOFFSETTO:-0500
TZNAME:EST
DTSTART:20251102T060000
END:STANDARD
END:VTIMEZONE
BEGIN:VTIMEZONE
TZID:America/Vancouver
BEGIN:DAYLIGHT
TZOFFSETFROM:-0800
TZOFFSETTO:-0700
TZNAME:PDT
DTSTART:20230312T100000
END:DAYLIGHT
BEGIN:STANDARD
TZOFFSETFROM:-0700
TZOFFSETTO:-0800
TZNAME:PST
DTSTART:20231105T090000
END:STANDARD
BEGIN:DAYLIGHT
TZOFFSETFROM:-0800
TZOFFSETTO:-0700
TZNAME:PDT
DTSTART:20240310T100000
END:DAYLIGHT
BEGIN:STANDARD
TZOFFSETFROM:-0700
TZOFFSETTO:-0800
TZNAME:PST
DTSTART:20241103T090000
END:STANDARD
BEGIN:DAYLIGHT
TZOFFSETFROM:-0800
TZOFFSETTO:-0700
TZNAME:PDT
DTSTART:20250309T100000
END:DAYLIGHT
BEGIN:STANDARD
TZOFFSETFROM:-0700
TZOFFSETTO:-0800
TZNAME:PST
DTSTART:20251102T090000
END:STANDARD
END:VTIMEZONE
BEGIN:VEVENT
DTSTART;VALUE=DATE:20240417
DTEND;VALUE=DATE:20240620
DTSTAMP:20260420T043220
CREATED:20240130T135217Z
LAST-MODIFIED:20240206T141129Z
UID:45171-1713312000-1718841599@arocha.ca
SUMMARY:Nature Academy - Spring 2024
DESCRIPTION:An outdoor school for hands-on science\, inquiry-led and place-based nature exploration where we teach children to wonder\, love and care for the earth. Learn more. \nPayment & Registration\nAfter purchasing your Eventbrite ticket(s)\, please make sure to also fill out the registration form below. \n\nRegistering more than one child?\n\n					\n						Purchase Ticket(s)\n\n\n\n\n\n\n					\n				\n					\n						Complete Registration Form (MANDATORY)\nRegistration Form\n\n					\n				If this program is cancelled due to low enrolment or health and safety restrictions\, payment will be fully refundable. \nJoin the ListCan't register right now?\nMaybe… \n\nThe program is full\nThe days don’t work with your schedule\nThe cost of the program is a barrier\nRegistration isn’t open yet\, but you want to know when it does!\n\nWhatever the reason\, the more interest we have in a program\, the more likely we will run it. Please join the interest list and tell us why you cannot register today. \nJoin the List
URL:https://arocha.ca/event/nature-academy-spring-2024/
LOCATION:Cedar Haven Eco-Centre\, 1039 97\, Freelton\, Ontario\, L0R 1K0\, Canada
CATEGORIES:Nature Academy,Ontario
ATTACH;FMTTYPE=image/jpeg:https://arocha.ca/wp-content/uploads/2022/06/DSC_6832-scaled.jpg
ORGANIZER;CN="A Rocha Ontario":MAILTO:ontario@arocha.ca
END:VEVENT
BEGIN:VEVENT
DTSTART;TZID=America/Toronto:20240504T140000
DTEND;TZID=America/Toronto:20240504T160000
DTSTAMP:20260420T043220
CREATED:20240415T160215Z
LAST-MODIFIED:20240415T160215Z
UID:46221-1714831200-1714838400@arocha.ca
SUMMARY:Spring Ephemeral Walk (Cedar Haven)
DESCRIPTION:Now is the brief time of year to see Spring Ephemerals that are emerging with the warmth!  \nThese flowers have adapted to emerge before trees develop all their leaves. They only last for a few weeks in the spring before they disappear again! If you are interested in learning more about these unique plants come to Cedar Haven on May 4th from 2pm – 4pm while we have an expert botanist lead us through a hike focused on our Spring Ephemerals. \nPlease note that registration is required for this event as there are limited spots available.  The cost of registration is $10/person. Children (under 18 years old) are welcome to attend this event for free\, but registeration of free “child tickets” is still required. \nREGISTER BELOW
URL:https://arocha.ca/event/spring-ephemeral-walk-cedar-haven/
LOCATION:Cedar Haven Eco-Centre\, 1039 97\, Freelton\, Ontario\, L0R 1K0\, Canada
CATEGORIES:ON Special Events,Ontario
ATTACH;FMTTYPE=image/png:https://arocha.ca/wp-content/uploads/2024/04/Spring-Ephemeral-Walk.png
ORGANIZER;CN="A Rocha Ontario":MAILTO:ontario@arocha.ca
END:VEVENT
BEGIN:VEVENT
DTSTART;TZID=America/Toronto:20240504T143000
DTEND;TZID=America/Toronto:20240504T200000
DTSTAMP:20260420T043220
CREATED:20240423T135954Z
LAST-MODIFIED:20240423T154921Z
UID:46389-1714833000-1714852800@arocha.ca
SUMMARY:Wildflower Walk\, Supper and Evening Program (Ottawa/Gatineau\, ON)
DESCRIPTION:Join A Rocha Ottawa for our Annual Wild Flower Walk\, Potluck Supper and Evening Program! \nIf you are unable to the afternoon activities\, feel free to join us for supper and the evening program. \nSchedule:\n2:30 pm Wildflower Walk \nJoin us in Gatineau Park for a walk along the Lauriault Trail. Features of this trail include spring wildflowers\, Mulvihill Lake\, a view of the Ottawa Valley\, a waterfall\, and the ruins at the Mackenzie King Estate. Meet at the Mackenzie King Estate (Parking Lot 6) any time after 2:00 pm for a 2:30 pm departure time for the walk. (Please email Paul at paul.heintzman@arocha.ca if you need a ride or if you need directions). \n5:30 pm Potluck Supper (at 264 Kingsmere) \nPlease RSVP and let us know what you plan to bring so that we can plan accordingly. \n7:00 pm Evening Program: The Wonders of Spring Wildflowers \nMonique Heintzman will give a talk on “The Wonders of Spring Wildflowers.” We will also have an A Rocha garden blessing. \nPlease RSVP paul.heintzman@arocha.ca to let us know if you will be attending and what you will be bringing for the potluck supper.
URL:https://arocha.ca/event/wildflower-walk-ottawa-on-2024/
LOCATION:ON
CATEGORIES:Ontario,Ottawa
ATTACH;FMTTYPE=image/png:https://arocha.ca/wp-content/uploads/2023/04/Ottawa-Wildflower-Walk.png
ORGANIZER;CN="A Rocha Ottawa":MAILTO:paul.heintzman@arocha.ca
END:VEVENT
BEGIN:VEVENT
DTSTART;TZID=America/Toronto:20240511T090000
DTEND;TZID=America/Toronto:20240511T150000
DTSTAMP:20260420T043220
CREATED:20240312T141633Z
LAST-MODIFIED:20240312T141725Z
UID:45568-1715418000-1715439600@arocha.ca
SUMMARY:EarthKeepers Club (May 2024)
DESCRIPTION:The EarthKeepers Club is a space for youth (ages 12-16) to connect with others their age that have similar interests in the environment and conservation. An example of a typical day might look like a work project to remove invasive species in the morning\, followed by a discussion over lunch about what it means to be a good steward\, and wrapping up by catching and identifying dragonflies in the afternoon. Through this program\, we aim to make a tangible impact and have fun along the way! \nThe EarthKeepers Club currently has no cost to join and runs from April-November\, on the second Saturday of each month. We are able to offer 3 volunteer hours for high school students that participate in a program day \nRegistration\nBook your ticket to let us know you’re coming! If this is your first time participating in the EarthKeepers Club in 2024\, please also complete the registration form below. \n\n					\n						Book Ticket(s)\n\n\n\n\n\n\n					\n				\n					\n						Complete Registration Form\nRegistration Form
URL:https://arocha.ca/event/earthkeepers-club-may-2024/
LOCATION:Cedar Haven Eco-Centre\, 1039 97\, Freelton\, Ontario\, L0R 1K0\, Canada
CATEGORIES:ON Conservation,Ontario
ATTACH;FMTTYPE=image/png:https://arocha.ca/wp-content/uploads/2024/03/Website-Banners-2.png
ORGANIZER;CN="A Rocha Ontario":MAILTO:ontario@arocha.ca
END:VEVENT
BEGIN:VEVENT
DTSTART;TZID=America/Toronto:20240525T080000
DTEND;TZID=America/Toronto:20240525T100000
DTSTAMP:20260420T043220
CREATED:20240514T135429Z
LAST-MODIFIED:20240514T135624Z
UID:47114-1716624000-1716631200@arocha.ca
SUMMARY:Guided Bird Tour (Cedar Haven)
DESCRIPTION:Come on a guided bird tour with A Rocha at Cedar Haven! \nThis event will be co-lead by A Rocha’s Conservation Coordinator and a local Ecologist from Conservation Halton. Learn to recognize birds by sight and sound. We will get a chance to explore the different habitats and species found at Cedar Haven during spring migration! \nPlease note that registration is required for this event as there are limited spots available.  The cost of registration is $10/person. Children (under 18 years old) are welcome to attend this event for free\, but registration of free “child tickets” is still required. \nREGISTER BELOW
URL:https://arocha.ca/event/guided-bird-tour-cedar-haven/
LOCATION:Cedar Haven Eco-Centre\, 1039 97\, Freelton\, Ontario\, L0R 1K0\, Canada
CATEGORIES:ON Special Events,Ontario
ATTACH;FMTTYPE=image/png:https://arocha.ca/wp-content/uploads/2024/05/Guided-Bird-Tour.png
ORGANIZER;CN="A Rocha Ontario":MAILTO:ontario@arocha.ca
END:VEVENT
BEGIN:VEVENT
DTSTART;TZID=America/Vancouver:20240528T170000
DTEND;TZID=America/Vancouver:20240528T180000
DTSTAMP:20260420T043220
CREATED:20240518T093308Z
LAST-MODIFIED:20240518T093949Z
UID:47385-1716915600-1716919200@arocha.ca
SUMMARY:Church EarthKeepers Meet-Up (May 2024)
DESCRIPTION:Once a month meet-up with people mobilizing earthkeeping at churches. \nAre you mobilizing your church to care for creation? Do you wish more people shared your interest? Then join like-minded folks for a Church Earthkeepers Meet-Up. At these monthly sessions we’ll learn from each other by swapping stories as a way to encourage and equip us to catalyze earthkeeping at church. Come prepared to share your ideas and to hear what works for others as we build a network of regular people working to care for creation within a local church setting. \nThese online gatherings will take place the last Tuesday of every month at 5 PM – 6 PM Pacific Time (8 PM – 9 PM Eastern Time). The following are the scheduled dates for the next five months: \n\nJune 25\nJuly 30\nAugust 27\nSeptember 24\nOctober 29\n\nDetails including the Zoom link will be available upon registration. \n\nBuy Tickets on Eventbrite\n\nBuy Tickets
URL:https://arocha.ca/event/church-earthkeepers-meet-up-may-2024/
LOCATION:Online
CATEGORIES:BC Special Events,Brooksdale,Manitoba,MB Special Events,Online Programming,Ontario,Special Events
ATTACH;FMTTYPE=image/jpeg:https://arocha.ca/wp-content/uploads/2024/05/Day-1-Sessions-by-Tim-Hall001-scaled.jpg
END:VEVENT
END:VCALENDAR