BEGIN:VCALENDAR
VERSION:2.0
PRODID:-//A Rocha - ECPv6.15.19//NONSGML v1.0//EN
CALSCALE:GREGORIAN
METHOD:PUBLISH
X-WR-CALNAME:A Rocha
X-ORIGINAL-URL:https://arocha.ca
X-WR-CALDESC:Events for A Rocha
REFRESH-INTERVAL;VALUE=DURATION:PT1H
X-Robots-Tag:noindex
X-PUBLISHED-TTL:PT1H
BEGIN:VTIMEZONE
TZID:America/Toronto
BEGIN:DAYLIGHT
TZOFFSETFROM:-0500
TZOFFSETTO:-0400
TZNAME:EDT
DTSTART:20230312T070000
END:DAYLIGHT
BEGIN:STANDARD
TZOFFSETFROM:-0400
TZOFFSETTO:-0500
TZNAME:EST
DTSTART:20231105T060000
END:STANDARD
BEGIN:DAYLIGHT
TZOFFSETFROM:-0500
TZOFFSETTO:-0400
TZNAME:EDT
DTSTART:20240310T070000
END:DAYLIGHT
BEGIN:STANDARD
TZOFFSETFROM:-0400
TZOFFSETTO:-0500
TZNAME:EST
DTSTART:20241103T060000
END:STANDARD
BEGIN:DAYLIGHT
TZOFFSETFROM:-0500
TZOFFSETTO:-0400
TZNAME:EDT
DTSTART:20250309T070000
END:DAYLIGHT
BEGIN:STANDARD
TZOFFSETFROM:-0400
TZOFFSETTO:-0500
TZNAME:EST
DTSTART:20251102T060000
END:STANDARD
END:VTIMEZONE
BEGIN:VTIMEZONE
TZID:America/Vancouver
BEGIN:DAYLIGHT
TZOFFSETFROM:-0800
TZOFFSETTO:-0700
TZNAME:PDT
DTSTART:20230312T100000
END:DAYLIGHT
BEGIN:STANDARD
TZOFFSETFROM:-0700
TZOFFSETTO:-0800
TZNAME:PST
DTSTART:20231105T090000
END:STANDARD
BEGIN:DAYLIGHT
TZOFFSETFROM:-0800
TZOFFSETTO:-0700
TZNAME:PDT
DTSTART:20240310T100000
END:DAYLIGHT
BEGIN:STANDARD
TZOFFSETFROM:-0700
TZOFFSETTO:-0800
TZNAME:PST
DTSTART:20241103T090000
END:STANDARD
BEGIN:DAYLIGHT
TZOFFSETFROM:-0800
TZOFFSETTO:-0700
TZNAME:PDT
DTSTART:20250309T100000
END:DAYLIGHT
BEGIN:STANDARD
TZOFFSETFROM:-0700
TZOFFSETTO:-0800
TZNAME:PST
DTSTART:20251102T090000
END:STANDARD
END:VTIMEZONE
BEGIN:VEVENT
DTSTART;TZID=America/Toronto:20240211T130000
DTEND;TZID=America/Toronto:20240211T153000
DTSTAMP:20260420T113039
CREATED:20240116T150017Z
LAST-MODIFIED:20240131T155445Z
UID:45041-1707656400-1707665400@arocha.ca
SUMMARY:Churches Caring for Creation - An Idea Exchange (Toronto\, ON)
DESCRIPTION:What can churches do to care for creation?\n The list of environmental challenges is long\, but increasingly faith communities are experimenting with new and exciting possibilities. If you would like to hear some of these stories\, exchange ideas\, and discuss roadblocks\, please join us at Timothy Eaton Memorial Church (Toronto\, ON) for a warm afternoon of conversation and encouragement. This event takes place on February 11th from 1PM – 3:30PM ET. We are grateful to collaborate with Timothy Eaton Memorial Church to co-host this event. \nPlease register (for free) using the form below. \n\n    \n    \n    \n    \n            \n\n    \n\n    \n    \n    \n    \n        \n\n\n\n    \n    \n\nEvent Registration (ARON)\n\nRegistration for A Rocha Ontario and Timothy Eaton Memorial Church's Churches Caring for Creation event is free! To register\, we ask that you please fill out each required sections of the form below. If you have any questions\, please reach out to us at ontario@arocha.ca.\n\nYour Name\n\n\nEmail Address\n\n\nWould you like to subscribe to A Rocha Ontario's E-Newsletter with the email above?Please select...\nYes\nNo\nAlready subscribed\n\n\nHow many attendees would you like to register?Please select...\n1\n2\n3\n4\n5\n\n\nPlease list the names of attendees being registered. If listing multiple attendees\, please separate names with a comma (ex. John Smith\, Jane Smith).\n\n\nWhat congregation are you from?\n\n\nAny questions or comments?\n\n\n\n\n\nContact Information
URL:https://arocha.ca/event/churches-caring-for-creation-toronto-on/
LOCATION:Timothy Eaton Memorial Church\, 230 St. Clair Avenue West\, Toronto\, Ontario\, M4V 1R5 Most popular places at this addr
CATEGORIES:Greater Toronto Area,ON Special Events,Ontario
ATTACH;FMTTYPE=image/png:https://arocha.ca/wp-content/uploads/2024/01/Idea-Exchange-1.png
ORGANIZER;CN="A Rocha Ontario":MAILTO:ontario@arocha.ca
END:VEVENT
BEGIN:VEVENT
DTSTART;TZID=America/Vancouver:20240227T170000
DTEND;TZID=America/Vancouver:20240227T180000
DTSTAMP:20260420T113039
CREATED:20240223T191452Z
LAST-MODIFIED:20240223T191452Z
UID:45426-1709053200-1709056800@arocha.ca
SUMMARY:Church Earthkeepers Meet-Up (February 2024)
DESCRIPTION:Once a month meet-up with people mobilizing earthkeeping at churches.\n\nAre you mobilizing your church to care for creation? Do you wish more people shared your interest? Then join like-minded folks for a Church Earthkeepers Meet-Up. At these monthly sessions we’ll learn from each other by swapping stories as a way to encourage and equip us to catalyze earthkeeping at church. Come prepared to share your ideas and to hear what works for others as we build a network of regular people working to care for creation within a local church setting. \nThese online gatherings will take place the last Tuesday of every month at 5 PM – 6 PM Pacific Time (8 PM – 9 PM Eastern Time). \nThe following are the scheduled dates for the next five months: \n\nFebruary 27\nMarch 26\nApril 30\nMay 28\nJune 25\n\n\n\nDetails including the Zoom link will be available upon registration. \n\nBuy Tickets on Eventbrite\n\nBuy Tickets
URL:https://arocha.ca/event/church-earthkeepers-meet-up-february-2024/
LOCATION:Online
CATEGORIES:Brooksdale,Manitoba,Northern BC,Online Programming,Ontario
END:VEVENT
END:VCALENDAR