BEGIN:VCALENDAR
VERSION:2.0
PRODID:-//A Rocha - ECPv6.15.19//NONSGML v1.0//EN
CALSCALE:GREGORIAN
METHOD:PUBLISH
X-WR-CALNAME:A Rocha
X-ORIGINAL-URL:https://arocha.ca
X-WR-CALDESC:Events for A Rocha
REFRESH-INTERVAL;VALUE=DURATION:PT1H
X-Robots-Tag:noindex
X-PUBLISHED-TTL:PT1H
BEGIN:VTIMEZONE
TZID:UTC
BEGIN:STANDARD
TZOFFSETFROM:+0000
TZOFFSETTO:+0000
TZNAME:UTC
DTSTART:20220101T000000
END:STANDARD
END:VTIMEZONE
BEGIN:VTIMEZONE
TZID:America/Toronto
BEGIN:DAYLIGHT
TZOFFSETFROM:-0500
TZOFFSETTO:-0400
TZNAME:EDT
DTSTART:20220313T070000
END:DAYLIGHT
BEGIN:STANDARD
TZOFFSETFROM:-0400
TZOFFSETTO:-0500
TZNAME:EST
DTSTART:20221106T060000
END:STANDARD
BEGIN:DAYLIGHT
TZOFFSETFROM:-0500
TZOFFSETTO:-0400
TZNAME:EDT
DTSTART:20230312T070000
END:DAYLIGHT
BEGIN:STANDARD
TZOFFSETFROM:-0400
TZOFFSETTO:-0500
TZNAME:EST
DTSTART:20231105T060000
END:STANDARD
BEGIN:DAYLIGHT
TZOFFSETFROM:-0500
TZOFFSETTO:-0400
TZNAME:EDT
DTSTART:20240310T070000
END:DAYLIGHT
BEGIN:STANDARD
TZOFFSETFROM:-0400
TZOFFSETTO:-0500
TZNAME:EST
DTSTART:20241103T060000
END:STANDARD
END:VTIMEZONE
BEGIN:VEVENT
DTSTART;VALUE=DATE:20230913
DTEND;VALUE=DATE:20231116
DTSTAMP:20260420T174619
CREATED:20230622T133142Z
LAST-MODIFIED:20230622T133142Z
UID:43802-1694563200-1700092799@arocha.ca
SUMMARY:Nature Academy - Fall 2023
DESCRIPTION:An outdoor school for hands-on science\, wilderness skills\, gardening\, and child-led nature exploration. Learn more. \nPayment & Registration\nAfter purchasing your Eventbrite ticket(s)\, please make sure to also fill out the registration form below. \n\nRegistering more than one child?\n\n					\n						Purchase Ticket(s)\n\n\n\n\n\n\n					\n				\n					\n						Complete Registration Form (MANDATORY)\nRegistration Form\n\n					\n				If this program is cancelled due to low enrolment or health and safety restrictions\, payment will be fully refundable. \nJoin the ListCan't register right now?\nMaybe… \n\nThe program is full\nThe days don’t work with your schedule\nThe cost of the program is a barrier\nRegistration isn’t open yet\, but you want to know when it does!\n\nWhatever the reason\, the more interest we have in a program\, the more likely we will run it. Please join the interest list and tell us why you cannot register today. \nJoin the List
URL:https://arocha.ca/event/nature-academy-fall-2023/
LOCATION:Cedar Haven Eco-Centre\, 1039 97\, Freelton\, Ontario\, L0R 1K0\, Canada
CATEGORIES:Nature Academy,Ontario
ATTACH;FMTTYPE=image/jpeg:https://arocha.ca/wp-content/uploads/2022/06/DSC_6832-scaled.jpg
ORGANIZER;CN="A Rocha Ontario":MAILTO:ontario@arocha.ca
END:VEVENT
BEGIN:VEVENT
DTSTART;TZID=UTC:20231111T090000
DTEND;TZID=UTC:20231111T150000
DTSTAMP:20260420T174619
CREATED:20230808T151024Z
LAST-MODIFIED:20230808T151024Z
UID:44087-1699693200-1699714800@arocha.ca
SUMMARY:EarthKeepers Club (November Meeting)
DESCRIPTION:Volunteer for a day of earth-keeping at Cedar Haven every 2nd Saturday of the month from September – November! Learn and connect with other youth who are passionate about the natural world. \nContribute to hands-on conservation projects at Cedar Haven like nest box monitoring\, bumblebee identification\, invasive species removal and so much more! There will opportunities to develop your scientific observation and identification skills\, as well as learn from experts in the field. \nOpen to youth ages 12-16. No experience required to participate! \n Join in and earn 5 volunteer hours towards your high-school community involvement. \nRegistration\nBook your ticket to let us know you’re coming. If this is your first time to the EarthKeepers Club this year\, please also fill out the registration form. \n\n					\n						Book Ticket(s)\n\n\n\n\n\n\n					\n				\n					\n						Complete Registration Form\nRegistration Form
URL:https://arocha.ca/event/earthkeepers-club-november-meeting/
LOCATION:Cedar Haven Eco-Centre\, 1039 97\, Freelton\, Ontario\, L0R 1K0\, Canada
CATEGORIES:ON Conservation,Ontario
ATTACH;FMTTYPE=image/png:https://arocha.ca/wp-content/uploads/2023/08/EKC-Banner-1.png
ORGANIZER;CN="A Rocha Ontario":MAILTO:ontario@arocha.ca
END:VEVENT
BEGIN:VEVENT
DTSTART;TZID=America/Toronto:20231125T140000
DTEND;TZID=America/Toronto:20231125T200000
DTSTAMP:20260420T174619
CREATED:20231108T150435Z
LAST-MODIFIED:20231108T150435Z
UID:44577-1700920800-1700942400@arocha.ca
SUMMARY:Hike\, Potluck Supper and Presentation (Ottawa/Gatineau\, ON)
DESCRIPTION:Join A Rocha Ottawa for our Hike\, Potluck Supper and Presentation event! \nIf you are unable to attend all three parts of the event\, feel free to attend the parts that you can. \nSchedule:\n2:00 pm: Hike along the Skyline Trail \nJoin us in Gatineau Park for a walk along the Skyline Trail. Built in 1930s\, this is one of the oldest trails in the park. Features of this trail include panoramic views of the Gatineau Valley and the City of Ottawa. This is a good time of year to hike this trail as the views are better when the leaves are off the trees. Meet at 264 Kingsmere at 2:00 pm (if you need directions or a ride\, please e-mail paul.heintzman@arocha.ca) \n5:30 pm: Potluck Supper  \nPlease RSVP (via email) to let us know what you plan to bring. \n7:00 pm: Presentation – Reflections on Being a Summer Staffer with A Rocha Ontario (Hamilton\, ON) \nShanika Thomas will be presenting reflections on her experience working at A Rocha Ontario (Hamilton\, ON) for a couple summers. Shanika has been a Hamiltonian most of her life\, and is currently completing her Masters of Public Health at the University of Ottawa. She is a Registered Midwife and has worked overseas. She loves to explore the outdoors of the new places she is in. \nTo RSVP or for more information\, email Paul at paul.heintzman@arocha.ca.
URL:https://arocha.ca/event/hike-potluck-supper-and-presentation-ottawa-gatineau-on/
LOCATION:ON
CATEGORIES:Ontario,Ottawa
ATTACH;FMTTYPE=image/png:https://arocha.ca/wp-content/uploads/2023/11/Ottawa-Nov-Hike.png
ORGANIZER;CN="A Rocha Ottawa":MAILTO:paul.heintzman@arocha.ca
END:VEVENT
END:VCALENDAR