BEGIN:VCALENDAR
VERSION:2.0
PRODID:-//A Rocha - ECPv6.15.19//NONSGML v1.0//EN
CALSCALE:GREGORIAN
METHOD:PUBLISH
X-WR-CALNAME:A Rocha
X-ORIGINAL-URL:https://arocha.ca
X-WR-CALDESC:Events for A Rocha
REFRESH-INTERVAL;VALUE=DURATION:PT1H
X-Robots-Tag:noindex
X-PUBLISHED-TTL:PT1H
BEGIN:VTIMEZONE
TZID:UTC
BEGIN:STANDARD
TZOFFSETFROM:+0000
TZOFFSETTO:+0000
TZNAME:UTC
DTSTART:20220101T000000
END:STANDARD
END:VTIMEZONE
BEGIN:VEVENT
DTSTART;VALUE=DATE:20230913
DTEND;VALUE=DATE:20231116
DTSTAMP:20260420T194841
CREATED:20230622T133142Z
LAST-MODIFIED:20230622T133142Z
UID:43802-1694563200-1700092799@arocha.ca
SUMMARY:Nature Academy - Fall 2023
DESCRIPTION:An outdoor school for hands-on science\, wilderness skills\, gardening\, and child-led nature exploration. Learn more. \nPayment & Registration\nAfter purchasing your Eventbrite ticket(s)\, please make sure to also fill out the registration form below. \n\nRegistering more than one child?\n\n					\n						Purchase Ticket(s)\n\n\n\n\n\n\n					\n				\n					\n						Complete Registration Form (MANDATORY)\nRegistration Form\n\n					\n				If this program is cancelled due to low enrolment or health and safety restrictions\, payment will be fully refundable. \nJoin the ListCan't register right now?\nMaybe… \n\nThe program is full\nThe days don’t work with your schedule\nThe cost of the program is a barrier\nRegistration isn’t open yet\, but you want to know when it does!\n\nWhatever the reason\, the more interest we have in a program\, the more likely we will run it. Please join the interest list and tell us why you cannot register today. \nJoin the List
URL:https://arocha.ca/event/nature-academy-fall-2023/
LOCATION:Cedar Haven Eco-Centre\, 1039 97\, Freelton\, Ontario\, L0R 1K0\, Canada
CATEGORIES:Nature Academy,Ontario
ATTACH;FMTTYPE=image/jpeg:https://arocha.ca/wp-content/uploads/2022/06/DSC_6832-scaled.jpg
ORGANIZER;CN="A Rocha Ontario":MAILTO:ontario@arocha.ca
END:VEVENT
BEGIN:VEVENT
DTSTART;TZID=UTC:20231014T090000
DTEND;TZID=UTC:20231014T150000
DTSTAMP:20260420T194841
CREATED:20230808T150917Z
LAST-MODIFIED:20230808T150917Z
UID:44085-1697274000-1697295600@arocha.ca
SUMMARY:EarthKeepers Club (October Meeting)
DESCRIPTION:Volunteer for a day of earth-keeping at Cedar Haven every 2nd Saturday of the month from September – November! Learn and connect with other youth who are passionate about the natural world. \nContribute to hands-on conservation projects at Cedar Haven like nest box monitoring\, bumblebee identification\, invasive species removal and so much more! There will opportunities to develop your scientific observation and identification skills\, as well as learn from experts in the field. \nOpen to youth ages 12-16. No experience required to participate! \n Join in and earn 5 volunteer hours towards your high-school community involvement. \nRegistration\nBook your ticket to let us know you’re coming. If this is your first time to the EarthKeepers Club this year\, please also fill out the registration form. \n\n					\n						Book Ticket(s)\n\n\n\n\n\n\n					\n				\n					\n						Complete Registration Form\nRegistration Form
URL:https://arocha.ca/event/earthkeepers-club-october-meeting/
LOCATION:Cedar Haven Eco-Centre\, 1039 97\, Freelton\, Ontario\, L0R 1K0\, Canada
CATEGORIES:ON Conservation,Ontario
ATTACH;FMTTYPE=image/png:https://arocha.ca/wp-content/uploads/2023/08/EKC-Banner-1.png
ORGANIZER;CN="A Rocha Ontario":MAILTO:ontario@arocha.ca
END:VEVENT
BEGIN:VEVENT
DTSTART;TZID=UTC:20231021T130000
DTEND;TZID=UTC:20231021T160000
DTSTAMP:20260420T194841
CREATED:20230921T132527Z
LAST-MODIFIED:20230921T132527Z
UID:44301-1697893200-1697904000@arocha.ca
SUMMARY:Tree Identification Workshop (Cedar Haven)
DESCRIPTION:Are you interested in going deeper with your knowledge of the natural world? Our Conservation Coordinator (Jeremy) will be hosting a Tree Identification Workshop at the Cedar Haven Eco-Centre from 1PM – 4PM. \nCome learn about common ID tips and the community of trees that make up our forests. We will be going on a walk throughout the property covering various habitats and learning about tree communities together. Whether you are new to the world of forests or a long time naturalist there will be something for everyone! \nRSVP BELOW\nPlease RSVP to let us know you’re coming and to receive notification of possible weather-related changes to this event. \n\n\n\n\nMake a DonationSupport A Rocha OntarioPlease note that this is a FREE event. If you are interested in supporting A Rocha Ontario’s events and programs\, like this one\, please consider making an online donation.Make a Donation
URL:https://arocha.ca/event/tree-identification-workshop-cedar-haven-oct-2023/
LOCATION:Cedar Haven Eco-Centre\, 1039 97\, Freelton\, Ontario\, L0R 1K0\, Canada
CATEGORIES:ON Special Events,Ontario
ATTACH;FMTTYPE=image/png:https://arocha.ca/wp-content/uploads/2023/09/Tree-ID-Workshop-OCT.png
ORGANIZER;CN="A Rocha Ontario":MAILTO:ontario@arocha.ca
END:VEVENT
BEGIN:VEVENT
DTSTART;TZID=UTC:20231029T140000
DTEND;TZID=UTC:20231029T160000
DTSTAMP:20260420T194841
CREATED:20230929T140628Z
LAST-MODIFIED:20230929T141321Z
UID:44397-1698588000-1698595200@arocha.ca
SUMMARY:Fall Sabbath Hike (Cedar Haven)
DESCRIPTION:Join us for our Fall Sabbath Hike for the perfect opportunity to get outside and experience God’s presence in creation through the seasons. Together\, we will engage in the ancient practice of sabbath by going on a guided contemplative walk through the beautiful Cedar Haven landscape. \nRSVP BELOW\nPlease RSVP to receive notification of possible weather-related changes to this event. \n\n\n\n\nMake a DonationSupport A Rocha OntarioPlease note that this is a FREE event. If you are interested in supporting A Rocha Ontario’s events and programs\, like this one\, please consider making an online donation.Make a Donation
URL:https://arocha.ca/event/fall-sabbath-hike-cedar-haven-2023/
LOCATION:Cedar Haven Eco-Centre\, 1039 97\, Freelton\, Ontario\, L0R 1K0\, Canada
CATEGORIES:ON Special Events,Ontario
ATTACH;FMTTYPE=image/png:https://arocha.ca/wp-content/uploads/2023/09/Fall-Sabbath-Hike.png
ORGANIZER;CN="A Rocha Ontario":MAILTO:ontario@arocha.ca
END:VEVENT
END:VCALENDAR