BEGIN:VCALENDAR
VERSION:2.0
PRODID:-//A Rocha - ECPv6.15.19//NONSGML v1.0//EN
CALSCALE:GREGORIAN
METHOD:PUBLISH
X-ORIGINAL-URL:https://arocha.ca
X-WR-CALDESC:Events for A Rocha
REFRESH-INTERVAL;VALUE=DURATION:PT1H
X-Robots-Tag:noindex
X-PUBLISHED-TTL:PT1H
BEGIN:VTIMEZONE
TZID:UTC
BEGIN:STANDARD
TZOFFSETFROM:+0000
TZOFFSETTO:+0000
TZNAME:UTC
DTSTART:20220101T000000
END:STANDARD
END:VTIMEZONE
BEGIN:VTIMEZONE
TZID:America/Toronto
BEGIN:DAYLIGHT
TZOFFSETFROM:-0500
TZOFFSETTO:-0400
TZNAME:EDT
DTSTART:20220313T070000
END:DAYLIGHT
BEGIN:STANDARD
TZOFFSETFROM:-0400
TZOFFSETTO:-0500
TZNAME:EST
DTSTART:20221106T060000
END:STANDARD
BEGIN:DAYLIGHT
TZOFFSETFROM:-0500
TZOFFSETTO:-0400
TZNAME:EDT
DTSTART:20230312T070000
END:DAYLIGHT
BEGIN:STANDARD
TZOFFSETFROM:-0400
TZOFFSETTO:-0500
TZNAME:EST
DTSTART:20231105T060000
END:STANDARD
BEGIN:DAYLIGHT
TZOFFSETFROM:-0500
TZOFFSETTO:-0400
TZNAME:EDT
DTSTART:20240310T070000
END:DAYLIGHT
BEGIN:STANDARD
TZOFFSETFROM:-0400
TZOFFSETTO:-0500
TZNAME:EST
DTSTART:20241103T060000
END:STANDARD
END:VTIMEZONE
BEGIN:VEVENT
DTSTART;TZID=UTC:20230909T090000
DTEND;TZID=UTC:20230909T150000
DTSTAMP:20260420T214017
CREATED:20230808T150723Z
LAST-MODIFIED:20230808T150723Z
UID:44082-1694250000-1694271600@arocha.ca
SUMMARY:EarthKeepers Club (September Meeting)
DESCRIPTION:Volunteer for a day of earth-keeping at Cedar Haven every 2nd Saturday of the month from September – November! Learn and connect with other youth who are passionate about the natural world. \nContribute to hands-on conservation projects at Cedar Haven like nest box monitoring\, bumblebee identification\, invasive species removal and so much more! There will opportunities to develop your scientific observation and identification skills\, as well as learn from experts in the field. \nOpen to youth ages 12-16. No experience required to participate! \n Join in and earn 5 volunteer hours towards your high-school community involvement. \nRegistration\nBook your ticket to let us know you’re coming. If this is your first time to the EarthKeepers Club this year\, please also fill out the registration form. \n\n					\n						Book Ticket(s)\n\n\n\n\n\n\n					\n				\n					\n						Complete Registration Form\nRegistration Form
URL:https://arocha.ca/event/earthkeepers-club-sept-2023/
LOCATION:Cedar Haven Eco-Centre\, 1039 97\, Freelton\, Ontario\, L0R 1K0\, Canada
CATEGORIES:ON Conservation,Ontario
ATTACH;FMTTYPE=image/png:https://arocha.ca/wp-content/uploads/2023/08/EKC-Banner-1.png
ORGANIZER;CN="A Rocha Ontario":MAILTO:ontario@arocha.ca
END:VEVENT
BEGIN:VEVENT
DTSTART;VALUE=DATE:20230913
DTEND;VALUE=DATE:20231116
DTSTAMP:20260420T214017
CREATED:20230622T133142Z
LAST-MODIFIED:20230622T133142Z
UID:43802-1694563200-1700092799@arocha.ca
SUMMARY:Nature Academy - Fall 2023
DESCRIPTION:An outdoor school for hands-on science\, wilderness skills\, gardening\, and child-led nature exploration. Learn more. \nPayment & Registration\nAfter purchasing your Eventbrite ticket(s)\, please make sure to also fill out the registration form below. \n\nRegistering more than one child?\n\n					\n						Purchase Ticket(s)\n\n\n\n\n\n\n					\n				\n					\n						Complete Registration Form (MANDATORY)\nRegistration Form\n\n					\n				If this program is cancelled due to low enrolment or health and safety restrictions\, payment will be fully refundable. \nJoin the ListCan't register right now?\nMaybe… \n\nThe program is full\nThe days don’t work with your schedule\nThe cost of the program is a barrier\nRegistration isn’t open yet\, but you want to know when it does!\n\nWhatever the reason\, the more interest we have in a program\, the more likely we will run it. Please join the interest list and tell us why you cannot register today. \nJoin the List
URL:https://arocha.ca/event/nature-academy-fall-2023/
LOCATION:Cedar Haven Eco-Centre\, 1039 97\, Freelton\, Ontario\, L0R 1K0\, Canada
CATEGORIES:Nature Academy,Ontario
ATTACH;FMTTYPE=image/jpeg:https://arocha.ca/wp-content/uploads/2022/06/DSC_6832-scaled.jpg
ORGANIZER;CN="A Rocha Ontario":MAILTO:ontario@arocha.ca
END:VEVENT
BEGIN:VEVENT
DTSTART;TZID=UTC:20230916T130000
DTEND;TZID=UTC:20230916T160000
DTSTAMP:20260420T214017
CREATED:20230810T132525Z
LAST-MODIFIED:20230821T164054Z
UID:44090-1694869200-1694880000@arocha.ca
SUMMARY:Tree Identification Workshop (Cedar Haven)
DESCRIPTION:Are you interested in going deeper with your knowledge of the natural world? Our Conservation Coordinator (Jeremy) will be hosting a Tree Identification Workshop at Cedar Haven on September 16 at 1 pm. \nCome learn about common ID tips and the community of trees that make up our forests. We will be going on a walk throughout the property covering various habitats and learning about tree communities together. Whether you are new to the world of forests or a long time naturalist there will be something for everyone! \nRSVP BELOW\nPlease RSVP to let us know you’re coming and to receive notification of possible weather-related changes to this event. \n\n\n\n\nMake a DonationSupport A Rocha OntarioPlease note that this is a FREE event. If you are interested in supporting A Rocha Ontario’s events and programs\, like this one\, please consider making an online donation.Make a Donation
URL:https://arocha.ca/event/tree-identification-workshop-cedar-haven/
LOCATION:Cedar Haven Eco-Centre\, 1039 97\, Freelton\, Ontario\, L0R 1K0\, Canada
CATEGORIES:ON Special Events,Ontario
ATTACH;FMTTYPE=image/png:https://arocha.ca/wp-content/uploads/2023/08/Tree-ID-Walk.png
ORGANIZER;CN="A Rocha Ontario":MAILTO:ontario@arocha.ca
END:VEVENT
BEGIN:VEVENT
DTSTART;TZID=UTC:20230921T183000
DTEND;TZID=UTC:20230921T200000
DTSTAMP:20260420T214017
CREATED:20230810T132833Z
LAST-MODIFIED:20230821T163942Z
UID:44095-1695321000-1695326400@arocha.ca
SUMMARY:Restoration Planting (Cedar Haven)
DESCRIPTION:Have you been looking for a way to get your hands dirty and make a positive impact on the landscape? Our Conservation Coordinator is planning restoration planting for 6:30 PM – 8 PM on September 21st. \nCome and join in on helping to restore land (pond and/or forest) at Cedar Haven by planting native aquatic and/or terrestrial species. Mark this down in your calendar as it will be a time of fun and practical action for all ages! If you have any questions about the event please feel free to reach out to on.conservation@arocha.ca. \nRSVP BELOW\nPlease RSVP to let us know you’re coming and to receive notification of possible weather-related changes to this event. \n\n\n\n\nMake a DonationSupport A Rocha OntarioPlease note that this is a FREE event. If you are interested in supporting A Rocha Ontario’s events and programs\, like this one\, please consider making an online donation.Make a Donation
URL:https://arocha.ca/event/restoration-planting/
LOCATION:Cedar Haven Eco-Centre\, 1039 97\, Freelton\, Ontario\, L0R 1K0\, Canada
CATEGORIES:ON Special Events,Ontario
ATTACH;FMTTYPE=image/png:https://arocha.ca/wp-content/uploads/2023/08/Restoration-Planting.png
ORGANIZER;CN="A Rocha Ontario":MAILTO:ontario@arocha.ca
END:VEVENT
BEGIN:VEVENT
DTSTART;TZID=UTC:20230923T100000
DTEND;TZID=UTC:20230923T110000
DTSTAMP:20260420T214017
CREATED:20230829T133537Z
LAST-MODIFIED:20230829T133537Z
UID:44161-1695463200-1695466800@arocha.ca
SUMMARY:Fall Equinox Wild Church (Cedar Haven)
DESCRIPTION:Ever thought that it would make sense to worship God outside—where the beauty of creation is obvious? A Rocha Ontario is happy to partner again with two local church leaders\, Nina Schuurman-Drenth and Rebecca Vendetti\, to host Wild Church on September 23rd to celebrate the upcoming fall equinox! Join us for a family-friendly liturgy of co-worshiping with God’s creation. Together\, we’ll gather\, pray\, wander\, contemplate\, and generally delight in the good world God has made. After the service\, there will be optional programming onsite. We encourage you to dress for the weather and bring something to sit on! \nPlease note that registration is required for this event so that we can contact you about any weather-related changes. As well\, due to limit parking availability\, we strongly recommend carpooling. \nPlease Register Below\n\n\n\n\nMake a DonationSupport A Rocha OntarioPlease note that this is a FREE event. If you are interested in supporting A Rocha Ontario’s events and programs\, like this one\, please consider making an online donation.Make a Donation
URL:https://arocha.ca/event/fall-wild-church-cedar-haven/
LOCATION:Cedar Haven Eco-Centre\, 1039 97\, Freelton\, Ontario\, L0R 1K0\, Canada
CATEGORIES:Hamilton,ON Special Events,Ontario
ATTACH;FMTTYPE=image/png:https://arocha.ca/wp-content/uploads/2023/08/Fall-Wild-Church-2023.png
ORGANIZER;CN="A Rocha Ontario":MAILTO:ontario@arocha.ca
END:VEVENT
BEGIN:VEVENT
DTSTART;TZID=America/Toronto:20230930T143000
DTEND;TZID=America/Toronto:20230930T200000
DTSTAMP:20260420T214017
CREATED:20230919T125606Z
LAST-MODIFIED:20230919T125606Z
UID:44296-1696084200-1696104000@arocha.ca
SUMMARY:Fall Colours Hike\, Potluck Supper and Presentation (Ottawa/Gatineau\, ON)
DESCRIPTION:Join A Rocha Ottawa for our Fall Colours Walk\, Potluck Supper and Presentation! \nIf you are unable to attend all three parts of the event\, feel free to attend the parts that you can. \nSchedule:\n2:30 pm: Fall Colours Walk \nMeet at 264 Kingsmere (for directions or if you need a ride\, please contact paul.heintzman@arocha.ca )\, and we’ll begin on our Fall Colours Walk along the King Mountain Trail. Features of this trail include panoramic views of the fall colours in Gatineau Park\, the City of Ottawa and the Ottawa Valley. Note: if it is a nice day\, traffic will be heavy in the village of Old Chelsea and on the Gatineau Parkway\, so give yourself plenty of travel time to arrive by 2:30 pm. \n5:30 pm: Potluck Supper  \nPlease RSVP (via email) to let us know what you plan to bring. \n7:00 pm: Presentation \nKris and Alison Nanda\, regular attenders of A Rocha Ottawa/Gatineau events\, visited A Rocha’s Les Courmettes site in France this summer. They will be giving a presentation\, including photos and brief videos\, about their visit to this site. \nTo RSVP or for more information\, email Paul at paul.heintzman@arocha.ca.
URL:https://arocha.ca/event/fall-colours-hike-on-2023/
LOCATION:ON
CATEGORIES:Ontario,Ottawa
ATTACH;FMTTYPE=image/jpeg:https://arocha.ca/wp-content/uploads/2022/10/image002.jpg
ORGANIZER;CN="A Rocha Ottawa":MAILTO:paul.heintzman@arocha.ca
END:VEVENT
END:VCALENDAR