BEGIN:VCALENDAR
VERSION:2.0
PRODID:-//A Rocha - ECPv6.15.19//NONSGML v1.0//EN
CALSCALE:GREGORIAN
METHOD:PUBLISH
X-ORIGINAL-URL:https://arocha.ca
X-WR-CALDESC:Events for A Rocha
REFRESH-INTERVAL;VALUE=DURATION:PT1H
X-Robots-Tag:noindex
X-PUBLISHED-TTL:PT1H
BEGIN:VTIMEZONE
TZID:America/Toronto
BEGIN:DAYLIGHT
TZOFFSETFROM:-0500
TZOFFSETTO:-0400
TZNAME:EDT
DTSTART:20220313T070000
END:DAYLIGHT
BEGIN:STANDARD
TZOFFSETFROM:-0400
TZOFFSETTO:-0500
TZNAME:EST
DTSTART:20221106T060000
END:STANDARD
BEGIN:DAYLIGHT
TZOFFSETFROM:-0500
TZOFFSETTO:-0400
TZNAME:EDT
DTSTART:20230312T070000
END:DAYLIGHT
BEGIN:STANDARD
TZOFFSETFROM:-0400
TZOFFSETTO:-0500
TZNAME:EST
DTSTART:20231105T060000
END:STANDARD
BEGIN:DAYLIGHT
TZOFFSETFROM:-0500
TZOFFSETTO:-0400
TZNAME:EDT
DTSTART:20240310T070000
END:DAYLIGHT
BEGIN:STANDARD
TZOFFSETFROM:-0400
TZOFFSETTO:-0500
TZNAME:EST
DTSTART:20241103T060000
END:STANDARD
END:VTIMEZONE
BEGIN:VTIMEZONE
TZID:UTC
BEGIN:STANDARD
TZOFFSETFROM:+0000
TZOFFSETTO:+0000
TZNAME:UTC
DTSTART:20220101T000000
END:STANDARD
END:VTIMEZONE
BEGIN:VEVENT
DTSTART;TZID=America/Toronto:20230710T090000
DTEND;TZID=America/Toronto:20230714T150000
DTSTAMP:20260421T013359
CREATED:20230315T135225Z
LAST-MODIFIED:20230315T135225Z
UID:42940-1688979600-1689346800@arocha.ca
SUMMARY:Wild Things Day Camp (Cedar Haven\, ON)
DESCRIPTION:Wild Things is a week long day camp that offers hands-on nature experiences to kids ages 6-12. \nEach day we will learn and explore through crafts\, games and stories — and encounter real live wild things! Come learn about all the creatures that live at Cedar Haven\, as we explore and play in the fields\, forests\, ponds\, creeks and wetlands. \nThis program runs from 9am – 3pm daily for one week. \nPayment & Registration\nAfter purchasing your Eventbrite ticket(s)\, please make sure to also fill out the registration form. \nPurchase Ticket(s)\n\n\n\n\nComplete Registration Form\nRegistration FormIf this program is cancelled due to low enrolment or health and safety restrictions\, payment will be fully refundable. \nJoin the ListCan't register right now?\n\nMaybe… \n\nThe program is full\nThe days don’t work with your schedule\nThe cost of the program is a barrier\nRegistration isn’t open yet\, but you want to know when it does!\n\nWhatever the reason\, the more interest we have in a program\, the more likely we will run it. Please join the interest list and tell us why you cannot register today. \n\nJoin the List
URL:https://arocha.ca/event/wild-things-day-camp-cedar-haven-on-2023-1/
LOCATION:Cedar Haven Eco-Centre\, 1039 97\, Freelton\, Ontario\, L0R 1K0\, Canada
CATEGORIES:Day Camps,Ontario
ATTACH;FMTTYPE=image/jpeg:https://arocha.ca/wp-content/uploads/2022/03/089A94D8-8C41-4FBA-ACA2-638DB22DC6B5_1_105_c.jpeg
ORGANIZER;CN="A Rocha Ontario":MAILTO:ontario@arocha.ca
END:VEVENT
BEGIN:VEVENT
DTSTART;TZID=America/Toronto:20230724T090000
DTEND;TZID=America/Toronto:20230728T150000
DTSTAMP:20260421T013359
CREATED:20230315T135509Z
LAST-MODIFIED:20230315T135605Z
UID:42942-1690189200-1690556400@arocha.ca
SUMMARY:Wild Things Day Camp (Cedar Haven\, ON)
DESCRIPTION:Wild Things is a week long day camp that offers hands-on nature experiences to kids ages 6-12. \nEach day we will learn and explore through crafts\, games and stories — and encounter real live wild things! Come learn about all the creatures that live at Cedar Haven\, as we explore and play in the fields\, forests\, ponds\, creeks and wetlands. \nThis program runs from 9am – 3pm daily for one week. \nPayment & Registration\nAfter purchasing your Eventbrite ticket(s)\, please make sure to also fill out the registration form. \nPurchase Ticket(s)\n\n\n\n\nComplete Registration Form\nRegistration FormIf this program is cancelled due to low enrolment or health and safety restrictions\, payment will be fully refundable. \nJoin the ListCan't register right now?\n\nMaybe… \n\nThe program is full\nThe days don’t work with your schedule\nThe cost of the program is a barrier\nRegistration isn’t open yet\, but you want to know when it does!\n\nWhatever the reason\, the more interest we have in a program\, the more likely we will run it. Please join the interest list and tell us why you cannot register today. \n\nJoin the List
URL:https://arocha.ca/event/wild-things-day-camp-cedar-haven-on-2023-2/
LOCATION:Cedar Haven Eco-Centre\, 1039 97\, Freelton\, Ontario\, L0R 1K0\, Canada
CATEGORIES:Day Camps,Ontario
ATTACH;FMTTYPE=image/jpeg:https://arocha.ca/wp-content/uploads/2022/03/089A94D8-8C41-4FBA-ACA2-638DB22DC6B5_1_105_c.jpeg
ORGANIZER;CN="A Rocha Ontario":MAILTO:ontario@arocha.ca
END:VEVENT
BEGIN:VEVENT
DTSTART;TZID=UTC:20230729T090000
DTEND;TZID=UTC:20230729T150000
DTSTAMP:20260421T013359
CREATED:20230619T163825Z
LAST-MODIFIED:20230619T163825Z
UID:43789-1690621200-1690642800@arocha.ca
SUMMARY:EarthKeepers Club (July Meeting)
DESCRIPTION:Volunteer for a day of earth-keeping at Cedar Haven! Learn and connect with other youth who are passionate about the natural world. \nContribute to hands-on conservation projects at Cedar Haven like nest box monitoring\, bumblebee identification\, invasive species removal and so much more! There will opportunity to develop your scientific observation and identification skills\, as well as learn from experts in the field. \nOpen to youth ages 12-16. No experience required to participate! \n Join in and earn 5 volunteer hours towards your high-school community involvement. \nRegistration\nBook your ticket to let us know you’re coming. If this is your first time to the EarthKeepers Club this year\, please also fill out the registration form. \n\n					\n						Book Ticket(s)\n\n\n\n\n\n\n					\n				\n					\n						Complete Registration Form\nRegistration Form
URL:https://arocha.ca/event/earthkeepers-club-july-meeting/
LOCATION:Cedar Haven Eco-Centre\, 1039 97\, Freelton\, Ontario\, L0R 1K0\, Canada
CATEGORIES:ON Conservation,Ontario
ATTACH;FMTTYPE=image/png:https://arocha.ca/wp-content/uploads/2023/06/Website-Banner-EKC-Summer.png
ORGANIZER;CN="A Rocha Ontario":MAILTO:ontario@arocha.ca
END:VEVENT
BEGIN:VEVENT
DTSTART;TZID=America/Toronto:20230731T090000
DTEND;TZID=America/Toronto:20230804T150000
DTSTAMP:20260421T013359
CREATED:20230315T140117Z
LAST-MODIFIED:20230315T140117Z
UID:42944-1690794000-1691161200@arocha.ca
SUMMARY:Wild Things Day Camp (Cedar Haven\, ON)
DESCRIPTION:Wild Things is a week long day camp that offers hands-on nature experiences to kids ages 6-12. \nEach day we will learn and explore through crafts\, games and stories — and encounter real live wild things! Come learn about all the creatures that live at Cedar Haven\, as we explore and play in the fields\, forests\, ponds\, creeks and wetlands. \nThis program runs from 9am – 3pm daily for one week. \nPayment & Registration\nAfter purchasing your Eventbrite ticket(s)\, please make sure to also fill out the registration form. \nPurchase Ticket(s)\n\n\n\n\nComplete Registration Form\nRegistration FormIf this program is cancelled due to low enrolment or health and safety restrictions\, payment will be fully refundable. \nJoin the ListCan't register right now?\n\nMaybe… \n\nThe program is full\nThe days don’t work with your schedule\nThe cost of the program is a barrier\nRegistration isn’t open yet\, but you want to know when it does!\n\nWhatever the reason\, the more interest we have in a program\, the more likely we will run it. Please join the interest list and tell us why you cannot register today. \n\nJoin the List
URL:https://arocha.ca/event/wild-things-day-camp-cedar-haven-on-2023-3/
LOCATION:Cedar Haven Eco-Centre\, 1039 97\, Freelton\, Ontario\, L0R 1K0\, Canada
CATEGORIES:Day Camps,Ontario
ATTACH;FMTTYPE=image/jpeg:https://arocha.ca/wp-content/uploads/2022/03/089A94D8-8C41-4FBA-ACA2-638DB22DC6B5_1_105_c.jpeg
ORGANIZER;CN="A Rocha Ontario":MAILTO:ontario@arocha.ca
END:VEVENT
END:VCALENDAR