BEGIN:VCALENDAR
VERSION:2.0
PRODID:-//A Rocha - ECPv6.15.19//NONSGML v1.0//EN
CALSCALE:GREGORIAN
METHOD:PUBLISH
X-WR-CALNAME:A Rocha
X-ORIGINAL-URL:https://arocha.ca
X-WR-CALDESC:Events for A Rocha
REFRESH-INTERVAL;VALUE=DURATION:PT1H
X-Robots-Tag:noindex
X-PUBLISHED-TTL:PT1H
BEGIN:VTIMEZONE
TZID:America/Toronto
BEGIN:DAYLIGHT
TZOFFSETFROM:-0500
TZOFFSETTO:-0400
TZNAME:EDT
DTSTART:20220313T070000
END:DAYLIGHT
BEGIN:STANDARD
TZOFFSETFROM:-0400
TZOFFSETTO:-0500
TZNAME:EST
DTSTART:20221106T060000
END:STANDARD
BEGIN:DAYLIGHT
TZOFFSETFROM:-0500
TZOFFSETTO:-0400
TZNAME:EDT
DTSTART:20230312T070000
END:DAYLIGHT
BEGIN:STANDARD
TZOFFSETFROM:-0400
TZOFFSETTO:-0500
TZNAME:EST
DTSTART:20231105T060000
END:STANDARD
BEGIN:DAYLIGHT
TZOFFSETFROM:-0500
TZOFFSETTO:-0400
TZNAME:EDT
DTSTART:20240310T070000
END:DAYLIGHT
BEGIN:STANDARD
TZOFFSETFROM:-0400
TZOFFSETTO:-0500
TZNAME:EST
DTSTART:20241103T060000
END:STANDARD
END:VTIMEZONE
BEGIN:VTIMEZONE
TZID:UTC
BEGIN:STANDARD
TZOFFSETFROM:+0000
TZOFFSETTO:+0000
TZNAME:UTC
DTSTART:20220101T000000
END:STANDARD
END:VTIMEZONE
BEGIN:VEVENT
DTSTART;TZID=America/Toronto:20230304T140000
DTEND;TZID=America/Toronto:20230304T200000
DTSTAMP:20260421T083908
CREATED:20230222T142049Z
LAST-MODIFIED:20230222T142049Z
UID:42629-1677938400-1677960000@arocha.ca
SUMMARY:Winter Activities\, Potluck Supper and Evening Program (Ottawa/Gatineau\, ON)
DESCRIPTION:Join A Rocha Ottawa for our Winter Activities\, Potluck Supper and Evening Program! \nIf you are unable to the afternoon activities\, feel free to join us for supper and the evening program. \nSchedule:\n2:00 pm Winter Activities \nJoin us in Gatineau Park for winter outdoor activities including hiking\, snowshoeing\, and cross-country skiing. You can choose your activity. We will lead a group cross-country ski for anyone who would like to join us. We have plenty of cross-country ski equipment available for those who don’t have any. If you intend to snowshoe you will need to bring your own snowshoes. Meet at 264 Kingsmere at 2:00 pm. (for directions or for a ride please send an e-mail to: paul.heintzman@arocha.ca ). \n5:30 pm Potluck Supper \nPlease RSVP and let us know what you plan to bring so that we can plan accordingly. \n7:00 pm Creation Care in Precarity: Challenges and Opportunities for Environmental Action in Malawi with Vivian and Blair Bertrand \nRegardless of the metric\, the small but populous central African country Malawi is ranked among the poorest in the world. With a land mass totaling approximately the size of New Brunswick and Nova Scotia\, the 21 million people put extreme pressure on the land for survival. At the same time\, Malawi has a large number of Christians. How can they faithfully respond to the acute environmental crisis they face (but have not necessarily created) and continue to advocate for the poorest of the poor? \nVivian and Blair Bertrand lived in Malawi from 2017-2020. Vivian worked for an NGO called Churches Action Relief Development (CARD) and for the Mennonite Central Committee (MCC). She currently works for Environment and Climate Change Canada (ECCC). Blair continues to work for Zomba Theological University as a Senior Lecturer. They live in Barrhaven with two of their children (Sage 15\, Zoe 10) while their third is studying biology at Simon Fraser University (Garrett\, 18). \nPlease RSVP paul.heintzman@arocha.ca to let us know if you will be attending and what you will be bringing for the potluck supper.
URL:https://arocha.ca/event/winter-activities-potluck-supper-and-evening-program-ottawa-gatineau-on-march/
LOCATION:ON
CATEGORIES:Ontario,Ottawa
ATTACH;FMTTYPE=image/jpeg:https://arocha.ca/wp-content/uploads/2023/02/image001.jpg
ORGANIZER;CN="A Rocha Ottawa":MAILTO:paul.heintzman@arocha.ca
END:VEVENT
BEGIN:VEVENT
DTSTART;TZID=UTC:20230318T093000
DTEND;TZID=UTC:20230318T103000
DTSTAMP:20260421T083908
CREATED:20230216T161500Z
LAST-MODIFIED:20230315T132002Z
UID:42499-1679131800-1679135400@arocha.ca
SUMMARY:Spring Equinox Wild Church (Hamilton\, ON)
DESCRIPTION:Ever thought that it would make sense to worship God outside—where the beauty of creation is obvious? A Rocha Ontario is happy to partner again with two local church leaders\, Nina Schuurman-Drenth and Rebecca Vendetti\, to host Wild Church this March to celebrate the upcoming spring equinox! Join us for a family-friendly liturgy of co-worshiping with God’s creation. Together\, we’ll gather\, pray\, wander\, contemplate\, and generally delight in the good world God has made. We encourage you to dress for the weather and bring something to sit on!  \nUpdate: Due to poor snow conditions for parking at the Cedar Haven Eco-Centre\, Wild Church will now be hosted at Princess Point (Hamilton\, ON). As Princess Point has more parking and is accessible via other forms of transportation\, we no longer have parking limitations.
URL:https://arocha.ca/event/spring-equinox-wild-church-cedar-haven/
LOCATION:Princess Point (Hamilton\, ON)\, Hamilton\, Ontario\, L8S 3W9
CATEGORIES:Hamilton,Ontario
ATTACH;FMTTYPE=image/png:https://arocha.ca/wp-content/uploads/2023/02/Wild-Church.png
ORGANIZER;CN="A Rocha Ontario":MAILTO:ontario@arocha.ca
END:VEVENT
END:VCALENDAR