BEGIN:VCALENDAR
VERSION:2.0
PRODID:-//A Rocha - ECPv6.15.19//NONSGML v1.0//EN
CALSCALE:GREGORIAN
METHOD:PUBLISH
X-ORIGINAL-URL:https://arocha.ca
X-WR-CALDESC:Events for A Rocha
REFRESH-INTERVAL;VALUE=DURATION:PT1H
X-Robots-Tag:noindex
X-PUBLISHED-TTL:PT1H
BEGIN:VTIMEZONE
TZID:America/Toronto
BEGIN:DAYLIGHT
TZOFFSETFROM:-0500
TZOFFSETTO:-0400
TZNAME:EDT
DTSTART:20220313T070000
END:DAYLIGHT
BEGIN:STANDARD
TZOFFSETFROM:-0400
TZOFFSETTO:-0500
TZNAME:EST
DTSTART:20221106T060000
END:STANDARD
BEGIN:DAYLIGHT
TZOFFSETFROM:-0500
TZOFFSETTO:-0400
TZNAME:EDT
DTSTART:20230312T070000
END:DAYLIGHT
BEGIN:STANDARD
TZOFFSETFROM:-0400
TZOFFSETTO:-0500
TZNAME:EST
DTSTART:20231105T060000
END:STANDARD
BEGIN:DAYLIGHT
TZOFFSETFROM:-0500
TZOFFSETTO:-0400
TZNAME:EDT
DTSTART:20240310T070000
END:DAYLIGHT
BEGIN:STANDARD
TZOFFSETFROM:-0400
TZOFFSETTO:-0500
TZNAME:EST
DTSTART:20241103T060000
END:STANDARD
END:VTIMEZONE
BEGIN:VEVENT
DTSTART;TZID=America/Toronto:20230128T140000
DTEND;TZID=America/Toronto:20230128T200000
DTSTAMP:20260421T121621
CREATED:20230125T015253Z
LAST-MODIFIED:20230125T015253Z
UID:42241-1674914400-1674936000@arocha.ca
SUMMARY:Winter Activities\, Potluck Supper and Evening Program (Ottawa/Gatineau\, ON)
DESCRIPTION:Join A Rocha Ottawa for our Winter Activities\, Potluck Supper and Evening Program! \nIf you are unable to attend all three parts of the event\, feel free to attend the parts that you can. \nSchedule:\n2:00 pm Winter Activities \nJoin us in Gatineau Park for winter outdoor activities including hiking\, snowshoeing\, and cross-country skiing. You can choose your activity. We will lead a group cross-country ski for anyone who would like to join us. We have plenty of cross-country ski equipment available for those who don’t have any. If you intend to snowshoe you will need to bring your own snowshoes. Meet at 264 Kingsmere at 2:00 pm. (for directions or if you need a ride please e-mail paul.heintzman@arocha.ca ). \n5:30 pm Potluck Supper \nPlease RSVP and let us know what you plan to bring so that we can plan accordingly. \n7:00 pm Video recording of “A Place at the Table” Book Launch \nWe will watch and then discuss a videorecording of a book launch that took place last Nov. 15 that celebrated the release of “A Place at the Table” by the late A Rocha co-founder\, Miranda Harris and her daughter Jo Swinney. This book focuses on the role of hospitality in the work of A Rocha. Co-hosted by the Regent Bookstore and A Rocha Canada\, this videorecording features a short presentation\, a reading by Jo Swinney\, and a panel discussion with A Rocha’s Peter Harris and Jo Swinney. \nPlease RSVP paul.heintzman@arocha.ca to let us know if you will be attending and what you will be bringing for the potluck supper.
URL:https://arocha.ca/event/winter-activities-potluck-supper-and-evening-program-ottawa-gatineau-on/
LOCATION:ON
CATEGORIES:Ontario,Ottawa
ATTACH;FMTTYPE=image/jpeg:https://arocha.ca/wp-content/uploads/2023/01/A-Rocha-Dec-2021-B-scaled.jpg
ORGANIZER;CN="A Rocha Ottawa":MAILTO:paul.heintzman@arocha.ca
END:VEVENT
END:VCALENDAR