BEGIN:VCALENDAR
VERSION:2.0
PRODID:-//A Rocha - ECPv6.15.19//NONSGML v1.0//EN
CALSCALE:GREGORIAN
METHOD:PUBLISH
X-WR-CALNAME:A Rocha
X-ORIGINAL-URL:https://arocha.ca
X-WR-CALDESC:Events for A Rocha
REFRESH-INTERVAL;VALUE=DURATION:PT1H
X-Robots-Tag:noindex
X-PUBLISHED-TTL:PT1H
BEGIN:VTIMEZONE
TZID:America/Toronto
BEGIN:DAYLIGHT
TZOFFSETFROM:-0500
TZOFFSETTO:-0400
TZNAME:EDT
DTSTART:20210314T070000
END:DAYLIGHT
BEGIN:STANDARD
TZOFFSETFROM:-0400
TZOFFSETTO:-0500
TZNAME:EST
DTSTART:20211107T060000
END:STANDARD
BEGIN:DAYLIGHT
TZOFFSETFROM:-0500
TZOFFSETTO:-0400
TZNAME:EDT
DTSTART:20220313T070000
END:DAYLIGHT
BEGIN:STANDARD
TZOFFSETFROM:-0400
TZOFFSETTO:-0500
TZNAME:EST
DTSTART:20221106T060000
END:STANDARD
BEGIN:DAYLIGHT
TZOFFSETFROM:-0500
TZOFFSETTO:-0400
TZNAME:EDT
DTSTART:20230312T070000
END:DAYLIGHT
BEGIN:STANDARD
TZOFFSETFROM:-0400
TZOFFSETTO:-0500
TZNAME:EST
DTSTART:20231105T060000
END:STANDARD
END:VTIMEZONE
BEGIN:VEVENT
DTSTART;VALUE=DATE:20220907
DTEND;VALUE=DATE:20221112
DTSTAMP:20260421T210923
CREATED:20220628T220547Z
LAST-MODIFIED:20221006T175835Z
UID:39951-1662508800-1668211199@arocha.ca
SUMMARY:Nature Academy — Fall 2022
DESCRIPTION:An outdoor school for hands-on science\, wilderness skills\, gardening\, and child-led nature exploration. Learn more. \nPayment & Registration\nAfter purchasing your Eventbrite ticket(s)\, please make sure to also fill out the registration form. \n\nRegistering more than one child?\nPurchase Ticket(s)\n\n\n\n\nComplete Registration Form\nRegistration FormIf this program is cancelled due to low enrolment or health and safety restrictions\, payment will be fully refundable. \nJoin the ListCan't register right now?\nMaybe… \n\nThe program is full\nThe days don’t work with your schedule\nThe cost of the program is a barrier\nRegistration isn’t open yet\, but you want to know when it does!\n\nWhatever the reason\, the more interest we have in a program\, the more likely we will run it. Please join the interest list and tell us why you cannot register today. \nJoin the List
URL:https://arocha.ca/event/nature-academy-fall-2022/
LOCATION:Cedar Haven Eco-Centre\, 1039 97\, Freelton\, Ontario\, L0R 1K0\, Canada
CATEGORIES:Nature Academy,Ontario
ATTACH;FMTTYPE=image/jpeg:https://arocha.ca/wp-content/uploads/2022/06/DSC_6832-scaled.jpg
ORGANIZER;CN="A Rocha Ontario":MAILTO:ontario@arocha.ca
END:VEVENT
BEGIN:VEVENT
DTSTART;TZID=America/Toronto:20221008T090000
DTEND;TZID=America/Toronto:20221008T150000
DTSTAMP:20260421T210923
CREATED:20220916T200339Z
LAST-MODIFIED:20220916T200339Z
UID:40889-1665219600-1665241200@arocha.ca
SUMMARY:EarthKeepers Club
DESCRIPTION:Volunteer for a day of earth-keeping at Cedar Haven! Learn and connect with other youth who are passionate about the natural word. \nContribute to hands-on conservation projects at Cedar Haven like nest box monitoring\, bumblebee identification\, invasive species removal and so much more! \nFor youth ages 12-16. \nRegistration\nBook your ticket to let us know you’re coming. If this is your first time to EK Club this year\, please also fill out the registration form. \nBook Ticket(s)\n\n\n\n\nComplete Registration Form\nRegistration FormIf this program is cancelled due to low enrolment or health and safety restrictions\, payment will be fully refundable. \nJoin the ListCan't register right now?\nMaybe… \n\nThe program is full\nThe days don’t work with your schedule\nThe cost of the program is a barrier\nRegistration isn’t open yet\, but you want to know when it does!\n\nWhatever the reason\, the more interest we have in a program\, the more likely we will run it. Please join the interest list and tell us why you cannot register today. \nJoin the List
URL:https://arocha.ca/event/earthkeepers-club-october-2022/
LOCATION:Cedar Haven Eco-Centre\, 1039 97\, Freelton\, Ontario\, L0R 1K0\, Canada
CATEGORIES:Ontario
ATTACH;FMTTYPE=image/jpeg:https://arocha.ca/wp-content/uploads/2021/05/DSC00786-1.jpg
ORGANIZER;CN="A Rocha Ontario":MAILTO:ontario@arocha.ca
END:VEVENT
BEGIN:VEVENT
DTSTART;TZID=America/Toronto:20221015T143000
DTEND;TZID=America/Toronto:20221015T200000
DTSTAMP:20260421T210923
CREATED:20221004T142948Z
LAST-MODIFIED:20221004T143156Z
UID:41016-1665844200-1665864000@arocha.ca
SUMMARY:Fall Colours Hike\, Potluck Supper and Presentation (Ottawa/Gatineau\, ON)
DESCRIPTION:Join A Rocha Ottawa for our Fall Colours Walk\, Potluck Supper and Presentation! \nIf you are unable to attend all three parts of the event\, feel free to attend the parts that you can. \nSchedule:\n2:30 pm: Fall Colours Walk \nMeet at 264 Kingsmere (for directions please contact paul.heintzman@arocha.ca )\, and we’ll begin on our Fall Colours Walk along the King Mountain Trail. Features of this trail include panoramic views of the fall colours in Gatineau Park\, the City of Ottawa and the Ottawa Valley. Note: if it is a nice day\, traffic will be heavy in the village of Old Chelsea and on the Gatineau Parkway\, so give yourself plenty of travel time to arrive by 2:30 pm. \n5:30 pm: Potluck Supper  \nShare a meal with us! Please RSVP to let us know what you plan to bring. \n7:00 pm: Presentation \nAfter supper\, Karen Castro will talk about how she transformed most of her front lawn in Kanata to a native plants garden this summer. Then\, the Heintzman family will talk and show slides about their multiple visits to A Rocha’s Brooksdale Environmental Centre in Surrey\, BC and their visit to A Rocha’s Boreal Ecology Centre in Manitoba in 2020. As the first A Rocha event in Ottawa was in October 2007\, we will also celebrate A Rocha Ottawa’s 15th Anniversary with some historical photos and cake. \nTo RSVP or for more information\, email Paul at paul.heintzman@arocha.ca.
URL:https://arocha.ca/event/fall-colours-hike-potluck-and-presentation-ottawa-gatineau-on/
LOCATION:ON
CATEGORIES:Ontario,Ottawa
ATTACH;FMTTYPE=image/jpeg:https://arocha.ca/wp-content/uploads/2022/10/image002.jpg
ORGANIZER;CN="A Rocha Ottawa":MAILTO:paul.heintzman@arocha.ca
END:VEVENT
BEGIN:VEVENT
DTSTART;TZID=America/Toronto:20221016T140000
DTEND;TZID=America/Toronto:20221016T160000
DTSTAMP:20260421T210923
CREATED:20221004T150211Z
LAST-MODIFIED:20221004T150211Z
UID:41011-1665928800-1665936000@arocha.ca
SUMMARY:Fall Sabbath Hike (Cedar Haven\, ON)
DESCRIPTION:Join us for our Fall Sabbath Hike for the perfect opportunity to get outside and experience God’s presence in creation through the seasons. Together\, we will engage in the ancient practice of sabbath by going on a guided contemplative walk through the beautiful Cedar Haven landscape. \nRSVP BELOW\nPlease RSVP to receive notification of possible weather-related changes to this event.
URL:https://arocha.ca/event/fall-sabbath-hike-cedar-haven-on/
LOCATION:Cedar Haven Eco-Centre\, 1039 97\, Freelton\, Ontario\, L0R 1K0\, Canada
CATEGORIES:ON Special Events,Ontario
ATTACH;FMTTYPE=image/jpeg:https://arocha.ca/wp-content/uploads/2022/10/Copy-of-IMG_20161016_153807-scaled-e1664890565860.jpg
ORGANIZER;CN="A Rocha Ontario":MAILTO:ontario@arocha.ca
END:VEVENT
END:VCALENDAR