BEGIN:VCALENDAR
VERSION:2.0
PRODID:-//A Rocha - ECPv6.15.19//NONSGML v1.0//EN
CALSCALE:GREGORIAN
METHOD:PUBLISH
X-WR-CALNAME:A Rocha
X-ORIGINAL-URL:https://arocha.ca
X-WR-CALDESC:Events for A Rocha
REFRESH-INTERVAL;VALUE=DURATION:PT1H
X-Robots-Tag:noindex
X-PUBLISHED-TTL:PT1H
BEGIN:VTIMEZONE
TZID:America/Toronto
BEGIN:DAYLIGHT
TZOFFSETFROM:-0500
TZOFFSETTO:-0400
TZNAME:EDT
DTSTART:20210314T070000
END:DAYLIGHT
BEGIN:STANDARD
TZOFFSETFROM:-0400
TZOFFSETTO:-0500
TZNAME:EST
DTSTART:20211107T060000
END:STANDARD
BEGIN:DAYLIGHT
TZOFFSETFROM:-0500
TZOFFSETTO:-0400
TZNAME:EDT
DTSTART:20220313T070000
END:DAYLIGHT
BEGIN:STANDARD
TZOFFSETFROM:-0400
TZOFFSETTO:-0500
TZNAME:EST
DTSTART:20221106T060000
END:STANDARD
BEGIN:DAYLIGHT
TZOFFSETFROM:-0500
TZOFFSETTO:-0400
TZNAME:EDT
DTSTART:20230312T070000
END:DAYLIGHT
BEGIN:STANDARD
TZOFFSETFROM:-0400
TZOFFSETTO:-0500
TZNAME:EST
DTSTART:20231105T060000
END:STANDARD
END:VTIMEZONE
BEGIN:VEVENT
DTSTART;VALUE=DATE:20220907
DTEND;VALUE=DATE:20221112
DTSTAMP:20260422T003953
CREATED:20220628T220547Z
LAST-MODIFIED:20221006T175835Z
UID:39951-1662508800-1668211199@arocha.ca
SUMMARY:Nature Academy — Fall 2022
DESCRIPTION:An outdoor school for hands-on science\, wilderness skills\, gardening\, and child-led nature exploration. Learn more. \nPayment & Registration\nAfter purchasing your Eventbrite ticket(s)\, please make sure to also fill out the registration form. \n\nRegistering more than one child?\nPurchase Ticket(s)\n\n\n\n\nComplete Registration Form\nRegistration FormIf this program is cancelled due to low enrolment or health and safety restrictions\, payment will be fully refundable. \nJoin the ListCan't register right now?\nMaybe… \n\nThe program is full\nThe days don’t work with your schedule\nThe cost of the program is a barrier\nRegistration isn’t open yet\, but you want to know when it does!\n\nWhatever the reason\, the more interest we have in a program\, the more likely we will run it. Please join the interest list and tell us why you cannot register today. \nJoin the List
URL:https://arocha.ca/event/nature-academy-fall-2022/
LOCATION:Cedar Haven Eco-Centre\, 1039 97\, Freelton\, Ontario\, L0R 1K0\, Canada
CATEGORIES:Nature Academy,Ontario
ATTACH;FMTTYPE=image/jpeg:https://arocha.ca/wp-content/uploads/2022/06/DSC_6832-scaled.jpg
ORGANIZER;CN="A Rocha Ontario":MAILTO:ontario@arocha.ca
END:VEVENT
BEGIN:VEVENT
DTSTART;TZID=America/Toronto:20220910T090000
DTEND;TZID=America/Toronto:20220910T150000
DTSTAMP:20260422T003953
CREATED:20220715T213703Z
LAST-MODIFIED:20220829T231106Z
UID:40165-1662800400-1662822000@arocha.ca
SUMMARY:EarthKeepers Club
DESCRIPTION:Volunteer for a day of earth-keeping at Cedar Haven! Learn and connect with other youth who are passionate about the natural word. \nContribute to hands-on conservation projects at Cedar Haven like nest box monitoring\, bumblebee identification\, invasive species removal and so much more! \nFor youth ages 12-16. \nRegistration\nBook your ticket to let us know you’re coming. If this is your first time to EK Club this year\, please also fill out the registration form. \nBook Ticket(s)\n\n\n\n\nComplete Registration Form\nRegistration FormIf this program is cancelled due to low enrolment or health and safety restrictions\, payment will be fully refundable. \nJoin the ListCan't register right now?\nMaybe… \n\nThe program is full\nThe days don’t work with your schedule\nThe cost of the program is a barrier\nRegistration isn’t open yet\, but you want to know when it does!\n\nWhatever the reason\, the more interest we have in a program\, the more likely we will run it. Please join the interest list and tell us why you cannot register today. \nJoin the List
URL:https://arocha.ca/event/earthkeepers-club/
LOCATION:Cedar Haven Eco-Centre\, 1039 97\, Freelton\, Ontario\, L0R 1K0\, Canada
CATEGORIES:Ontario
ATTACH;FMTTYPE=image/jpeg:https://arocha.ca/wp-content/uploads/2021/05/DSC00786-1.jpg
ORGANIZER;CN="A Rocha Ontario":MAILTO:ontario@arocha.ca
END:VEVENT
BEGIN:VEVENT
DTSTART;TZID=America/Toronto:20220930T190000
DTEND;TZID=America/Toronto:20220930T210000
DTSTAMP:20260422T003953
CREATED:20220818T184612Z
LAST-MODIFIED:20220921T022103Z
UID:40479-1664564400-1664571600@arocha.ca
SUMMARY:Wild Church at Cedar Haven
DESCRIPTION:Ever thought that it would make sense to worship God outside—where the beauty of creation is obvious?\nA Rocha Ontario is happy to partner with two local church leaders to make it happen — Nina Schuurman-Drenth and Rebecca Vendetti. \nJoin us for a family-friendly liturgy of co-worshiping with God’s creation. We’ll gather\, pray\, wander\, contemplate\, and generally delight in the good world God has made. Bring something to sit on and dress for the weather!
URL:https://arocha.ca/event/wild-church-at-cedar-haven/
LOCATION:Cedar Haven Eco-Centre\, 1039 97\, Freelton\, Ontario\, L0R 1K0\, Canada
CATEGORIES:Hamilton,ON Special Events,Ontario
ATTACH;FMTTYPE=image/jpeg:https://arocha.ca/wp-content/uploads/2022/08/DSC_6364-1-scaled.jpeg
ORGANIZER;CN="A Rocha Ontario":MAILTO:ontario@arocha.ca
END:VEVENT
END:VCALENDAR