BEGIN:VCALENDAR
VERSION:2.0
PRODID:-//A Rocha - ECPv6.15.19//NONSGML v1.0//EN
CALSCALE:GREGORIAN
METHOD:PUBLISH
X-WR-CALNAME:A Rocha
X-ORIGINAL-URL:https://arocha.ca
X-WR-CALDESC:Events for A Rocha
REFRESH-INTERVAL;VALUE=DURATION:PT1H
X-Robots-Tag:noindex
X-PUBLISHED-TTL:PT1H
BEGIN:VTIMEZONE
TZID:America/Toronto
BEGIN:DAYLIGHT
TZOFFSETFROM:-0500
TZOFFSETTO:-0400
TZNAME:EDT
DTSTART:20210314T070000
END:DAYLIGHT
BEGIN:STANDARD
TZOFFSETFROM:-0400
TZOFFSETTO:-0500
TZNAME:EST
DTSTART:20211107T060000
END:STANDARD
BEGIN:DAYLIGHT
TZOFFSETFROM:-0500
TZOFFSETTO:-0400
TZNAME:EDT
DTSTART:20220313T070000
END:DAYLIGHT
BEGIN:STANDARD
TZOFFSETFROM:-0400
TZOFFSETTO:-0500
TZNAME:EST
DTSTART:20221106T060000
END:STANDARD
BEGIN:DAYLIGHT
TZOFFSETFROM:-0500
TZOFFSETTO:-0400
TZNAME:EDT
DTSTART:20230312T070000
END:DAYLIGHT
BEGIN:STANDARD
TZOFFSETFROM:-0400
TZOFFSETTO:-0500
TZNAME:EST
DTSTART:20231105T060000
END:STANDARD
END:VTIMEZONE
BEGIN:VEVENT
DTSTART;TZID=America/Toronto:20220710T140000
DTEND;TZID=America/Toronto:20220710T160000
DTSTAMP:20260424T040914
CREATED:20220502T171640Z
LAST-MODIFIED:20220707T234902Z
UID:39216-1657461600-1657468800@arocha.ca
SUMMARY:Summer Sabbath Hike (Cedar Haven\, ON)
DESCRIPTION:Sabbath Hike is a great way to get outside and experience God’s presence in creation through the seasons. So join us for a guided contemplative walk through the Cedar Haven landscape as we engage in the ancient practice of sabbath. \nRSVP\nSpace is limited! Please RSVP below.
URL:https://arocha.ca/event/spring-sabbath-hike-cedar-haven-on/
LOCATION:Cedar Haven Eco-Centre\, 1039 97\, Freelton\, Ontario\, L0R 1K0\, Canada
CATEGORIES:ON Special Events,Ontario
ATTACH;FMTTYPE=image/jpeg:https://arocha.ca/wp-content/uploads/2021/01/DSC00344-1-scaled.jpg
ORGANIZER;CN="A Rocha Ontario":MAILTO:ontario@arocha.ca
END:VEVENT
BEGIN:VEVENT
DTSTART;TZID=America/Toronto:20220711T090000
DTEND;TZID=America/Toronto:20220715T150000
DTSTAMP:20260424T040914
CREATED:20220321T214439Z
LAST-MODIFIED:20220708T202122Z
UID:38667-1657530000-1657897200@arocha.ca
SUMMARY:Wild Things Day Camp (Cedar Haven\, ON)
DESCRIPTION:Wild Things is a week long day camp that offers hands-on nature experiences to kids ages 6-12. \nEach day we will learn and explore through crafts\, games and stories — and encounter real live wild things! Come learn about all the creatures that live at Cedar Haven\, as we explore and play in the fields\, forests\, ponds\, creeks and wetlands. \nThis program runs from 9am – 3pm daily for one week. \nPayment & Registration\nAfter purchasing your Eventbrite ticket(s)\, please make sure to also fill out the registration form. \nPurchase Ticket(s)\n\n\n\n\nComplete Registration Form\nRegistration FormIf this program is cancelled due to low enrolment or health and safety restrictions\, payment will be fully refundable. \nJoin the ListCan't register right now?\n\nMaybe… \n\nThe program is full\nThe days don’t work with your schedule\nThe cost of the program is a barrier\nRegistration isn’t open yet\, but you want to know when it does!\n\nWhatever the reason\, the more interest we have in a program\, the more likely we will run it. Please join the interest list and tell us why you cannot register today. \n\nJoin the List
URL:https://arocha.ca/event/wild-things/
LOCATION:Cedar Haven Eco-Centre\, 1039 97\, Freelton\, Ontario\, L0R 1K0\, Canada
CATEGORIES:Day Camps,Ontario
ATTACH;FMTTYPE=image/jpeg:https://arocha.ca/wp-content/uploads/2022/03/089A94D8-8C41-4FBA-ACA2-638DB22DC6B5_1_105_c.jpeg
ORGANIZER;CN="A Rocha Ontario":MAILTO:ontario@arocha.ca
END:VEVENT
BEGIN:VEVENT
DTSTART;TZID=America/Toronto:20220723T130000
DTEND;TZID=America/Toronto:20220723T160000
DTSTAMP:20260424T040914
CREATED:20220607T225556Z
LAST-MODIFIED:20220708T202935Z
UID:39222-1658581200-1658592000@arocha.ca
SUMMARY:Discovery Day at Cedar Haven
DESCRIPTION:Come discover Cedar Haven\nJoin us for a day of learning and exploration at the Cedar Haven Eco-Centre: enjoy guided tours and talks that showcase the centre\, our programs and A Rocha’s work of stewardship across the country. \n\nDiscovery Day Schedule\nCome for the entire afternoon\, or for a specific talk — either way\, please sign up below so we know you are coming. We look forward to seeing you at Cedar Haven! \n1:00 pm — Making Connections with Anthony Siegrist (Ontario Director)\nOur new director\, Anthony\, will introduce himself and share a bit about where A Rocha Ontario is headed. Together we’ll reflect on some of the connections that make living in God’s creation so rich and interesting. \n1:45 pm — Nature Lesson with Jacoba Buist (Education Program Coordinator)\nOur kids education is taking off! Jacoba will walk us through a nature lesson\, and share a bit about what makes Cedar Haven programs like Nature Academy and Wild Things day camp so special. (Adults are also encouraged to participate!) \n2:45 pm — Biodiversity Tour with Alan Constant (past Conservation Assistant)\nAlan has spent three summers monitoring species and restoring habitats at Cedar Haven. Come learn more about the species we’re observing and how they are being protected. (And how you can help!) \n3:30 pm — Local Actions Matter with Luke Wilson (CEO of A Rocha Canada)\nThe news overwhelms us about our sick planet. A Rocha focuses on place based conservation and education. Catalyzing hope and community. Luke will be discussing why and how change at the local level can make a world of difference. \n\nSign up Here\nSigning up lets us know you’re coming\, plus we’ll let let you know if there are any shifts in the weather or event updates. \n\n\n\n\n\n\n\n\nWhat to Bring\n\nWear proper footwear and remember to dress according to the weather.\nFeel free to bring along a picnic lunch or a snack to enjoy with your friends and family.\nWater will be available\, but please bring a water bottle with you.\nA suggested donation of $10 is appreciated to help us keep doing the work we do. (Thanks!)
URL:https://arocha.ca/event/discovery-day-at-cedar-haven/
LOCATION:Cedar Haven Eco-Centre\, 1039 97\, Freelton\, Ontario\, L0R 1K0\, Canada
CATEGORIES:Hamilton,ON Special Events,Ontario
ATTACH;FMTTYPE=image/jpeg:https://arocha.ca/wp-content/uploads/2022/06/DSC_0051-scaled.jpg
ORGANIZER;CN="A Rocha Ontario":MAILTO:ontario@arocha.ca
END:VEVENT
END:VCALENDAR