BEGIN:VCALENDAR
VERSION:2.0
PRODID:-//A Rocha - ECPv6.15.19//NONSGML v1.0//EN
CALSCALE:GREGORIAN
METHOD:PUBLISH
X-ORIGINAL-URL:https://arocha.ca
X-WR-CALDESC:Events for A Rocha
REFRESH-INTERVAL;VALUE=DURATION:PT1H
X-Robots-Tag:noindex
X-PUBLISHED-TTL:PT1H
BEGIN:VTIMEZONE
TZID:America/Toronto
BEGIN:DAYLIGHT
TZOFFSETFROM:-0500
TZOFFSETTO:-0400
TZNAME:EDT
DTSTART:20210314T070000
END:DAYLIGHT
BEGIN:STANDARD
TZOFFSETFROM:-0400
TZOFFSETTO:-0500
TZNAME:EST
DTSTART:20211107T060000
END:STANDARD
BEGIN:DAYLIGHT
TZOFFSETFROM:-0500
TZOFFSETTO:-0400
TZNAME:EDT
DTSTART:20220313T070000
END:DAYLIGHT
BEGIN:STANDARD
TZOFFSETFROM:-0400
TZOFFSETTO:-0500
TZNAME:EST
DTSTART:20221106T060000
END:STANDARD
BEGIN:DAYLIGHT
TZOFFSETFROM:-0500
TZOFFSETTO:-0400
TZNAME:EDT
DTSTART:20230312T070000
END:DAYLIGHT
BEGIN:STANDARD
TZOFFSETFROM:-0400
TZOFFSETTO:-0500
TZNAME:EST
DTSTART:20231105T060000
END:STANDARD
END:VTIMEZONE
BEGIN:VTIMEZONE
TZID:America/Vancouver
BEGIN:DAYLIGHT
TZOFFSETFROM:-0800
TZOFFSETTO:-0700
TZNAME:PDT
DTSTART:20210314T100000
END:DAYLIGHT
BEGIN:STANDARD
TZOFFSETFROM:-0700
TZOFFSETTO:-0800
TZNAME:PST
DTSTART:20211107T090000
END:STANDARD
BEGIN:DAYLIGHT
TZOFFSETFROM:-0800
TZOFFSETTO:-0700
TZNAME:PDT
DTSTART:20220313T100000
END:DAYLIGHT
BEGIN:STANDARD
TZOFFSETFROM:-0700
TZOFFSETTO:-0800
TZNAME:PST
DTSTART:20221106T090000
END:STANDARD
BEGIN:DAYLIGHT
TZOFFSETFROM:-0800
TZOFFSETTO:-0700
TZNAME:PDT
DTSTART:20230312T100000
END:DAYLIGHT
BEGIN:STANDARD
TZOFFSETFROM:-0700
TZOFFSETTO:-0800
TZNAME:PST
DTSTART:20231105T090000
END:STANDARD
END:VTIMEZONE
BEGIN:VEVENT
DTSTART;VALUE=DATE:20220418
DTEND;VALUE=DATE:20220625
DTSTAMP:20260424T073401
CREATED:20220210T000156Z
LAST-MODIFIED:20220216T233908Z
UID:37939-1650240000-1656115199@arocha.ca
SUMMARY:Nature Academy (Spring 2022)
DESCRIPTION:An outdoor school for hands-on science\, wilderness skills\, gardening\, and child-led nature exploration. Learn more. \nPayment & Registration\nAfter purchasing your Eventbrite ticket(s)\, please make sure to also fill out the registration form. \n*If you are registering more than one child\, click the blue “Enter promo code” button at the top of the tickets page and enter FAM10 for a 10% discount on your order! (If you are having trouble finding it\, feel free to email us at nature.academy@arocha.ca for support before paying as we are unable to provide refunds regarding this after payment is complete.) \n\n\n\n\nREGISTRATION FORM×\n\n\n    \n    \n            \n\n    \n\n    \n    \n    \n    \n        \n\n\n    \n\n\n\n    \n    \n\nNature Academy Registration\n\n\nStudent Information\nGeneral Information\n\nFirst Name\n\n\nLast Name\n\n\nDate of Birth\n\n\nAgePlease select...\n4\n5\n6\n7\n8\n9\n10\n11\n12\n13\n\n\nHome Address\n\n\nPlease upload a picture of the student so we can get to know them before they arrive!\n*This photo will not be used in any A Rocha marketing or media.\n\n\n\n\nMedical Information\n\nOHIP Number\n\n\nFamily Doctor\n\n\nFamily Doctor Phone Number\n\n\nDoes your child have any Health Concerns? (Social\, emotional\, physical\, medical\, behavioural\, developmental\, or otherwise?) Please explain. Any information will help us to support your child.\n\n\nDoes your child have any Allergies? Please explain.\n\n\nDoes your child carry an Epipen?YesNo\n\n\nDoes your child have any dietary restrictions? Please list them below.\n\n\n\nNature Academy Class\nEach class considers the learning level and abilities at each age\, and follows a curriculum aligned with the Ontario Curriculum learning objectives for that grade.\n\nWhat class will the student be joining?\nPlease select...\nClouds (Ages 4-5\, JK-SK) — Wednesday\nDrays (Ages 6-7\, Gr. 1-2) — Wednesday\nDrays (Ages 6-7\, Gr. 1-2) — Friday\nSleuths (Ages 8-9\, Gr. 3-4) — FridayPlease refer to your Eventbrite email confirmation to ensure that you choose the correct class group.\n\n\n\nIf you are registering a student in a class outside of their age range or grade level\, please indicate why:\n\n\n\nMedia Consent\n\nI hereby grant A Rocha Canada (ARC) the absolute right and permission to use\, re-use and distribute\, without financial consideration\, photographs\, video and/or audio of my child (named above) in any and all media\, in perpetuity. I also consent to the use by ARC of my child's (named above) personal story for use in any media.YesNo\n\n\n\nParent/Guardian Name (First and Last)\nThis will act as an electronic signature\, confirming that you haveread and agree to the terms above.\n\n\n\nDate\n\n\n\n\nLiability Waiver\nThe Nature Academy promotes "hands-on" education. While every program activity is appropriately designed for each age group\, and carefully taught and supervised by our staff\, there are risks involved. A Rocha Canada and Staff will not be held liable for any injury sustained during program activities.By submitting your name below\, you as the parent or legal guardian of the child registered\, acknowledge the possible risks\, dangers and hazards associated with participation in the activities\, and allow for your child to participate in all activities related to the Nature Academy program.\n\nParent/Guardian Name (First and Last)\nThis will act as an electronic signature\, confirming that you haveread and agree to the terms above.\n\n\n\nDate\n\n\n\nRegistering another Student?If you are registering more than one student in the same family\, they must share the same Family Information below\, including Primary Parent/Guardian; Second Parent/Guardian or Emergency Contact; and Carpooling details. Additionally\, all students registered on this form must be paid for together.\n\n\n\nFamily Information\nPrimary Parent/Guardian\n\n\nFirst and Last Name\n\n\nRelation to the Student\n\n\n\n\nPhone Number\n\n\nSecondary Phone Number\n\n\n\n\nEmail\nThis email will receive all Nature Academy communicationand important program announcements.\n\n\nYes\, I want hopeful creation care news\nin my inbox every month!\n\n\nHome Address\n\n\n\nSecond Parent/Guardian or Emergency Contact\nIn case of emergency\, where the Primary Parent/Guardian cannot be reached\, this person will be contacted.\n\n\nFirst and Last Name\n\n\nRelation to the Student\n\n\n\n\nPhone Number\n\n\nSecondary Phone Number\n\n\n\n\nEmail\nThis email will receive all Nature Academy communicationand important program announcements.\n\n\nYes\, I want hopeful creation care news\nin my inbox every month!\n\n\n\nCarpooling?\n\nPlease list the names (First and Last) of any adults not mentioned above who are allowed to pick up your child(ren) after class.\n\n\n\n\nConfirmation\nBy submitting your name (first and last) below — as an electronic signature — you\, as the parent or legal guardian of the child(ren) being registered\, confirm that the information above is accurate.\n\n\n\n\n\n\nContact Information \n  \n       \n \nClose
URL:https://arocha.ca/event/nature-academy-spring-term/
LOCATION:Cedar Haven Eco-Centre\, 1039 97\, Freelton\, Ontario\, L0R 1K0\, Canada
CATEGORIES:Nature Academy,Ontario
ATTACH;FMTTYPE=image/jpeg:https://arocha.ca/wp-content/uploads/2021/01/DSC_0011-1-scaled.jpg
ORGANIZER;CN="A Rocha Ontario":MAILTO:ontario@arocha.ca
END:VEVENT
BEGIN:VEVENT
DTSTART;TZID=America/Vancouver:20220628T170000
DTEND;TZID=America/Vancouver:20220628T180000
DTSTAMP:20260424T073401
CREATED:20220617T105618Z
LAST-MODIFIED:20220707T235203Z
UID:39886-1656435600-1656439200@arocha.ca
SUMMARY:Church Earthkeepers Meet-Up
DESCRIPTION:Once a month meet-up with people mobilizing earthkeeping at churches.\nAre you mobilizing your church to care for creation? Do you wish more people shared your interest? Then join like-minded folks for a Church Earthkeepers Meet-Up. At these monthly sessions we’ll learn from each other by swapping stories as a way to encourage and equip us to catalyze earthkeeping at church. Come prepared to share your ideas and to hear what works for others as we build a network of regular people working to care for creation within a local church setting. \nThese online gatherings will take place the last Tuesday of every month at 5 PM – 6 PM Pacific Time (8 PM – 9 PM Eastern Time). The following are the scheduled dates for the next six months: \n\nJune 28\nJuly 26\nAugust 30\nSeptember 27\nOctober 25\nNovember 29\n\nDetails including the Zoom link will be available upon registration.
URL:https://arocha.ca/event/church-earthkeepers-meet-up/
LOCATION:Online
CATEGORIES:Brooksdale,Manitoba,Northern BC,Online Programming,Ontario
ATTACH;FMTTYPE=image/png:https://arocha.ca/wp-content/uploads/2022/06/Picture1.png
END:VEVENT
BEGIN:VEVENT
DTSTART;TZID=America/Vancouver:20220630T170000
DTEND;TZID=America/Vancouver:20220630T181500
DTSTAMP:20260424T073401
CREATED:20220617T111748Z
LAST-MODIFIED:20220617T200417Z
UID:39895-1656608400-1656612900@arocha.ca
SUMMARY:A Rocha Talks: Responding to the Groaning of Creation in a Changing Climate
DESCRIPTION:Stories of Christian climate activism\, from organizing prayer gatherings to witnessing at the international climate negotiations.\nClimate change is affecting everyone on earth. But so often the solutions feel out of reach. What can “little-old-me” do in the face of such a complex web of global\, interconnected problems? In this A Rocha Talk we’ll hear from people that have used the weight of ecological concerns to fuel action and engagement. Learn how you\, too\, can join in responding to the groaning of creation and the renewal of all things. \nWe will converse with: \n\nLowell Bliss\, a missionary with more than 15 years of experience in mobilizing Christians in climate actions\, the co-funding director of Christian Climate Observers Program (CCOP) and the Climate Intercessors initiative.\nPeter Fargo\, a national park manager turned climate advocate in recent years\, and now the co-founder of Climate Vigil.\nEllie Auton-Strolz\, a former intern at A Rocha’s Brooksdale Centre\, currently studying at UBC. She participated at the UN Climate Change Conference (COP26) in Glasgow UK last November through CCOP.
URL:https://arocha.ca/event/responding-to-groaning-of-creation/
LOCATION:Online
CATEGORIES:Brooksdale,Manitoba,Northern BC,Online Programming,Ontario
ATTACH;FMTTYPE=image/png:https://arocha.ca/wp-content/uploads/2022/06/Picture2.png
END:VEVENT
END:VCALENDAR