BEGIN:VCALENDAR
VERSION:2.0
PRODID:-//A Rocha - ECPv6.15.19//NONSGML v1.0//EN
CALSCALE:GREGORIAN
METHOD:PUBLISH
X-WR-CALNAME:A Rocha
X-ORIGINAL-URL:https://arocha.ca
X-WR-CALDESC:Events for A Rocha
REFRESH-INTERVAL;VALUE=DURATION:PT1H
X-Robots-Tag:noindex
X-PUBLISHED-TTL:PT1H
BEGIN:VTIMEZONE
TZID:America/Vancouver
BEGIN:DAYLIGHT
TZOFFSETFROM:-0800
TZOFFSETTO:-0700
TZNAME:PDT
DTSTART:20240310T100000
END:DAYLIGHT
BEGIN:STANDARD
TZOFFSETFROM:-0700
TZOFFSETTO:-0800
TZNAME:PST
DTSTART:20241103T090000
END:STANDARD
BEGIN:DAYLIGHT
TZOFFSETFROM:-0800
TZOFFSETTO:-0700
TZNAME:PDT
DTSTART:20250309T100000
END:DAYLIGHT
BEGIN:STANDARD
TZOFFSETFROM:-0700
TZOFFSETTO:-0800
TZNAME:PST
DTSTART:20251102T090000
END:STANDARD
BEGIN:DAYLIGHT
TZOFFSETFROM:-0800
TZOFFSETTO:-0700
TZNAME:PDT
DTSTART:20260308T100000
END:DAYLIGHT
BEGIN:STANDARD
TZOFFSETFROM:-0700
TZOFFSETTO:-0800
TZNAME:PST
DTSTART:20261101T090000
END:STANDARD
END:VTIMEZONE
BEGIN:VEVENT
DTSTART;TZID=America/Vancouver:20251105T190000
DTEND;TZID=America/Vancouver:20251105T203000
DTSTAMP:20260421T033004
CREATED:20251021T195345Z
LAST-MODIFIED:20251021T195612Z
UID:51560-1762369200-1762374600@arocha.ca
SUMMARY:Northern BC Nature Journaling Adventure (6 weeks) - Fall 2025
DESCRIPTION:Northern BC Nature Journaling Adventure – Fall 2025  (6 weeks)\nGive yourself the gift of time\, creativity and curiosity this fall! Join us for a six-week adventure through the world of nature journaling\n\n\n\n\n\nLearn new skills\, meet new friends and connect with the natural world in a way that is both creative and scientific. No experience necessary. All you need are your 5 senses and the willingness to try! \nWhat to expect: Develop your observation skills\, explore nature journaling techniques including sketching\, adding color\, playing with words\, and finding numbers in nature and unlock your curiosity and wonder. \nWednesday nights @ 7 pm starting November 5 to December 10\, 2025. \nOnly 12 spots available (Min. 4 students to run). \nPayment must be received before your spot is secured. \nAges 12+ (children under 16 must be accompanied by an adult). \nNo art\, science or writing experience necessary. \nSign up below\, or for more information call 778-642-3897 or email cindy.verbeek@arocha.ca
URL:https://arocha.ca/event/nature-journaling-adventure-fall-2025/
LOCATION:Buck Creek Hatchery and Nature Centre\, 3125 Highway 16\, Houston\, British Columbia\, V0J 1Z0\, Canada
CATEGORIES:BC Special Events,Northern BC
ATTACH;FMTTYPE=image/jpeg:https://arocha.ca/wp-content/uploads/2025/10/AR_naturejournaling_event.jpg
ORGANIZER;CN="A Rocha Northern BC":MAILTO:houston.bc@arocha.ca
END:VEVENT
BEGIN:VEVENT
DTSTART;TZID=America/Vancouver:20251110T090000
DTEND;TZID=America/Vancouver:20251110T150000
DTSTAMP:20260421T033004
CREATED:20251021T200851Z
LAST-MODIFIED:20251021T200918Z
UID:51579-1762765200-1762786800@arocha.ca
SUMMARY:Gearing up for Winter: NID Camp (Northern BC)
DESCRIPTION:Gearing up for Winter NID Camp\n\n\n\n\n\n\n\n\n\n\nDiscover what the plants and animals around us are doing to gear up for winter in this hands on\, outdoor exploration day camp. \nAges: 6-11 \nTime: 9:00-3:00 \nCost $40 per child. \nLocation: Buck Creek Canfor Hatchery & Nature Centre\, Houston BC \nMaximum: 15 children \nInstruction: Dress for the weather. Bring your own lunch\, snacks and water bottle.
URL:https://arocha.ca/event/gearing-up-for-winter-nid-camp/
LOCATION:Buck Creek Hatchery and Nature Centre\, 3125 Highway 16\, Houston\, British Columbia\, V0J 1Z0\, Canada
CATEGORIES:Day Camps,Northern BC
ATTACH;FMTTYPE=image/jpeg:https://arocha.ca/wp-content/uploads/2025/10/squirl.jpg
ORGANIZER;CN="A Rocha Northern BC":MAILTO:houston.bc@arocha.ca
END:VEVENT
END:VCALENDAR