BEGIN:VCALENDAR
VERSION:2.0
PRODID:-//A Rocha - ECPv6.15.19//NONSGML v1.0//EN
CALSCALE:GREGORIAN
METHOD:PUBLISH
X-ORIGINAL-URL:https://arocha.ca
X-WR-CALDESC:Events for A Rocha
REFRESH-INTERVAL;VALUE=DURATION:PT1H
X-Robots-Tag:noindex
X-PUBLISHED-TTL:PT1H
BEGIN:VTIMEZONE
TZID:America/Vancouver
BEGIN:DAYLIGHT
TZOFFSETFROM:-0800
TZOFFSETTO:-0700
TZNAME:PDT
DTSTART:20240310T100000
END:DAYLIGHT
BEGIN:STANDARD
TZOFFSETFROM:-0700
TZOFFSETTO:-0800
TZNAME:PST
DTSTART:20241103T090000
END:STANDARD
BEGIN:DAYLIGHT
TZOFFSETFROM:-0800
TZOFFSETTO:-0700
TZNAME:PDT
DTSTART:20250309T100000
END:DAYLIGHT
BEGIN:STANDARD
TZOFFSETFROM:-0700
TZOFFSETTO:-0800
TZNAME:PST
DTSTART:20251102T090000
END:STANDARD
BEGIN:DAYLIGHT
TZOFFSETFROM:-0800
TZOFFSETTO:-0700
TZNAME:PDT
DTSTART:20260308T100000
END:DAYLIGHT
BEGIN:STANDARD
TZOFFSETFROM:-0700
TZOFFSETTO:-0800
TZNAME:PST
DTSTART:20261101T090000
END:STANDARD
END:VTIMEZONE
BEGIN:VEVENT
DTSTART;TZID=America/Vancouver:20250607T110000
DTEND;TZID=America/Vancouver:20250607T140000
DTSTAMP:20260421T154403
CREATED:20250415T213352Z
LAST-MODIFIED:20250425T233011Z
UID:49670-1749294000-1749304800@arocha.ca
SUMMARY:Goodbye Fry (Houston\, BC)
DESCRIPTION:Join us for our annual Goodbye Fry event where you get to release your own coho salmon into Buck Creek!\nRelease a coho salmon fry at the Buck Creek Hatchery and Nature Centre in Houston on Saturday\, June 7 from 11am to 2 pm. Free event. BBQ from 12pm-1pm. \nJoin us and learn about the salmon life cycle\, search the aquatic insects aquarium\, create habitat in the augmented reality sand table\, make a salmon craft and read the salmon story walk. Enter the draw to win prizes! \nSpecial guests: Watch here for who will be joining us this year with a special booth and/or activity!
URL:https://arocha.ca/event/goodbye-fry-houston-bc-2025/
LOCATION:Buck Creek Hatchery and Nature Centre\, 3125 Highway 16\, Houston\, British Columbia\, V0J 1Z0\, Canada
CATEGORIES:Northern BC
ATTACH;FMTTYPE=image/jpeg:https://arocha.ca/wp-content/uploads/2024/02/PXL_20230610_182540205-scaled.jpg
ORGANIZER;CN="A Rocha Northern BC":MAILTO:houston.bc@arocha.ca
END:VEVENT
BEGIN:VEVENT
DTSTART;VALUE=DATE:20250613
DTEND;VALUE=DATE:20250616
DTSTAMP:20260421T154403
CREATED:20250405T204046Z
LAST-MODIFIED:20250512T194321Z
UID:49437-1749772800-1750031999@arocha.ca
SUMMARY:Nature Journaling Retreat
DESCRIPTION:Nature Journaling Weekend Retreat at Camp Caledonia on Tyhee Lake\nGive yourself the gift of time\, creativity and curiosity!\n\n\nJoin us for a weekend adventure through the world of nature journaling at the beautiful Camp Caledonia on Tyhee Lake in Telkwa\, BC. Learn new skills\, meet new friends and connect with the natural world in a way that is both creative and scientific. No experience necessary. All you need is your 5 senses and the willingness to try!\n\n\nWhat to expect:\nDevelop your observation skills\, explore nature journaling techniques including sketching\, adding color\, playing with words\, and finding numbers in nature. See the world in a whole new way and be inspired by curiosity and wonder.\n\n\nStarting June 13 @ 5 pm\nEnding June 15 @ 1pm\n\n\nCost includes: Meals\, accommodations\, instructional sessions\, yoga and supplies.\n\n\nLocation: Camp Caledonia (affectionately known as “Camp Cal”)\, is a multi-use facility located on the edge of beautiful Tyhee Lake. The camp is located on the Telkwa High Road between Telkwa and Smithers\, in northern British Columbia.\n\n\nYou will have your choice of accommodations including: Shared cabin\, private room in main building\, shared room in main building or bring your own tent or trailer.\n\nSessions include:\n\nNature Journaling tips and tricks\nWooing the Natural World with Words: Powerful tools to capture and share special moments in nature with local writer\, Jamie Bastedo\nNature Sketching with Pencil and Pen with local artist\, Shannon Goodhead\nAdding life to your Journaling with Watercolor with local artist\, Jill Dunbar\nYoga for mindfulness and connection with local yoga instructor Phillipa Beck\nLearning to observe like a naturalist with local nature educator\, Cindy Verbeek\n\nClick here to meet the workshop leaders and get a sneak peek at what each workshop will cover.\n\nOnly 12 spots available. Payment must be received before your spot is secured.\n\nBeginner and experienced artists\, writers and naturalists welcome. Adults only. No children please.\n\nClick here to register or call 778-642-3897 or email cindy.verbeek@arocha.ca
URL:https://arocha.ca/event/nature-journaling-retreat/
LOCATION:Camp Caledonia\, 2818 Telkwa High Rd\, Telkwa\, British Columbia\, V0J 2X1\, Canada
CATEGORIES:BC Special Events,Northern BC
ATTACH;FMTTYPE=image/jpeg:https://arocha.ca/wp-content/uploads/2025/03/2024-06-30-19.41.03-scaled.jpg
ORGANIZER;CN="A Rocha Northern BC":MAILTO:houston.bc@arocha.ca
END:VEVENT
BEGIN:VEVENT
DTSTART;TZID=America/Vancouver:20250621T090000
DTEND;TZID=America/Vancouver:20250830T130000
DTSTAMP:20260421T154403
CREATED:20250616T211014Z
LAST-MODIFIED:20250618T191950Z
UID:50193-1750496400-1756558800@arocha.ca
SUMMARY:Flea Market (Houston\, BC)
DESCRIPTION:Save the dates! \nJune 21\, July 12\, August 9\, August 30.\n9am-1pm\nInterested in being a vendor at our flea market? Space rental starts from $10/day. \nBook a space here to sell your second hand or handmade items.\nAll proceeds from space rental supports nature education and riverside restoration work at A Rocha Canada’s Buck Creek Hatchery and Nature Centre. \n\n10 x 10 space (bring your own tent and tables) = $20/day\n10 x 10 space (2 tables provided\, bring your own tent) = $30/day\n8 x 6 space (bring your own table) = $10/day\n8 x 6 space (one table provided) = $15/day
URL:https://arocha.ca/event/flea-market-houston-summer-2025/
LOCATION:Buck Creek Hatchery and Nature Centre\, 3125 Highway 16\, Houston\, British Columbia\, V0J 1Z0\, Canada
CATEGORIES:Northern BC
ATTACH;FMTTYPE=image/jpeg:https://arocha.ca/wp-content/uploads/2025/06/Saturday-20-25-August.jpg
ORGANIZER;CN="A Rocha Northern BC":MAILTO:houston.bc@arocha.ca
END:VEVENT
END:VCALENDAR