BEGIN:VCALENDAR
VERSION:2.0
PRODID:-//A Rocha - ECPv6.15.19//NONSGML v1.0//EN
CALSCALE:GREGORIAN
METHOD:PUBLISH
X-ORIGINAL-URL:https://arocha.ca
X-WR-CALDESC:Events for A Rocha
REFRESH-INTERVAL;VALUE=DURATION:PT1H
X-Robots-Tag:noindex
X-PUBLISHED-TTL:PT1H
BEGIN:VTIMEZONE
TZID:America/Vancouver
BEGIN:DAYLIGHT
TZOFFSETFROM:-0800
TZOFFSETTO:-0700
TZNAME:PDT
DTSTART:20230312T100000
END:DAYLIGHT
BEGIN:STANDARD
TZOFFSETFROM:-0700
TZOFFSETTO:-0800
TZNAME:PST
DTSTART:20231105T090000
END:STANDARD
BEGIN:DAYLIGHT
TZOFFSETFROM:-0800
TZOFFSETTO:-0700
TZNAME:PDT
DTSTART:20240310T100000
END:DAYLIGHT
BEGIN:STANDARD
TZOFFSETFROM:-0700
TZOFFSETTO:-0800
TZNAME:PST
DTSTART:20241103T090000
END:STANDARD
BEGIN:DAYLIGHT
TZOFFSETFROM:-0800
TZOFFSETTO:-0700
TZNAME:PDT
DTSTART:20250309T100000
END:DAYLIGHT
BEGIN:STANDARD
TZOFFSETFROM:-0700
TZOFFSETTO:-0800
TZNAME:PST
DTSTART:20251102T090000
END:STANDARD
END:VTIMEZONE
BEGIN:VEVENT
DTSTART;TZID=America/Vancouver:20240717T100000
DTEND;TZID=America/Vancouver:20240718T150000
DTSTAMP:20260424T153035
CREATED:20240527T161523Z
LAST-MODIFIED:20240527T161643Z
UID:47463-1721210400-1721314800@arocha.ca
SUMMARY:Nature Discovery Days (Houston\, BC)
DESCRIPTION:Kids Nature Days\n\nNature Detectives! Find clues to what plants and animals live in the forest and fields and water near the Buck Creek Hatchery and Nature Centre in Houston\, BC. \nAges: 6-12 years \nDates: Wednesday\, July 17 and Thursday\, July 18 \nTime: 10 am – 3 pm \nMax 30 kids per day \nCost: $40/day(You can register for one or both days) \nWhere: Buck Creek Hatchery and Nature Centre\, 3125 Highway 16\, Houston\, BC \nInstructions: Bring your own lunch\, snacks\, and water bottle. And dress for the weather – we will be exploring outside rain or shine! \nQuestions? Call 778-642-3897 or email houston.bc@arocha.ca \nA Rocha is a Christian environmental stewardship organization and our discovery days will include short reflections on Creation Care.
URL:https://arocha.ca/event/nature-discovery-days-july-houston-bc/
LOCATION:Buck Creek Hatchery and Nature Centre\, 3125 Highway 16\, Houston\, British Columbia\, V0J 1Z0\, Canada
CATEGORIES:Day Camps,Northern BC
ATTACH;FMTTYPE=image/jpeg:https://arocha.ca/wp-content/uploads/2024/05/2022-08-20-14.56.03-2-Anna-Currie-releasing-Mourning-Cloak-Buttefly-scaled.jpg
ORGANIZER;CN="A Rocha Northern BC":MAILTO:houston.bc@arocha.ca
END:VEVENT
BEGIN:VEVENT
DTSTART;TZID=America/Vancouver:20240730T170000
DTEND;TZID=America/Vancouver:20240730T180000
DTSTAMP:20260424T153035
CREATED:20240717T210751Z
LAST-MODIFIED:20240717T211631Z
UID:47775-1722358800-1722362400@arocha.ca
SUMMARY:Church EarthKeepers Meet-Up (July 2024)
DESCRIPTION:Once a month meet-up with people mobilizing earthkeeping at churches. \nAre you mobilizing your church to care for creation? Do you wish more people shared your interest? Then join like-minded folks for a Church Earthkeepers Meet-Up. At these monthly sessions we’ll learn from each other by swapping stories as a way to encourage and equip us to catalyze earthkeeping at church. Come prepared to share your ideas and to hear what works for others as we build a network of regular people working to care for creation within a local church setting. \nThese online gatherings will take place the last Tuesday of every month at 5 PM – 6 PM Pacific Time (8 PM – 9 PM Eastern Time). The following are the scheduled dates for the next five months: \n\nJuly 30\nAugust 27\nSeptember 24\nOctober 29\nNovember 26\n\nDetails including the Zoom link will be available upon registration. \n\nBuy Tickets on Eventbrite\n\nBuy Tickets
URL:https://arocha.ca/event/church-earthkeepers-meet-up-july-2024/
LOCATION:Online
CATEGORIES:BC Special Events,Brooksdale,Manitoba,MB Special Events,Northern BC,ON Special Events,Online Programming,Ontario,Special Events
ATTACH;FMTTYPE=image/jpeg:https://arocha.ca/wp-content/uploads/2024/07/Day-1-Sessions-by-Tim-Hall001-scaled.jpg
END:VEVENT
END:VCALENDAR