BEGIN:VCALENDAR
VERSION:2.0
PRODID:-//A Rocha - ECPv6.15.19//NONSGML v1.0//EN
CALSCALE:GREGORIAN
METHOD:PUBLISH
X-ORIGINAL-URL:https://arocha.ca
X-WR-CALDESC:Events for A Rocha
REFRESH-INTERVAL;VALUE=DURATION:PT1H
X-Robots-Tag:noindex
X-PUBLISHED-TTL:PT1H
BEGIN:VTIMEZONE
TZID:America/Vancouver
BEGIN:DAYLIGHT
TZOFFSETFROM:-0800
TZOFFSETTO:-0700
TZNAME:PDT
DTSTART:20230312T100000
END:DAYLIGHT
BEGIN:STANDARD
TZOFFSETFROM:-0700
TZOFFSETTO:-0800
TZNAME:PST
DTSTART:20231105T090000
END:STANDARD
BEGIN:DAYLIGHT
TZOFFSETFROM:-0800
TZOFFSETTO:-0700
TZNAME:PDT
DTSTART:20240310T100000
END:DAYLIGHT
BEGIN:STANDARD
TZOFFSETFROM:-0700
TZOFFSETTO:-0800
TZNAME:PST
DTSTART:20241103T090000
END:STANDARD
BEGIN:DAYLIGHT
TZOFFSETFROM:-0800
TZOFFSETTO:-0700
TZNAME:PDT
DTSTART:20250309T100000
END:DAYLIGHT
BEGIN:STANDARD
TZOFFSETFROM:-0700
TZOFFSETTO:-0800
TZNAME:PST
DTSTART:20251102T090000
END:STANDARD
END:VTIMEZONE
BEGIN:VEVENT
DTSTART;TZID=America/Vancouver:20240608T110000
DTEND;TZID=America/Vancouver:20240608T140000
DTSTAMP:20260424T170707
CREATED:20240221T201001Z
LAST-MODIFIED:20240527T165357Z
UID:45414-1717844400-1717855200@arocha.ca
SUMMARY:Goodbye Fry (Houston\, BC)
DESCRIPTION:Join us for our annual Goodbye Fry event where you get to release your own coho salmon into Buck Creek!\nRelease a coho salmon fry at the Buck Creek Hatchery and Nature Centre in Houston on Saturday\, June 8 from 11am to 12 noon. Free event. Fundraising BBQ from 12pm-1pm. \nJoin us for a salmon life cycle obstacle course\, casting competition\, aquatic insects aquarium\, sand table\, crafts and salmon story walk. Enter the draw to win prizes! \nSpecial guests: Department of Fisheries & Oceans\, Skeena Knowledge Trust\, Houston Link to Learning\, Canfor\, Office of the Wet’suwet’en\, The Palisades Cafe
URL:https://arocha.ca/event/goodbye-fry-2024-houston/
LOCATION:Buck Creek Hatchery and Nature Centre\, 3125 Highway 16\, Houston\, British Columbia\, V0J 1Z0\, Canada
CATEGORIES:Northern BC
ATTACH;FMTTYPE=image/jpeg:https://arocha.ca/wp-content/uploads/2024/02/PXL_20230610_182540205-scaled.jpg
ORGANIZER;CN="A Rocha Northern BC":MAILTO:houston.bc@arocha.ca
END:VEVENT
BEGIN:VEVENT
DTSTART;TZID=America/Vancouver:20240625T170000
DTEND;TZID=America/Vancouver:20240625T180000
DTSTAMP:20260424T170707
CREATED:20240624T202648Z
LAST-MODIFIED:20240624T202949Z
UID:47654-1719334800-1719338400@arocha.ca
SUMMARY:Church EarthKeepers Meet-Up (June 2024)
DESCRIPTION:Once a month meet-up with people mobilizing earthkeeping at churches. \nAre you mobilizing your church to care for creation? Do you wish more people shared your interest? Then join like-minded folks for a Church Earthkeepers Meet-Up. At these monthly sessions we’ll learn from each other by swapping stories as a way to encourage and equip us to catalyze earthkeeping at church. Come prepared to share your ideas and to hear what works for others as we build a network of regular people working to care for creation within a local church setting. \nThese online gatherings will take place the last Tuesday of every month at 5 PM – 6 PM Pacific Time (8 PM – 9 PM Eastern Time). The following are the scheduled dates for the next five months: \n\nJune 25\nJuly 30\nAugust 27\nSeptember 24\nOctober 29\n\nDetails including the Zoom link will be available upon registration. \n\nBuy Tickets on Eventbrite\n\nBuy Tickets
URL:https://arocha.ca/event/church-earthkeepers-meet-up-june-2024/
LOCATION:British Columbia
CATEGORIES:BC Special Events,Brooksdale,Manitoba,MB Special Events,Northern BC,Online Programming,Ontario,Special Events
ATTACH;FMTTYPE=image/jpeg:https://arocha.ca/wp-content/uploads/2024/06/Day-1-Sessions-by-Tim-Hall001-scaled.jpg
END:VEVENT
END:VCALENDAR