BEGIN:VCALENDAR
VERSION:2.0
PRODID:-//A Rocha - ECPv6.15.19//NONSGML v1.0//EN
CALSCALE:GREGORIAN
METHOD:PUBLISH
X-ORIGINAL-URL:https://arocha.ca
X-WR-CALDESC:Events for A Rocha
REFRESH-INTERVAL;VALUE=DURATION:PT1H
X-Robots-Tag:noindex
X-PUBLISHED-TTL:PT1H
BEGIN:VTIMEZONE
TZID:America/Vancouver
BEGIN:DAYLIGHT
TZOFFSETFROM:-0800
TZOFFSETTO:-0700
TZNAME:PDT
DTSTART:20220313T100000
END:DAYLIGHT
BEGIN:STANDARD
TZOFFSETFROM:-0700
TZOFFSETTO:-0800
TZNAME:PST
DTSTART:20221106T090000
END:STANDARD
BEGIN:DAYLIGHT
TZOFFSETFROM:-0800
TZOFFSETTO:-0700
TZNAME:PDT
DTSTART:20230312T100000
END:DAYLIGHT
BEGIN:STANDARD
TZOFFSETFROM:-0700
TZOFFSETTO:-0800
TZNAME:PST
DTSTART:20231105T090000
END:STANDARD
BEGIN:DAYLIGHT
TZOFFSETFROM:-0800
TZOFFSETTO:-0700
TZNAME:PDT
DTSTART:20240310T100000
END:DAYLIGHT
BEGIN:STANDARD
TZOFFSETFROM:-0700
TZOFFSETTO:-0800
TZNAME:PST
DTSTART:20241103T090000
END:STANDARD
END:VTIMEZONE
BEGIN:VEVENT
DTSTART;TZID=America/Vancouver:20230901T160000
DTEND;TZID=America/Vancouver:20230902T120000
DTSTAMP:20260425T093338
CREATED:20230828T154812Z
LAST-MODIFIED:20230901T175039Z
UID:44154-1693584000-1693656000@arocha.ca
SUMMARY:Buck Creek Yard Sale (Houston\, BC)
DESCRIPTION:Yard Sale Fundraiser\nDonate your new or used items and come shop as well! All proceeds support the Nature Centre!\n\nFriday\, Sep. 1 – Drop off donated items 9 am to 2 pm at the nature centre\nFri. Sep. 1 – Sale from 4 pm – 8 pm\nSat. Sep. 2 – Sale from 8 am – 12 noon\nLocation: Buck Creek Canfor Hatchery & Nature Centre\, Houston BC \nCash Only
URL:https://arocha.ca/event/buck-creek-yard-sale-houston/
LOCATION:Buck Creek Hatchery and Nature Centre\, 3125 Highway 16\, Houston\, British Columbia\, V0J 1Z0\, Canada
CATEGORIES:BC Special Events,Northern BC
ATTACH;FMTTYPE=image/png:https://arocha.ca/wp-content/uploads/2023/08/Yard-Sale-Facebook-Post.png
ORGANIZER;CN="A Rocha Northern BC":MAILTO:houston.bc@arocha.ca
END:VEVENT
END:VCALENDAR