BEGIN:VCALENDAR
VERSION:2.0
PRODID:-//A Rocha - ECPv6.15.19//NONSGML v1.0//EN
CALSCALE:GREGORIAN
METHOD:PUBLISH
X-WR-CALNAME:A Rocha
X-ORIGINAL-URL:https://arocha.ca
X-WR-CALDESC:Events for A Rocha
REFRESH-INTERVAL;VALUE=DURATION:PT1H
X-Robots-Tag:noindex
X-PUBLISHED-TTL:PT1H
BEGIN:VTIMEZONE
TZID:UTC
BEGIN:STANDARD
TZOFFSETFROM:+0000
TZOFFSETTO:+0000
TZNAME:UTC
DTSTART:20220101T000000
END:STANDARD
END:VTIMEZONE
BEGIN:VTIMEZONE
TZID:America/Vancouver
BEGIN:DAYLIGHT
TZOFFSETFROM:-0800
TZOFFSETTO:-0700
TZNAME:PDT
DTSTART:20220313T100000
END:DAYLIGHT
BEGIN:STANDARD
TZOFFSETFROM:-0700
TZOFFSETTO:-0800
TZNAME:PST
DTSTART:20221106T090000
END:STANDARD
BEGIN:DAYLIGHT
TZOFFSETFROM:-0800
TZOFFSETTO:-0700
TZNAME:PDT
DTSTART:20230312T100000
END:DAYLIGHT
BEGIN:STANDARD
TZOFFSETFROM:-0700
TZOFFSETTO:-0800
TZNAME:PST
DTSTART:20231105T090000
END:STANDARD
BEGIN:DAYLIGHT
TZOFFSETFROM:-0800
TZOFFSETTO:-0700
TZNAME:PDT
DTSTART:20240310T100000
END:DAYLIGHT
BEGIN:STANDARD
TZOFFSETFROM:-0700
TZOFFSETTO:-0800
TZNAME:PST
DTSTART:20241103T090000
END:STANDARD
END:VTIMEZONE
BEGIN:VEVENT
DTSTART;TZID=UTC:20230706T190000
DTEND;TZID=UTC:20230706T200000
DTSTAMP:20260425T130332
CREATED:20230524T185901Z
LAST-MODIFIED:20230524T185901Z
UID:43623-1688670000-1688673600@arocha.ca
SUMMARY:God's Canvas: Biblical Images of Creation Care (Houston\, BC)
DESCRIPTION:Join us in person or online for a 6-part series on Biblical images of creation care.\nWhen: Weekly on Thursdays* at 7pm – June 8\, 15\, 22\, 29\, and July 6 and 12* (note that July 12 is a Wednesday) \nHosted by Joseph McDaniel\, Summer Conservation Scientist for A Rocha Northern BC \nLocated at the Buck Creek Canfor Hatchery & Nature Centre\, Houston\, BC\, 3125 Hwy 16 W \nIt’s free\, but please sign up here to RSVP/Zoom link: https://forms.gle/uvENe2Sc6QXdgoHA6
URL:https://arocha.ca/event/gods-canvas-biblical-images-of-creation-care-houston-bc-4/
LOCATION:Buck Creek Hatchery and Nature Centre\, 3125 Highway 16\, Houston\, British Columbia\, V0J 1Z0\, Canada
CATEGORIES:Northern BC,Online Programming
ATTACH;FMTTYPE=image/jpeg:https://arocha.ca/wp-content/uploads/2023/05/2022-09-16-11.50.17-scaled.jpg
ORGANIZER;CN="A Rocha Northern BC":MAILTO:houston.bc@arocha.ca
END:VEVENT
BEGIN:VEVENT
DTSTART;TZID=America/Vancouver:20230710T090000
DTEND;TZID=America/Vancouver:20230713T120000
DTSTAMP:20260425T130332
CREATED:20230602T181500Z
LAST-MODIFIED:20230615T192635Z
UID:43739-1688979600-1689249600@arocha.ca
SUMMARY:Explore Outdoors | Kids Nature Camp (Houston\, BC)
DESCRIPTION:Kids Nature Camp\n\nSpend four days this summer using all 5 of your senses to explore the forests and fields near the Buck Creek Hatchery and Nature Centre. Learn about the creatures and plants we encounter and how they play an important role in keeping our air\, water and soil healthy. \nParents/guardians are invited to a short presentation by the children followed by a BBQ lunch on the last day. (Please let us know by registering for a free ticket) \nAges: 6-11 years \nDates: Monday to Thursday: July 10-13\, 2023 (2nd option: August 14-17\, Into The Woods) \nTime: 9am -12 pm \nMax 30 kids per day \nCost: $20/morning (includes snack) (You can register for one\, two or all four days!) \nInstructions: Bring your own water bottle and dress for the weather! \nNote: Parents/guardians\, please register for the Thursday lunch BBQ if you plan on attending (max 2 people per family). You need to add a ticket to your order so we can plan for numbers. Thanks! \nA Rocha is a Christian environmental stewardship organization and our camp will include short reflections on Creation Care.
URL:https://arocha.ca/event/explore-outdoors-kids-nature-camp-houston-bc/
LOCATION:Buck Creek Hatchery and Nature Centre\, 3125 Highway 16\, Houston\, British Columbia\, V0J 1Z0\, Canada
CATEGORIES:Day Camps,Northern BC
ATTACH;FMTTYPE=image/jpeg:https://arocha.ca/wp-content/uploads/2023/06/DSCF7140-1-scaled.jpg
ORGANIZER;CN="A Rocha Northern BC":MAILTO:houston.bc@arocha.ca
END:VEVENT
BEGIN:VEVENT
DTSTART;TZID=America/Vancouver:20230712T190000
DTEND;TZID=America/Vancouver:20230712T200000
DTSTAMP:20260425T130332
CREATED:20230524T185927Z
LAST-MODIFIED:20230612T154636Z
UID:43625-1689188400-1689192000@arocha.ca
SUMMARY:God's Canvas: Biblical Images of Creation Care (Houston\, BC)
DESCRIPTION:Join us in person or online for a 6-part series on Biblical images of creation care.\nWhen: Weekly on Thursdays* at 7pm PST – June 8\, 15\, 22\, 29\, and July 6 and 12* (note that July 12 is a Wednesday) \nHosted by Joseph McDaniel\, Summer Conservation Scientist for A Rocha Northern BC \nLocated at the Buck Creek Canfor Hatchery & Nature Centre\, Houston\, BC\, 3125 Hwy 16 W \nIt’s free\, but please sign up here to RSVP/Zoom link: https://forms.gle/uvENe2Sc6QXdgoHA6
URL:https://arocha.ca/event/gods-canvas-biblical-images-of-creation-care-houston-bc-5/
LOCATION:Buck Creek Hatchery and Nature Centre\, 3125 Highway 16\, Houston\, British Columbia\, V0J 1Z0\, Canada
CATEGORIES:Northern BC,Online Programming
ATTACH;FMTTYPE=image/jpeg:https://arocha.ca/wp-content/uploads/2023/05/2022-09-16-11.50.17-scaled.jpg
ORGANIZER;CN="A Rocha Northern BC":MAILTO:houston.bc@arocha.ca
END:VEVENT
END:VCALENDAR