BEGIN:VCALENDAR
VERSION:2.0
PRODID:-//A Rocha - ECPv6.15.19//NONSGML v1.0//EN
CALSCALE:GREGORIAN
METHOD:PUBLISH
X-ORIGINAL-URL:https://arocha.ca
X-WR-CALDESC:Events for A Rocha
REFRESH-INTERVAL;VALUE=DURATION:PT1H
X-Robots-Tag:noindex
X-PUBLISHED-TTL:PT1H
BEGIN:VTIMEZONE
TZID:America/Winnipeg
BEGIN:DAYLIGHT
TZOFFSETFROM:-0600
TZOFFSETTO:-0500
TZNAME:CDT
DTSTART:20220313T080000
END:DAYLIGHT
BEGIN:STANDARD
TZOFFSETFROM:-0500
TZOFFSETTO:-0600
TZNAME:CST
DTSTART:20221106T070000
END:STANDARD
BEGIN:DAYLIGHT
TZOFFSETFROM:-0600
TZOFFSETTO:-0500
TZNAME:CDT
DTSTART:20230312T080000
END:DAYLIGHT
BEGIN:STANDARD
TZOFFSETFROM:-0500
TZOFFSETTO:-0600
TZNAME:CST
DTSTART:20231105T070000
END:STANDARD
BEGIN:DAYLIGHT
TZOFFSETFROM:-0600
TZOFFSETTO:-0500
TZNAME:CDT
DTSTART:20240310T080000
END:DAYLIGHT
BEGIN:STANDARD
TZOFFSETFROM:-0500
TZOFFSETTO:-0600
TZNAME:CST
DTSTART:20241103T070000
END:STANDARD
END:VTIMEZONE
BEGIN:VEVENT
DTSTART;TZID=America/Winnipeg:20230710T090000
DTEND;TZID=America/Winnipeg:20230714T150000
DTSTAMP:20260420T043759
CREATED:20230330T190140Z
LAST-MODIFIED:20230427T135429Z
UID:43002-1688979600-1689346800@arocha.ca
SUMMARY:A Rocha Day Camp @ River East (Winnipeg\, MB)
DESCRIPTION:Join us for an exciting week of camp filled with nature based activities\, lots of fun games\, and outdoor exploration. Kids can look forward to a field trip\, special animal visitors\, fun crafts\, tasty snacks\, and discovering the wonder in our own backyards.  \nCamp runs from 9:00 am – 3:00 pm daily. \n\nKids ages 6-12 welcome.\nCome dressed to be outside for the day.\nBring your own lunch\, water bottle\, sunscreen and hat.\nYummy pre-packaged snacks provided!\n\nHow to Register \nRegistration is now a simple one step process! Scroll down to see the Eventbrite registration\, click on it and select the number of child registration. Take time to fill in all the required information in one sitting\, pay\, and you are all set! \nEnter promo code FAM10 to get a 10% discount if you are registering more than one camper in a family. \nFinancial assistance is available. Contact mb.education@arocha.ca for more info. \n\n\n\n\nCANCELLATIONS & REFUNDS:   \nFamilies withdrawing with more than two weeks’ notice will be refunded full registration cost minus the Eventbrite administrative fee. If it is within the week prior to the program\, $50 will be non-refundable\, and the rest depending on if the spot is filled. \n— \nA Rocha is a Christian environmental stewardship organization and our camp will include short reflections on Creation Care. For inquiries\, please email mb.education@arocha.ca \nHealth protocol: Please stay at home if you have illness symptoms. 
URL:https://arocha.ca/event/a-rocha-day-camp-river-east/
LOCATION:River East Church\, 755 McLeod Ave\, Winnipeg\, Manitoba\, R2K 0B8\, Canada
CATEGORIES:Day Camps,Manitoba,Winnipeg
ATTACH;FMTTYPE=image/jpeg:https://arocha.ca/wp-content/uploads/2021/04/IMGP2239-scaled.jpg
END:VEVENT
BEGIN:VEVENT
DTSTART;TZID=America/Winnipeg:20230717T090000
DTEND;TZID=America/Winnipeg:20230721T150000
DTSTAMP:20260420T043759
CREATED:20230330T191247Z
LAST-MODIFIED:20230427T135439Z
UID:43016-1689584400-1689951600@arocha.ca
SUMMARY:A Rocha Day Camp @ Community Roots Resource Centre (Winnipeg\, MB)
DESCRIPTION:Join us for an exciting week of camp filled with nature based activities\, lots of fun games\, and outdoor exploration. Kids can look forward to a field trip\, special animal visitors\, fun crafts\, tasty snacks\, and discovering the wonder in our own backyards.  \nCamp runs from 9:00 am – 3:00 pm daily. \n\nKids ages 6-12 welcome.\nCome dressed to be outside for the day.\nBring your own water bottle\, sunscreen\, and hat.\nYummy pre-packaged snacks provided!\n\nHow to Register \nRegistration is now a simple one step process! Scroll down to see the Eventbrite registration\, click on it and select the number of child registration. Take time to fill in all the required information in one sitting\, pay\, and you are all set! \nEnter promo code FAM10 to get a 10% discount if you are registering more than one camper in a family. \nFinancial assistance is available. Contact mb.education@arocha.ca for more info. \n\n\n\n\nCANCELLATIONS & REFUNDS:   \nFamilies withdrawing with more than two weeks’ notice will be refunded full registration cost minus the Eventbrite administrative fee. If it is within the week prior to the program\, $50 will be non-refundable\, and the rest depending on if the spot is filled. \n— \nA Rocha is a Christian environmental stewardship organization and our camp will include short reflections on Creation Care. For inquiries\, please email mb.education@arocha.ca \nHealth protocol: Please stay at home if you have illness symptoms. 
URL:https://arocha.ca/event/a-rocha-day-camp-community-roots-resource-centre/
LOCATION:Community Roots Resource Centre\, 365 Edelweiss Crescent\, Winnipeg\, Manitoba\, R2G 2B6\, Canada
CATEGORIES:Day Camps,Manitoba,Winnipeg
ATTACH;FMTTYPE=image/jpeg:https://arocha.ca/wp-content/uploads/2023/03/Graham-and-Camper-scaled.jpeg
END:VEVENT
BEGIN:VEVENT
DTSTART;TZID=America/Winnipeg:20230731T090000
DTEND;TZID=America/Winnipeg:20230804T150000
DTSTAMP:20260420T043759
CREATED:20230330T192031Z
LAST-MODIFIED:20230427T135448Z
UID:43021-1690794000-1691161200@arocha.ca
SUMMARY:A Rocha Day Camp @ St Margaret's (Winnipeg\, MB)
DESCRIPTION:Join us for an exciting week of camp filled with nature based activities\, lots of fun games\, and outdoor exploration. Kids can look forward to a field trip\, special animal visitors\, fun crafts\, tasty snacks\, and discovering the wonder in our own backyards.  \nCamp runs from 9:00 am – 3:00 pm daily. \n\nKids ages 6-12 welcome.\nCome dressed to be outside for the day.\nBring your own lunch\, water bottle\, sunscreen\, and hat.\nYummy pre-packaged snacks provided!\n\nHow to Register \nRegistration is now a simple one step process! Scroll down to see the Eventbrite registration\, click on it and select the number of child registration. Take time to fill in all the required information in one sitting\, pay\, and you are all set! \nEnter promo code FAM10 to get a 10% discount if you are registering more than one camper in a family. \nFinancial assistance is available. Contact mb.education@arocha.ca for more info. \n\n\n\n\nCANCELLATIONS & REFUNDS:   \nFamilies withdrawing with more than two weeks’ notice will be refunded full registration cost minus the Eventbrite administrative fee. If it is within the week prior to the program\, $50 will be non-refundable\, and the rest depending on if the spot is filled. \n— \nA Rocha is a Christian environmental stewardship organization and our camp will include short reflections on Creation Care. For inquiries\, please email mb.education@arocha.ca \nHealth protocol: Please stay at home if you have illness symptoms. 
URL:https://arocha.ca/event/a-rocha-day-camp-st-margarets/
LOCATION:St Margaret’s Church\, 160 Ethelbert St.\, Winnipeg\, Manitoba\, R3G 1V7\, Canada
CATEGORIES:Day Camps,Manitoba,Winnipeg
ATTACH;FMTTYPE=image/jpeg:https://arocha.ca/wp-content/uploads/2023/03/Courtney-and-camper-at-St-Margarets-day-camp-scaled.jpg
END:VEVENT
END:VCALENDAR