BEGIN:VCALENDAR
VERSION:2.0
PRODID:-//A Rocha - ECPv6.15.19//NONSGML v1.0//EN
CALSCALE:GREGORIAN
METHOD:PUBLISH
X-ORIGINAL-URL:https://arocha.ca
X-WR-CALDESC:Events for A Rocha
REFRESH-INTERVAL;VALUE=DURATION:PT1H
X-Robots-Tag:noindex
X-PUBLISHED-TTL:PT1H
BEGIN:VTIMEZONE
TZID:America/Winnipeg
BEGIN:DAYLIGHT
TZOFFSETFROM:-0600
TZOFFSETTO:-0500
TZNAME:CDT
DTSTART:20210314T080000
END:DAYLIGHT
BEGIN:STANDARD
TZOFFSETFROM:-0500
TZOFFSETTO:-0600
TZNAME:CST
DTSTART:20211107T070000
END:STANDARD
BEGIN:DAYLIGHT
TZOFFSETFROM:-0600
TZOFFSETTO:-0500
TZNAME:CDT
DTSTART:20220313T080000
END:DAYLIGHT
BEGIN:STANDARD
TZOFFSETFROM:-0500
TZOFFSETTO:-0600
TZNAME:CST
DTSTART:20221106T070000
END:STANDARD
BEGIN:DAYLIGHT
TZOFFSETFROM:-0600
TZOFFSETTO:-0500
TZNAME:CDT
DTSTART:20230312T080000
END:DAYLIGHT
BEGIN:STANDARD
TZOFFSETFROM:-0500
TZOFFSETTO:-0600
TZNAME:CST
DTSTART:20231105T070000
END:STANDARD
END:VTIMEZONE
BEGIN:VEVENT
DTSTART;TZID=America/Winnipeg:20220802T090000
DTEND;TZID=America/Winnipeg:20220805T150000
DTSTAMP:20260421T022853
CREATED:20220404T191624Z
LAST-MODIFIED:20220707T233714Z
UID:38994-1659430800-1659711600@arocha.ca
SUMMARY:A Rocha Day Camp (Many Rooms Church Community\, Winnipeg\, MB)
DESCRIPTION:A Rocha day camp provides hands-on nature experiences to kids ages 6-11. \nEach day we will learn and explore through crafts\, games\, stories\, and outdoor exploration! Come learn about flora and fauna as we play\, wander\, and wonder at creation! \nCamp runs from 9:00 am – 3:00 pm daily. \n\nKids ages 6-11 welcome.\nCome dressed to be outside for the day.\nBring your own lunch\, water bottle\, sunscreen and hat.\nYummy snacks provided!\n\nPayment & Registration\n\nPlease (1) purchase your ticket(s) through Eventbrite below\, and then (2) follow the instructions to complete the registration form below!\nEnter promo code FAM10 to get a 10% discount if you are registering more than one camper in a family. (Enter the code at the top of the box where it says Enter Promo Code in blue writing before you select your ticket.)\nFinancial assistance is available. Contact mb.education@arocha.ca for more info.\n\n\n\n\n\nRegister HereIf this program is cancelled due to low enrolment or COVID-19 restrictions\, payment will be fully refundable. \nHealth & Safety\nWe are committed to the health & safety of our participants and their families. Here is how we are mitigating the risks related to COVID-19: \n\nThis is an outdoor program — each day will be spent in the open air or under a well-ventilated tent (but mostly outside!)\nGroup sizes will adhere to provincial recommendations.\nMasking is mandatory when physical distancing is difficult to maintain.\nHand-washing and sanitizing will remain a priority.\nPlease keep your camper home for the day if they feel unwell.
URL:https://arocha.ca/event/a-rocha-day-camp-many-rooms-church-community-winnipeg-mb/
LOCATION:Many Rooms Church Community\, 480 Spence St\, Winnipeg\, Manitoba\, R3B 2R7\, Canada
CATEGORIES:Day Camps,Manitoba,Winnipeg
ATTACH;FMTTYPE=image/png:https://arocha.ca/wp-content/uploads/2022/03/MB-ENews-Banners-5.png
END:VEVENT
BEGIN:VEVENT
DTSTART;TZID=America/Winnipeg:20220808T090000
DTEND;TZID=America/Winnipeg:20220812T150000
DTSTAMP:20260421T022853
CREATED:20220404T191614Z
LAST-MODIFIED:20220708T231625Z
UID:38992-1659949200-1660316400@arocha.ca
SUMMARY:A Rocha Day Camp (St. Margaret's Anglican Church\, Winnipeg\, MB)
DESCRIPTION:A Rocha day camp provides hands-on nature experiences to kids ages 6-11. \nEach day we will learn and explore through crafts\, games\, stories\, and outdoor exploration! Come learn about flora and fauna as we play\, wander\, and wonder at creation! \nCamp runs from 9:00 am – 3:00 pm daily. \n\nKids ages 6-11 welcome.\nCome dressed to be outside for the day.\nBring your own lunch\, water bottle\, sunscreen and hat.\nYummy snacks provided!\n\nPayment & Registration\n\nPlease (1) purchase your ticket(s) through Eventbrite below\, and then (2) follow the instructions to complete the registration form below!\nEnter promo code FAM10 to get a 10% discount if you are registering more than one camper in a family. (Enter the code at the top of the box where it says Enter Promo Code in blue writing before you select your ticket.)\nFinancial assistance is available. Contact mb.education@arocha.ca for more info.\n\n\n\n\n\nRegister HereIf this program is cancelled due to low enrolment or COVID-19 restrictions\, payment will be fully refundable. \nHealth & Safety\nWe are committed to the health & safety of our participants and their families. Here is how we are mitigating the risks related to COVID-19: \n\nThis is an outdoor program — each day will be spent in the open air or under a well-ventilated tent (but mostly outside!)\nGroup sizes will adhere to provincial recommendations.\nMasking is mandatory when physical distancing is difficult to maintain.\nHand-washing and sanitizing will remain a priority.\nPlease keep your camper home for the day if they feel unwell.
URL:https://arocha.ca/event/a-rocha-day-camp-st-margarets-anglican-church-winnipeg-mb/
LOCATION:St Margaret’s Church\, 160 Ethelbert St.\, Winnipeg\, Manitoba\, R3G 1V7\, Canada
CATEGORIES:Day Camps,Manitoba,Winnipeg
ATTACH;FMTTYPE=image/png:https://arocha.ca/wp-content/uploads/2022/03/MB-ENews-Banners-5.png
END:VEVENT
BEGIN:VEVENT
DTSTART;TZID=America/Winnipeg:20220815T090000
DTEND;TZID=America/Winnipeg:20220817T150000
DTSTAMP:20260421T022853
CREATED:20220404T191603Z
LAST-MODIFIED:20220708T231738Z
UID:38996-1660554000-1660748400@arocha.ca
SUMMARY:A Rocha Day Camp (CMU\, Winnipeg\, MB)
DESCRIPTION:A Rocha day camp offers hands-on nature experiences to kids ages 6-11. \nEach day we will learn and explore through crafts\, games\, stories\, and outdoor exploration! Come learn about flora and fauna as we play\, wander\, and wonder at creation! \nCamp runs from 9:00 am – 3:00 pm daily. \nYou can sign up for one day\, two days\, or all three days! \n\nKids ages 6-11 welcome.\nCome dressed to be outside for the day.\nBring your own lunch\, water bottle\, sunscreen and hat.\nYummy snacks provided!\n\nPayment & Registration\n\nPlease (1) purchase your ticket(s) through Eventbrite below\, and then (2) follow the instructions to complete the registration form below!\nEnter promo code FAM10 to get a 10% discount if you are registering more than one camper in a family. (Enter the code at the top of the box where it says Enter Promo Code in blue writing before you select your ticket.)\nFinancial assistance is available. Contact mb.education@arocha.ca for more info.\n\n\n\n\n\nRegister HereIf this program is cancelled due to low enrolment or COVID-19 restrictions\, payment will be fully refundable. \nHealth & Safety\nWe are committed to the health & safety of our participants and their families. Here is how we are mitigating the risks related to COVID-19: \n\nThis is an outdoor program — each day will be spent in the open air or under a well-ventilated tent (but mostly outside!)\nGroup sizes will adhere to provincial recommendations.\nMasking is mandatory when physical distancing is difficult to maintain.\nHand-washing and sanitizing will remain a priority.\nPlease keep your camper home for the day if they feel unwell.
URL:https://arocha.ca/event/a-rocha-day-camp-cmu-winnipeg-mb/
LOCATION:Canadian Mennonite University\, 500 Shaftesbury Blvd\, Winnipeg\, Manitoba\, R3P 2N2\, Canada
CATEGORIES:Day Camps,Manitoba,Winnipeg
ATTACH;FMTTYPE=image/png:https://arocha.ca/wp-content/uploads/2022/03/MB-ENews-Banners-5.png
END:VEVENT
BEGIN:VEVENT
DTSTART;TZID=America/Winnipeg:20220820T100000
DTEND;TZID=America/Winnipeg:20220821T140000
DTSTAMP:20260421T022853
CREATED:20220404T211706Z
LAST-MODIFIED:20220816T201232Z
UID:39033-1660989600-1661090400@arocha.ca
SUMMARY:[Canceled]A Rocha Discovery Days 2022 (Boreal Ecology Centre\, East Braintree\, MB)
DESCRIPTION:EVENT CANCELLED\n\nA Rocha Discovery Days\nA Rocha Discovery Days is an opportunity for people of all ages (including kids and families) to have hands-on experiences of creation at A Rocha’s Boreal Ecology Centre! There will be activities for all ages\, as well as plenty of down time and time to explore (see the draft schedule below!) \n\nMeals and snacks will be provided (Saturday: lunch and supper\, Sunday: breakfast and lunch). You are\, of course\, welcome to bring other snacks and drinks\, either for yourself or to share!\nAttendees will be camping in tents and are required to bring all of their own gear (if this poses a barrier\, do let us know and we can make an arrangement!)\nThere will be indoor access for washrooms\, kitchen/meals\, and hang-out space. The lodge also has a library of creation care books.\nThis event is family friendly!\n\nPayment & Registration\n\nPurchase your tickets through Eventbrite below and fill out the information for all attendees\nThe cost is $35 per participant – this covers the cost of meals\, wear-and-tear on the property\, and programming. Large families can contact us for a discounted family rate.\n\nIf you have any questions about the camp itself\, or about the registration process\, please email us at mb.education@arocha.ca \n \nIf this program is cancelled due to low enrolment or COVID-19 restrictions\, payment will be fully refundable. \nHealth & Safety\nWe are committed to the health & safety of our participants and families. Here is how we are mitigating the risks related to COVID-19: \n\nGroup sizes will adhere to provincial recommendations.\nHand-washing and sanitizing will remain a priority.\nPlease remain home if you are feeling unwell.\nWe hope to spend much of our time outdoors and in well-ventilated areas.\nA decision about wearing masks will be made in July or August
URL:https://arocha.ca/event/a-rocha-family-camp-2022-boreal-ecology-centre-east-braintree-mb/
LOCATION:Boreal Ecology Centre\, A Rocha Boreal Ecology Centre\, East Braintree\, Manitoba\, Canada
CATEGORIES:Boreal Ecology Centre,Day Camps,Manitoba,MB Special Events
ATTACH;FMTTYPE=image/jpeg:https://arocha.ca/wp-content/uploads/2022/04/DSC00130-scaled.jpg
END:VEVENT
END:VCALENDAR