BEGIN:VCALENDAR
VERSION:2.0
PRODID:-//A Rocha - ECPv6.15.19//NONSGML v1.0//EN
CALSCALE:GREGORIAN
METHOD:PUBLISH
X-ORIGINAL-URL:https://arocha.ca
X-WR-CALDESC:Events for A Rocha
REFRESH-INTERVAL;VALUE=DURATION:PT1H
X-Robots-Tag:noindex
X-PUBLISHED-TTL:PT1H
BEGIN:VTIMEZONE
TZID:America/Winnipeg
BEGIN:DAYLIGHT
TZOFFSETFROM:-0600
TZOFFSETTO:-0500
TZNAME:CDT
DTSTART:20210314T080000
END:DAYLIGHT
BEGIN:STANDARD
TZOFFSETFROM:-0500
TZOFFSETTO:-0600
TZNAME:CST
DTSTART:20211107T070000
END:STANDARD
BEGIN:DAYLIGHT
TZOFFSETFROM:-0600
TZOFFSETTO:-0500
TZNAME:CDT
DTSTART:20220313T080000
END:DAYLIGHT
BEGIN:STANDARD
TZOFFSETFROM:-0500
TZOFFSETTO:-0600
TZNAME:CST
DTSTART:20221106T070000
END:STANDARD
BEGIN:DAYLIGHT
TZOFFSETFROM:-0600
TZOFFSETTO:-0500
TZNAME:CDT
DTSTART:20230312T080000
END:DAYLIGHT
BEGIN:STANDARD
TZOFFSETFROM:-0500
TZOFFSETTO:-0600
TZNAME:CST
DTSTART:20231105T070000
END:STANDARD
END:VTIMEZONE
BEGIN:VEVENT
DTSTART;TZID=America/Winnipeg:20220711T090000
DTEND;TZID=America/Winnipeg:20220715T150000
DTSTAMP:20260421T041351
CREATED:20220404T191644Z
LAST-MODIFIED:20220707T235010Z
UID:38926-1657530000-1657897200@arocha.ca
SUMMARY:A Rocha Day Camp (River East Church\, Winnipeg\, MB)
DESCRIPTION:A Rocha day camp provides hands-on nature experiences to kids ages 6-11. \nEach day we will learn and explore through crafts\, games\, stories\, and outdoor exploration! Come learn about flora and fauna as we play\, wander\, and wonder at creation! \nCamp runs from 9:00 am – 3:00 pm daily. \n\nKids ages 6-11 welcome.\nCome dressed to be outside for the day.\nBring your own lunch\, water bottle\, sunscreen and hat.\nYummy snacks provided!\n\nPayment & Registration\n\nPlease (1) purchase your ticket(s) through Eventbrite below\, and then (2) follow the instructions to complete the registration form below!\nEnter promo code FAM10 to get a 10% discount if you are registering more than one camper in a family. (Enter the code at the top of the box where it says Enter Promo Code in blue writing before you select your ticket.)\nFinancial assistance is available. Contact mb.education@arocha.ca for more info.\n\n\n\n\n\nRegister HereIf this program is cancelled due to low enrolment or COVID-19 restrictions\, payment will be fully refundable. \nHealth & Safety\nWe are committed to the health & safety of our participants and their families. Here is how we are mitigating the risks related to COVID-19: \n\nThis is an outdoor program — each day will be spent in the open air or under a well-ventilated tent (but mostly outside!)\nGroup sizes will adhere to provincial recommendations.\nMasking is mandatory when physical distancing is difficult to maintain.\nHand-washing and sanitizing will remain a priority.\nPlease keep your camper home for the day if they feel unwell.
URL:https://arocha.ca/event/a-rocha-day-camp-river-east-church-winnipeg-mb/
LOCATION:River East Church\, 755 McLeod Ave\, Winnipeg\, Manitoba\, R2K 0B8\, Canada
CATEGORIES:Day Camps,Manitoba,Winnipeg
ATTACH;FMTTYPE=image/png:https://arocha.ca/wp-content/uploads/2022/03/MB-ENews-Banners-5.png
END:VEVENT
BEGIN:VEVENT
DTSTART;TZID=America/Winnipeg:20220718T090000
DTEND;TZID=America/Winnipeg:20220722T150000
DTSTAMP:20260421T041351
CREATED:20220404T191659Z
LAST-MODIFIED:20220715T184134Z
UID:38990-1658134800-1658502000@arocha.ca
SUMMARY:[Sold Out] A Rocha Day Camp (Jubilee Mennonite Church\, Winnipeg\, MB)
DESCRIPTION:A Rocha day camp provides hands-on nature experiences to kids ages 6-11. \nEach day we will learn and explore through crafts\, games\, stories\, and outdoor exploration! Come learn about flora and fauna as we play\, wander\, and wonder at creation! \nCamp runs from 9:00 am – 3:00 pm daily. \n\nKids ages 6-11 welcome.\nCome dressed to be outside for the day.\nBring your own lunch\, water bottle\, sunscreen and hat.\nYummy snacks provided!\n\nPayment & Registration\n\nPlease (1) purchase your ticket(s) through Eventbrite below\, and then (2) follow the instructions to complete the registration form below!\nEnter promo code FAM10 to get a 10% discount if you are registering more than one camper in a family. (Enter the code at the top of the box where it says Enter Promo Code in blue writing before you select your ticket.)\nFinancial assistance is available. Contact mb.education@arocha.ca for more info.\n\n\n\n\n\nRegister HereIf this program is cancelled due to low enrolment or COVID-19 restrictions\, payment will be fully refundable. \nHealth & Safety\nWe are committed to the health & safety of our participants and their families. Here is how we are mitigating the risks related to COVID-19: \n\nThis is an outdoor program — each day will be spent in the open air or under a well-ventilated tent (but mostly outside!)\nGroup sizes will adhere to provincial recommendations.\nMasking is mandatory when physical distancing is difficult to maintain.\nHand-washing and sanitizing will remain a priority.\nPlease keep your camper home for the day if they feel unwell.
URL:https://arocha.ca/event/a-rocha-day-camp-jubilee-mennonite-church-winnipeg-mb/
LOCATION:Jubilee Mennonite Church\, 365 Edelweiss Crescent\, Winnipeg\, Manitoba\, R2G 2B6\, Canada
CATEGORIES:Day Camps,Manitoba,Winnipeg
ATTACH;FMTTYPE=image/png:https://arocha.ca/wp-content/uploads/2022/03/MB-ENews-Banners-5.png
END:VEVENT
END:VCALENDAR