BEGIN:VCALENDAR
VERSION:2.0
PRODID:-//A Rocha - ECPv6.15.19//NONSGML v1.0//EN
CALSCALE:GREGORIAN
METHOD:PUBLISH
X-WR-CALNAME:A Rocha
X-ORIGINAL-URL:https://arocha.ca
X-WR-CALDESC:Events for A Rocha
REFRESH-INTERVAL;VALUE=DURATION:PT1H
X-Robots-Tag:noindex
X-PUBLISHED-TTL:PT1H
BEGIN:VTIMEZONE
TZID:America/Winnipeg
BEGIN:DAYLIGHT
TZOFFSETFROM:-0600
TZOFFSETTO:-0500
TZNAME:CDT
DTSTART:20210314T080000
END:DAYLIGHT
BEGIN:STANDARD
TZOFFSETFROM:-0500
TZOFFSETTO:-0600
TZNAME:CST
DTSTART:20211107T070000
END:STANDARD
BEGIN:DAYLIGHT
TZOFFSETFROM:-0600
TZOFFSETTO:-0500
TZNAME:CDT
DTSTART:20220313T080000
END:DAYLIGHT
BEGIN:STANDARD
TZOFFSETFROM:-0500
TZOFFSETTO:-0600
TZNAME:CST
DTSTART:20221106T070000
END:STANDARD
BEGIN:DAYLIGHT
TZOFFSETFROM:-0600
TZOFFSETTO:-0500
TZNAME:CDT
DTSTART:20230312T080000
END:DAYLIGHT
BEGIN:STANDARD
TZOFFSETFROM:-0500
TZOFFSETTO:-0600
TZNAME:CST
DTSTART:20231105T070000
END:STANDARD
END:VTIMEZONE
BEGIN:VEVENT
DTSTART;TZID=America/Winnipeg:20220318T090000
DTEND;TZID=America/Winnipeg:20220318T150000
DTSTAMP:20260421T112855
CREATED:20220224T204935Z
LAST-MODIFIED:20220225T010241Z
UID:38196-1647594000-1647615600@arocha.ca
SUMMARY:Art of Nature Pop-Up Camp
DESCRIPTION:If you’re looking for a good place to send your kids on the March 18 Professional Development day\, our Pop-Up Camp may be the perfect place! \n\nWHAT: During this day-long event\, campers will walk in the Assiniboine Forest\, look at and learn about the current exhibit at the gallery (Daily Diaries of the Assiniboine River and Lake Winnipeg by Jane Gateson)\, eat yummy snacks\, and make art.\nWHERE: Mennonite Heritage Centre Gallery\, 600 Shaftesbury Blvd\, Winnipeg (behind CMU’s South Campus building)\nWHEN: March 18\, 9 AM to 3 PM\nWHO: Kids ages 6-11\nHOW MUCH:$30 per camper \n\nUse code POPUP10 to receive a 10% discount if registering more than 1 camper and/or registering for more than one pop-up camp event!\n\n\nWHAT TO BRING: waterbottle\, packed lunch\, weather appropriate clothes (rain boots and rain jacket)\n\nWe highly recommend that your child bring and wear a mask throughout the day\n\n\n\nRegistration is a two step process. You are not fully registered until both steps have been completed. \nStep 1: Pay for the ticket(s) through Eventbrite (below). This should be done first to ensure there is space available.\nFinancial assistance is available. Contact mb.education@arocha.ca for more info. \nStep 2: Fill out the registration page by clicking on the red register button below. You can register multiple children at once. \n\n\n\n\nRegister Here×Register here\n\n    \n    \n    \n    \n        \n\n    \n\n    \n    \n    \n    \n    \n\n\n\n    \n            \n          Manitoba Day Camp Registration\n\n          \n          Sorry\, this form is not available.          \n        \n          \n       \n \n\nCloseIf the camp you would like to register for is full\, please add your name to the waitlist here and you will be notified if any spots open up.
URL:https://arocha.ca/event/art-of-nature-pop-up-camp/
LOCATION:MHC Gallery\, 600 Shaftesbury Blvd\, Winnipeg\, Manitoba\, Canada
CATEGORIES:Day Camps,Manitoba,Winnipeg
ATTACH;FMTTYPE=image/jpeg:https://arocha.ca/wp-content/uploads/2022/02/274206808_989916684983875_1188792852009270166_n.jpg
END:VEVENT
BEGIN:VEVENT
DTSTART;TZID=America/Winnipeg:20220330T090000
DTEND;TZID=America/Winnipeg:20220330T150000
DTSTAMP:20260421T112855
CREATED:20220224T221528Z
LAST-MODIFIED:20220225T010111Z
UID:38220-1648630800-1648652400@arocha.ca
SUMMARY:Birding Bonanza Pop-Up Camp
DESCRIPTION:If you’re looking for a good place to send your kids during Spring Break\, our Pop-Up Camp may be the perfect place! \n\nWHAT: A day for kids to learn about birds\, get outside\, and get to know creation! During this day-long event\, campers will walk in the Assiniboine Forest\, learn about birds (and go bird watching!)\, eat yummy snacks\, and make art.\nWHERE: Mennonite Heritage Centre Gallery\, 600 Shaftesbury Blvd\, Winnipeg (behind CMU’s South Campus building)\nWHEN: March 30\, 9 AM to 3 PM\nWHO: Kids ages 6-11\nHOW MUCH: $30 per camper (use code POPUP10 to receive a 10% discount if registering more than 1 camper and/or registering for more than one pop-up camp event!)\nWHAT TO BRING: waterbottle\, bag lunch\, weather appropriate clothing (rain boots\, rain jacket)\n\nWe strongly recommend that your camper brings and wears a mask for this event\n\n\n\nRegistration is a two step process. You are not fully registered until both steps have been completed. \nStep 1: Pay for the ticket(s) through Eventbrite (below). This should be done first to ensure there is space available.\nFinancial assistance is available. Contact mb.education@arocha.ca for more info. \nStep 2: Fill out the registration page by clicking on the red register button below. You can register multiple children at once. \n\n\n\n\nRegister Here×Register here\n\n    \n    \n    \n    \n        \n\n    \n\n    \n    \n    \n    \n    \n\n\n\n    \n            \n          Manitoba Day Camp Registration\n\n          \n          Sorry\, this form is not available.          \n        \n          \n       \n \n\nCloseIf the camp you would like to register for is full\, please add your name to the waitlist here and you will be notified if any spots open up.
URL:https://arocha.ca/event/birding-bonanza-pop-up-camp/
LOCATION:MHC Gallery\, 600 Shaftesbury Blvd\, Winnipeg\, Manitoba\, Canada
CATEGORIES:Day Camps,Manitoba,Winnipeg
ATTACH;FMTTYPE=image/jpeg:https://arocha.ca/wp-content/uploads/2022/02/ARC-2137-scaled.jpg
END:VEVENT
END:VCALENDAR