BEGIN:VCALENDAR
VERSION:2.0
PRODID:-//A Rocha - ECPv6.15.19//NONSGML v1.0//EN
CALSCALE:GREGORIAN
METHOD:PUBLISH
X-ORIGINAL-URL:https://arocha.ca
X-WR-CALDESC:Events for A Rocha
REFRESH-INTERVAL;VALUE=DURATION:PT1H
X-Robots-Tag:noindex
X-PUBLISHED-TTL:PT1H
BEGIN:VTIMEZONE
TZID:America/Winnipeg
BEGIN:DAYLIGHT
TZOFFSETFROM:-0600
TZOFFSETTO:-0500
TZNAME:CDT
DTSTART:20200308T080000
END:DAYLIGHT
BEGIN:STANDARD
TZOFFSETFROM:-0500
TZOFFSETTO:-0600
TZNAME:CST
DTSTART:20201101T070000
END:STANDARD
BEGIN:DAYLIGHT
TZOFFSETFROM:-0600
TZOFFSETTO:-0500
TZNAME:CDT
DTSTART:20210314T080000
END:DAYLIGHT
BEGIN:STANDARD
TZOFFSETFROM:-0500
TZOFFSETTO:-0600
TZNAME:CST
DTSTART:20211107T070000
END:STANDARD
BEGIN:DAYLIGHT
TZOFFSETFROM:-0600
TZOFFSETTO:-0500
TZNAME:CDT
DTSTART:20220313T080000
END:DAYLIGHT
BEGIN:STANDARD
TZOFFSETFROM:-0500
TZOFFSETTO:-0600
TZNAME:CST
DTSTART:20221106T070000
END:STANDARD
END:VTIMEZONE
BEGIN:VEVENT
DTSTART;TZID=America/Winnipeg:20211022T090000
DTEND;TZID=America/Winnipeg:20211022T150000
DTSTAMP:20260421T224105
CREATED:20211004T184218Z
LAST-MODIFIED:20211004T221825Z
UID:36643-1634893200-1634914800@arocha.ca
SUMMARY:Art of Nature Pop-Up Camp @ MHC Gallery (Manitoba)
DESCRIPTION:If you’re looking for a good place to send your kids on the October 22 Professional Development day\, our Pop-Up Camp may be the perfect place! \n\nWHAT: During this day-long event\, campers will walk in the Assiniboine Forest\, learn about trees\, eat yummy snacks\, look at paintings of trees\, and make art.\nWHERE: Mennonite Heritage Centre Gallery\, 600 Shaftesbury Blvd.\, Winnipeg\, MB\, R3P 0M4\nCampers can get dropped off in the parking lot behind CMU’s South Campus (see map)\nWHEN: October 22\, 2021\, 9 AM to 3 PM\nWHO: Kids ages 6-11\nHOW MUCH: $25 per camper\n\nRegistration is a two step process. You are not fully registered until both steps have been completed. \nStep 1: Pay for the ticket(s) through Eventbrite (below). This should be done first to ensure there is space available.\nFinancial assistance is available. Contact mb.education@arocha.ca for more info. \nStep 2: Fill out the registration page by clicking on the red register button below. You can register multiple children at once. \n\n\n\n\nRegister Here×Register here\n\n    \n    \n    \n    \n        \n\n    \n\n    \n    \n    \n    \n    \n\n\n\n    \n            \n          Manitoba Day Camp Registration\n\n          \n          Sorry\, this form is not available.          \n        \n          \n       \n \n\nCloseIf the camp you would like to register for is full\, please add your name to the waitlist here and you will be notified if any spots open up.
URL:https://arocha.ca/event/art-of-nature-pop-up-camp-mhc-gallery-manitoba/
LOCATION:MHC Gallery\, 600 Shaftesbury Blvd\, Winnipeg\, Manitoba\, Canada
CATEGORIES:Day Camps,Manitoba,Winnipeg
ATTACH;FMTTYPE=image/png:https://arocha.ca/wp-content/uploads/2021/09/the-art-of-nature-day-camp.png
END:VEVENT
END:VCALENDAR