BEGIN:VCALENDAR
VERSION:2.0
PRODID:-//A Rocha - ECPv6.15.19//NONSGML v1.0//EN
CALSCALE:GREGORIAN
METHOD:PUBLISH
X-ORIGINAL-URL:https://arocha.ca
X-WR-CALDESC:Events for A Rocha
REFRESH-INTERVAL;VALUE=DURATION:PT1H
X-Robots-Tag:noindex
X-PUBLISHED-TTL:PT1H
BEGIN:VTIMEZONE
TZID:America/Toronto
BEGIN:DAYLIGHT
TZOFFSETFROM:-0500
TZOFFSETTO:-0400
TZNAME:EDT
DTSTART:20200308T070000
END:DAYLIGHT
BEGIN:STANDARD
TZOFFSETFROM:-0400
TZOFFSETTO:-0500
TZNAME:EST
DTSTART:20201101T060000
END:STANDARD
BEGIN:DAYLIGHT
TZOFFSETFROM:-0500
TZOFFSETTO:-0400
TZNAME:EDT
DTSTART:20210314T070000
END:DAYLIGHT
BEGIN:STANDARD
TZOFFSETFROM:-0400
TZOFFSETTO:-0500
TZNAME:EST
DTSTART:20211107T060000
END:STANDARD
BEGIN:DAYLIGHT
TZOFFSETFROM:-0500
TZOFFSETTO:-0400
TZNAME:EDT
DTSTART:20220313T070000
END:DAYLIGHT
BEGIN:STANDARD
TZOFFSETFROM:-0400
TZOFFSETTO:-0500
TZNAME:EST
DTSTART:20221106T060000
END:STANDARD
END:VTIMEZONE
BEGIN:VEVENT
DTSTART;TZID=America/Toronto:20210803T090000
DTEND;TZID=America/Toronto:20210806T150000
DTSTAMP:20260424T012447
CREATED:20210503T203928Z
LAST-MODIFIED:20210618T221446Z
UID:35225-1627981200-1628262000@arocha.ca
SUMMARY:A Rocha Day Camp @ Many Rooms (Manitoba)
DESCRIPTION:UPDATE: This camp is FULL. Please check out our other locations and times for availability! \nJoin us for an exciting week of camp filled with nature based activities\, lots of fun games\, and outdoor exploration. Kids can look forward to a field trip\, special animal visitors\, fun crafts\, tasty snacks\, and discovering the wonder in our own backyards.  \nCamp runs from 9:00 am – 3:00 pm daily. \n\nKids ages 5-12 welcome.\nCome dressed to be outside for the day.\nBring your own lunch\, water bottle\, sunscreen and hat.\nYummy pre-packaged snacks provided!\nWe will be following COVID protocols to ensure safety. See here for our protocols.\n\nRegistration is a two step process. You are not fully registered until both steps have been completed. \nStep 1: Pay for the ticket(s) through Eventbrite (below). This should be done first to ensure there is space available.\nEnter promo code FAM10 to get a 10% discount if you are registering more than one camper in a family. (Enter the code at the top of the box where it says Enter Promo Code in blue writing before you select your ticket.)\nFinancial assistance is available. Contact mb.education@arocha.ca for more info. \nStep 2: Fill out the registration page by clicking on the red register button below. You can register multiple children at once\, and only need to fill out the registration once per child if they are attending more than one week of camp. \n\n\n\n\nRegister Here×Register here\n\n    \n    \n    \n    \n        \n\n    \n\n    \n    \n    \n    \n    \n\n\n\n    \n            \n          Manitoba Day Camp Registration\n\n          \n          Sorry\, this form is not available.          \n        \n          \n       \n \n\nCloseIf the camp you would like to register for is full\, please add your name to the waitlist here and you will be notified if any spots open up.
URL:https://arocha.ca/event/a-rocha-day-camp-many-rooms-manitoba/
LOCATION:Many Rooms Church Community\, 480 Spence St\, Winnipeg\, Manitoba\, R3B 2R7\, Canada
CATEGORIES:Day Camps,Manitoba,Winnipeg
ATTACH;FMTTYPE=image/jpeg:https://arocha.ca/wp-content/uploads/2020/06/IMG_1787-scaled-e1591819257708.jpg
END:VEVENT
BEGIN:VEVENT
DTSTART;TZID=America/Toronto:20210817T090000
DTEND;TZID=America/Toronto:20210818T150000
DTSTAMP:20260424T012448
CREATED:20210503T205131Z
LAST-MODIFIED:20210812T232817Z
UID:35227-1629190800-1629298800@arocha.ca
SUMMARY:A Rocha Day Camp @ The Boreal Ecology Centre (Manitoba)
DESCRIPTION:*New* 2 days only! \nJoin us for two days of camp filled with nature based activities\, lots of fun games\, and outdoor exploration. Kids can look forward to a exploring the woods\, cooking together\, wilderness skills\, fun crafts\, tasty snacks\, and discovering the wonder of the Boreal Ecology Centre.  \nCamp runs from 9:00 am – 3:00 pm daily. \n\nKids ages 5-11 welcome.\nCome dressed to be outside for the day.\nBring your own lunch\, water bottle\, sunscreen and hat.\nYummy pre-packaged snacks provided!\nWe will be following COVID protocols to ensure safety. See here for our protocols.\n\nRegistration is a two step process. You are not fully registered until both steps have been completed. \nStep 1: Pay for the ticket(s) through Eventbrite (below). This should be done first to ensure there is space available.\nEnter promo code FAM10 to get a 10% discount if you are registering more than one camper in a family. (Enter the code at the top of the box where it says Enter Promo Code in blue writing before you select your ticket.)\nFinancial assistance is available. Contact mb.education@arocha.ca for more info. \nStep 2: Fill out the registration page by clicking on the red register button below. You can register multiple children at once\, and only need to fill out the registration once per child if they are attending more than one week of camp. \n\n\n\n\nRegister Here×Register here\n\n    \n    \n    \n    \n        \n\n    \n\n    \n    \n    \n    \n    \n\n\n\n    \n            \n          Manitoba Day Camp Registration\n\n          \n          Sorry\, this form is not available.          \n        \n          \n       \n \n\nCloseIf the camp you would like to register for is full\, please add your name to the waitlist here and you will be notified if any spots open up.
URL:https://arocha.ca/event/a-rocha-day-camp-the-boreal-ecology-centre-manitoba/
LOCATION:Boreal Ecology Centre\, A Rocha Boreal Ecology Centre\, East Braintree\, Manitoba\, Canada
CATEGORIES:Day Camps,Manitoba,Winnipeg
ATTACH;FMTTYPE=image/jpeg:https://arocha.ca/wp-content/uploads/2021/03/bughunt-scaled.jpg
END:VEVENT
END:VCALENDAR