BEGIN:VCALENDAR
VERSION:2.0
PRODID:-//A Rocha - ECPv6.15.19//NONSGML v1.0//EN
CALSCALE:GREGORIAN
METHOD:PUBLISH
X-WR-CALNAME:A Rocha
X-ORIGINAL-URL:https://arocha.ca
X-WR-CALDESC:Events for A Rocha
REFRESH-INTERVAL;VALUE=DURATION:PT1H
X-Robots-Tag:noindex
X-PUBLISHED-TTL:PT1H
BEGIN:VTIMEZONE
TZID:America/Toronto
BEGIN:DAYLIGHT
TZOFFSETFROM:-0500
TZOFFSETTO:-0400
TZNAME:EDT
DTSTART:20200308T070000
END:DAYLIGHT
BEGIN:STANDARD
TZOFFSETFROM:-0400
TZOFFSETTO:-0500
TZNAME:EST
DTSTART:20201101T060000
END:STANDARD
BEGIN:DAYLIGHT
TZOFFSETFROM:-0500
TZOFFSETTO:-0400
TZNAME:EDT
DTSTART:20210314T070000
END:DAYLIGHT
BEGIN:STANDARD
TZOFFSETFROM:-0400
TZOFFSETTO:-0500
TZNAME:EST
DTSTART:20211107T060000
END:STANDARD
BEGIN:DAYLIGHT
TZOFFSETFROM:-0500
TZOFFSETTO:-0400
TZNAME:EDT
DTSTART:20220313T070000
END:DAYLIGHT
BEGIN:STANDARD
TZOFFSETFROM:-0400
TZOFFSETTO:-0500
TZNAME:EST
DTSTART:20221106T060000
END:STANDARD
END:VTIMEZONE
BEGIN:VEVENT
DTSTART;TZID=America/Toronto:20210712T090000
DTEND;TZID=America/Toronto:20210716T150000
DTSTAMP:20260424T025332
CREATED:20210503T203311Z
LAST-MODIFIED:20210618T222508Z
UID:35137-1626080400-1626447600@arocha.ca
SUMMARY:A Rocha Day Camp @ River East Church (Manitoba)
DESCRIPTION:Spots are filling fast! Registration opens on MONDAY JUNE 21st. \nJoin us for an exciting week of camp filled with nature based activities\, lots of fun games\, and outdoor exploration. Kids can look forward to a field trip\, special animal visitors\, fun crafts\, tasty snacks\, and discovering the wonder in our own backyards.  \nCamp runs from 9:00 am – 3:00 pm daily. \n\nKids ages 5-12 welcome.\nCome dressed to be outside for the day.\nBring your own lunch\, water bottle\, sunscreen and hat.\nYummy pre-packaged snacks provided!\nWe will be following COVID protocols to ensure safety. See here for our protocols.\n\nRegistration is a two step process. You are not fully registered until both steps have been completed. \n Step 1: Pay for the ticket(s) through Eventbrite (below). This should be done first to ensure there is space available.\nEnter promo code FAM10 to get a 10% discount if you are registering more than one camper in a family. (Enter the code at the top of the box where it says Enter Promo Code in blue writing before you select your ticket.)\nFinancial assistance is available. Contact mb.education@arocha.ca for more info. \nStep 2: Fill out the registration page by clicking on the red register button below. You can register multiple children at once\, and only need to fill out the registration once per child if they are attending more than one week of camp. \n\n\n\n\nRegister Here×Register here\n\n    \n    \n    \n    \n        \n\n    \n\n    \n    \n    \n    \n    \n\n\n\n    \n            \n          Manitoba Day Camp Registration\n\n          \n          Sorry\, this form is not available.          \n        \n          \n       \n \n\nCloseIf the camp you would like to register for is full\, please add your name to the waitlist here and you will be notified if any spots open up.
URL:https://arocha.ca/event/a-rocha-day-camp-river-east-church-manitoba/
LOCATION:River East Church\, 755 McLeod Ave\, Winnipeg\, Manitoba\, R2K 0B8\, Canada
CATEGORIES:Day Camps,Manitoba,Winnipeg
ATTACH;FMTTYPE=image/jpeg:https://arocha.ca/wp-content/uploads/2021/04/IMGP2239-scaled.jpg
END:VEVENT
BEGIN:VEVENT
DTSTART;TZID=America/Toronto:20210719T090000
DTEND;TZID=America/Toronto:20210723T150000
DTSTAMP:20260424T025333
CREATED:20210503T203537Z
LAST-MODIFIED:20210618T221901Z
UID:35220-1626685200-1627052400@arocha.ca
SUMMARY:A Rocha Day Camp @ Jubilee Mennonite Church (Manitoba)
DESCRIPTION:UPDATE: This camp is FULL. Please check our other dates and locations for availability! \nJoin us for an exciting week of camp filled with nature based activities\, lots of fun games\, and outdoor exploration. Kids can look forward to a field trip\, special animal visitors\, fun crafts\, tasty snacks\, and discovering the wonder in our own backyards.  \nCamp runs from 9:00 am – 3:00 pm daily. \n\nKids ages 5-12 welcome.\nCome dressed to be outside for the day.\nBring your own lunch\, water bottle\, sunscreen and hat.\nYummy pre-packaged snacks provided!\nWe will be following COVID protocols to ensure safety. See here for our protocols.\n\nRegistration is a two step process. You are not fully registered until both steps have been completed. \nStep 1: Pay for the ticket(s) through Eventbrite (below). This should be done first to ensure there is space available.\nEnter promo code FAM10 to get a 10% discount if you are registering more than one camper in a family. (Enter the code at the top of the box where it says Enter Promo Code in blue writing before you select your ticket.)\nFinancial assistance is available. Contact mb.education@arocha.ca for more info. \nStep 2: Fill out the registration page by clicking on the red register button below. You can register multiple children at once\, and only need to fill out the registration once per child if they are attending more than one week of camp. \n\n\n\n\nRegister Here×Register here\n\n    \n    \n    \n    \n        \n\n    \n\n    \n    \n    \n    \n    \n\n\n\n    \n            \n          Manitoba Day Camp Registration\n\n          \n          Sorry\, this form is not available.          \n        \n          \n       \n \n\nCloseIf the camp you would like to register for is full\, please add your name to the waitlist here and you will be notified if any spots open up.
URL:https://arocha.ca/event/a-rocha-day-camp-jubilee-mennonite-church-manitoba/
LOCATION:Jubilee Mennonite Church\, 365 Edelweiss Crescent\, Winnipeg\, Manitoba\, R2G 2B6\, Canada
CATEGORIES:Day Camps,Manitoba,Winnipeg
ATTACH;FMTTYPE=image/jpeg:https://arocha.ca/wp-content/uploads/2021/03/Nature-Academy-2-1-scaled.jpg
END:VEVENT
BEGIN:VEVENT
DTSTART;TZID=America/Toronto:20210726T090000
DTEND;TZID=America/Toronto:20210730T150000
DTSTAMP:20260424T025333
CREATED:20210503T203658Z
LAST-MODIFIED:20210720T193533Z
UID:35223-1627290000-1627657200@arocha.ca
SUMMARY:A Rocha Day Camp @ St. Margaret's Church (Manitoba)
DESCRIPTION:Only a couple spots left! Register below.  \nJoin us for an exciting week of camp filled with nature based activities\, lots of fun games\, and outdoor exploration. Kids can look forward to a field trip\, special animal visitors\, fun crafts\, tasty snacks\, and discovering the wonder in our own backyards.  \nCamp runs from 9:00 am – 3:00 pm daily. \n\nKids ages 5-11 welcome.\nCome dressed to be outside for the day.\nBring your own lunch\, water bottle\, sunscreen and hat.\nYummy pre-packaged snacks provided!\nWe will be following COVID protocols to ensure safety. See here for our protocols.\n\nRegistration is a two step process. You are not fully registered until both steps have been completed. \nStep 1: Pay for the ticket(s) through Eventbrite (below). This should be done first to ensure there is space available.\nEnter promo code FAM10 to get a 10% discount if you are registering more than one camper in a family. (Enter the code at the top of the box where it says Enter Promo Code in blue writing before you select your ticket.)\nFinancial assistance is available. Contact mb.education@arocha.ca for more info. \nStep 2: Fill out the registration page by clicking on the red register button below. You can register multiple children at once\, and only need to fill out the registration once per child if they are attending more than one week of camp. \n\n\n\n\nRegister Here×Register here\n\n    \n    \n    \n    \n        \n\n    \n\n    \n    \n    \n    \n    \n\n\n\n    \n            \n          Manitoba Day Camp Registration\n\n          \n          Sorry\, this form is not available.          \n        \n          \n       \n \n\nCloseIf the camp you would like to register for is full\, please add your name to the waitlist here and you will be notified if any spots open up.
URL:https://arocha.ca/event/a-rocha-day-camp-st-margarets-church-manitoba/
LOCATION:St Margaret’s Church\, 160 Ethelbert St.\, Winnipeg\, Manitoba\, R3G 1V7\, Canada
CATEGORIES:Day Camps,Manitoba,Winnipeg
ATTACH;FMTTYPE=image/jpeg:https://arocha.ca/wp-content/uploads/2016/04/Childrens-Ed-in-Manitoba.jpg
END:VEVENT
END:VCALENDAR