BEGIN:VCALENDAR
VERSION:2.0
PRODID:-//A Rocha - ECPv6.15.19//NONSGML v1.0//EN
CALSCALE:GREGORIAN
METHOD:PUBLISH
X-WR-CALNAME:A Rocha
X-ORIGINAL-URL:https://arocha.ca
X-WR-CALDESC:Events for A Rocha
REFRESH-INTERVAL;VALUE=DURATION:PT1H
X-Robots-Tag:noindex
X-PUBLISHED-TTL:PT1H
BEGIN:VTIMEZONE
TZID:America/Toronto
BEGIN:DAYLIGHT
TZOFFSETFROM:-0500
TZOFFSETTO:-0400
TZNAME:EDT
DTSTART:20180311T070000
END:DAYLIGHT
BEGIN:STANDARD
TZOFFSETFROM:-0400
TZOFFSETTO:-0500
TZNAME:EST
DTSTART:20181104T060000
END:STANDARD
BEGIN:DAYLIGHT
TZOFFSETFROM:-0500
TZOFFSETTO:-0400
TZNAME:EDT
DTSTART:20190310T070000
END:DAYLIGHT
BEGIN:STANDARD
TZOFFSETFROM:-0400
TZOFFSETTO:-0500
TZNAME:EST
DTSTART:20191103T060000
END:STANDARD
BEGIN:DAYLIGHT
TZOFFSETFROM:-0500
TZOFFSETTO:-0400
TZNAME:EDT
DTSTART:20200308T070000
END:DAYLIGHT
BEGIN:STANDARD
TZOFFSETFROM:-0400
TZOFFSETTO:-0500
TZNAME:EST
DTSTART:20201101T060000
END:STANDARD
END:VTIMEZONE
BEGIN:VEVENT
DTSTART;TZID=America/Toronto:20190806T090000
DTEND;TZID=America/Toronto:20190809T150000
DTSTAMP:20260425T163622
CREATED:20190508T193907Z
LAST-MODIFIED:20190704T000559Z
UID:27221-1565082000-1565362800@arocha.ca
SUMMARY:Wild Things Day Camp (Winnipeg\, MB)
DESCRIPTION:Dare to roam where the wild things are!\nJoin us August 6 – 9th for our Wild Things Day Camp!\nWild Things day camp happens in partnership with Many Rooms Church Community in the Spence Neighbourhood. The camp focuses on connecting kids with the natural world through music\, skits\, games\, hands-on learning\, and guided exploration. While exploring the outdoors we will learn about creation\, and how to care for it. \nCamp runs from 9am – 3pm daily. \n\nKids ages 6-12 welcome.\nCome dressed to be outside for the day.\nBring your own lunch\, water bottle & sunscreen.\nYummy snacks provided!\n\n$40 per camper \n﻿ \nPowered by Eventbrite\nFor more information contact zoe.matties@arocha.ca
URL:https://arocha.ca/event/wild-things-day-camp-winnipeg-mb-2/
LOCATION:Many Rooms Church Community\, 480 Spence St\, Winnipeg\, Manitoba\, R3B 2R7\, Canada
CATEGORIES:Day Camps,Manitoba,Winnipeg
ATTACH;FMTTYPE=image/jpeg:https://arocha.ca/wp-content/uploads/2019/05/Kids-Education-by-Brooke-McAllister34.jpg
END:VEVENT
BEGIN:VEVENT
DTSTART;TZID=America/Toronto:20190812T090000
DTEND;TZID=America/Toronto:20190816T150000
DTSTAMP:20260425T163622
CREATED:20190507T230835Z
LAST-MODIFIED:20190724T202011Z
UID:27214-1565600400-1565967600@arocha.ca
SUMMARY:Just Growing Day Camp (Winnipeg\, MB)
DESCRIPTION:A Summer Creation Exploration Camp!\nJoin us for the week of August 12-16!\nIn partnership with St. Margaret’s Anglican Church we are pleased to offer Just Growing Day Camp! Discover new life up close in the garden and all around us. While exploring creation we will learn how plants grow\, what makes bread rise\, and what in the world is compost! Kids can look forward to singing songs\, making skits\, playing games\, and hands-on outdoor activities. \nCamp runs from 9am to 3pm daily. \n\nKids ages 6 – 12 welcome.\nCome dressed to be outside for the day.\nBring your own lunch\, water bottle & sunscreen.\nYummy snacks provided!\n\n$125 per camper – $100 per additional camper in a family. \n﻿ \nPowered by Eventbrite\nFor more information contact zoe.matties@arocha.ca
URL:https://arocha.ca/event/just-growing-day-camp-winnipeg-mb-2/
LOCATION:St Margaret’s Church\, 160 Ethelbert St.\, Winnipeg\, Manitoba\, R3G 1V7\, Canada
CATEGORIES:Day Camps,Manitoba,Winnipeg
ATTACH;FMTTYPE=image/jpeg:https://arocha.ca/wp-content/uploads/2019/05/2018-08-15-10.34.29-e1557259685802.jpg
END:VEVENT
END:VCALENDAR