BEGIN:VCALENDAR
VERSION:2.0
PRODID:-//A Rocha - ECPv6.15.19//NONSGML v1.0//EN
CALSCALE:GREGORIAN
METHOD:PUBLISH
X-WR-CALNAME:A Rocha
X-ORIGINAL-URL:https://arocha.ca
X-WR-CALDESC:Events for A Rocha
REFRESH-INTERVAL;VALUE=DURATION:PT1H
X-Robots-Tag:noindex
X-PUBLISHED-TTL:PT1H
BEGIN:VTIMEZONE
TZID:America/Toronto
BEGIN:DAYLIGHT
TZOFFSETFROM:-0500
TZOFFSETTO:-0400
TZNAME:EDT
DTSTART:20180311T070000
END:DAYLIGHT
BEGIN:STANDARD
TZOFFSETFROM:-0400
TZOFFSETTO:-0500
TZNAME:EST
DTSTART:20181104T060000
END:STANDARD
BEGIN:DAYLIGHT
TZOFFSETFROM:-0500
TZOFFSETTO:-0400
TZNAME:EDT
DTSTART:20190310T070000
END:DAYLIGHT
BEGIN:STANDARD
TZOFFSETFROM:-0400
TZOFFSETTO:-0500
TZNAME:EST
DTSTART:20191103T060000
END:STANDARD
BEGIN:DAYLIGHT
TZOFFSETFROM:-0500
TZOFFSETTO:-0400
TZNAME:EDT
DTSTART:20200308T070000
END:DAYLIGHT
BEGIN:STANDARD
TZOFFSETFROM:-0400
TZOFFSETTO:-0500
TZNAME:EST
DTSTART:20201101T060000
END:STANDARD
END:VTIMEZONE
BEGIN:VEVENT
DTSTART;TZID=America/Toronto:20190715T090000
DTEND;TZID=America/Toronto:20190719T150000
DTSTAMP:20260425T182006
CREATED:20190508T194056Z
LAST-MODIFIED:20190509T200105Z
UID:27202-1563181200-1563548400@arocha.ca
SUMMARY:Farm and Forest Day Camp (Winnipeg\, MB)
DESCRIPTION:Join us for a week of exploration July 15-19!\nWe are partnering with Metanoia Farmers at Canadian Mennonite University to offer a week of Farm and Forest experience for kids! Children will discover new life up close in the farmyard and learn wilderness skills in the Assiniboine Forest next door. Kids can look forward to music\, games\, cooking and hands-on outdoor activities. \nCamp runs from 9:00 am – 3:00 pm daily. \n\nKids ages 8-13 welcome\nCome dressed to be outside for the day.\nBring your own lunch\, water bottle\, sunscreen and hat.\nYummy snacks provided!\n\n$125 per camper\, $100 per additional camper in a family. \n \nPowered by Eventbrite\nFor more info email zoe.matties@arocha.ca
URL:https://arocha.ca/event/farm-and-forest-day-camp-winnipeg-mb/
LOCATION:Canadian Mennonite University\, 500 Shaftesbury Blvd\, Winnipeg\, Manitoba\, R3P 2N2\, Canada
CATEGORIES:Day Camps,Manitoba,Winnipeg
ATTACH;FMTTYPE=image/jpeg:https://arocha.ca/wp-content/uploads/2019/05/Kids-Garden-by-Brooke-McAllister29.jpg
END:VEVENT
END:VCALENDAR