BEGIN:VCALENDAR
VERSION:2.0
PRODID:-//A Rocha - ECPv6.15.19//NONSGML v1.0//EN
CALSCALE:GREGORIAN
METHOD:PUBLISH
X-ORIGINAL-URL:https://arocha.ca
X-WR-CALDESC:Events for A Rocha
REFRESH-INTERVAL;VALUE=DURATION:PT1H
X-Robots-Tag:noindex
X-PUBLISHED-TTL:PT1H
BEGIN:VTIMEZONE
TZID:America/Winnipeg
BEGIN:DAYLIGHT
TZOFFSETFROM:-0600
TZOFFSETTO:-0500
TZNAME:CDT
DTSTART:20250309T080000
END:DAYLIGHT
BEGIN:STANDARD
TZOFFSETFROM:-0500
TZOFFSETTO:-0600
TZNAME:CST
DTSTART:20251102T070000
END:STANDARD
BEGIN:DAYLIGHT
TZOFFSETFROM:-0600
TZOFFSETTO:-0500
TZNAME:CDT
DTSTART:20260308T080000
END:DAYLIGHT
BEGIN:STANDARD
TZOFFSETFROM:-0500
TZOFFSETTO:-0600
TZNAME:CST
DTSTART:20261101T070000
END:STANDARD
BEGIN:DAYLIGHT
TZOFFSETFROM:-0600
TZOFFSETTO:-0500
TZNAME:CDT
DTSTART:20270314T080000
END:DAYLIGHT
BEGIN:STANDARD
TZOFFSETFROM:-0500
TZOFFSETTO:-0600
TZNAME:CST
DTSTART:20271107T070000
END:STANDARD
END:VTIMEZONE
BEGIN:VEVENT
DTSTART;TZID=America/Winnipeg:20260606T090000
DTEND;TZID=America/Winnipeg:20260606T150000
DTSTAMP:20260420T033616
CREATED:20260311T212155Z
LAST-MODIFIED:20260312T153831Z
UID:52588-1780736400-1780758000@arocha.ca
SUMMARY:Faith Forest Initiative (Winnipeg\, MB)
DESCRIPTION:We are partnering with the City of Winnipeg Naturalist Department to match churches with public spaces that need trees planted. \nThe next tree planting day is happening on June 6\, 2026 for Arbour Day! We will meet at Bruce Park.  The event will run from 10 am – 2pm\, but but volunteers would be welcome to help setup and take down from 9am-3pm. This event is in partnership with Trees Winnipeg. \nAll you need are gloves\, good footwear\, and some water to drink and the city will provide the shovels and the trees! \nPlease RSVP. We’d like to get a good sense of how many people will be joining us so we can have enough shovels and trees. Thanks!
URL:https://arocha.ca/event/faith-forest-initiative-winnipeg-mb-4/
LOCATION:Bruce Park\, 100 Ferry Rd\, Winnipeg\, Manitoba\, R3J 1Z3\, Canada
CATEGORIES:Manitoba,MB Conservation
ATTACH;FMTTYPE=image/jpeg:https://arocha.ca/wp-content/uploads/2025/05/IMGP5379-scaled.jpg
END:VEVENT
END:VCALENDAR