BEGIN:VCALENDAR
VERSION:2.0
PRODID:-//A Rocha - ECPv6.15.19//NONSGML v1.0//EN
CALSCALE:GREGORIAN
METHOD:PUBLISH
X-ORIGINAL-URL:https://arocha.ca
X-WR-CALDESC:Events for A Rocha
REFRESH-INTERVAL;VALUE=DURATION:PT1H
X-Robots-Tag:noindex
X-PUBLISHED-TTL:PT1H
BEGIN:VTIMEZONE
TZID:America/Vancouver
BEGIN:DAYLIGHT
TZOFFSETFROM:-0800
TZOFFSETTO:-0700
TZNAME:PDT
DTSTART:20240310T100000
END:DAYLIGHT
BEGIN:STANDARD
TZOFFSETFROM:-0700
TZOFFSETTO:-0800
TZNAME:PST
DTSTART:20241103T090000
END:STANDARD
BEGIN:DAYLIGHT
TZOFFSETFROM:-0800
TZOFFSETTO:-0700
TZNAME:PDT
DTSTART:20250309T100000
END:DAYLIGHT
BEGIN:STANDARD
TZOFFSETFROM:-0700
TZOFFSETTO:-0800
TZNAME:PST
DTSTART:20251102T090000
END:STANDARD
BEGIN:DAYLIGHT
TZOFFSETFROM:-0800
TZOFFSETTO:-0700
TZNAME:PDT
DTSTART:20260308T100000
END:DAYLIGHT
BEGIN:STANDARD
TZOFFSETFROM:-0700
TZOFFSETTO:-0800
TZNAME:PST
DTSTART:20261101T090000
END:STANDARD
END:VTIMEZONE
BEGIN:VEVENT
DTSTART;TZID=America/Vancouver:20250324T090000
DTEND;TZID=America/Vancouver:20250328T150000
DTSTAMP:20260419T094828
CREATED:20250117T172403Z
LAST-MODIFIED:20250224T205602Z
UID:48860-1742806800-1743174000@arocha.ca
SUMMARY:Spectacular Spring Day Camp (Surrey\, BC)
DESCRIPTION:Join us for our Spectacular Spring Day Camp! We will spend every day (9am-3pm) outdoors\, exploring the wetland\, forest and farmland at A Rocha’s Brooksdale Environmental Centre. Enjoy hands-on activities and discover life in our ecosystems! \nBring your own snacks (both morning and afternoon)\, lunch and water bottle. Come dressed for activities in the outdoors\, rain or shine. Wear a hat\, and gloves and bring an extra layer and waterproof outer jackets for wet days. Boots are required for rain! Bring an extra set of clothes\, just in case. (*please no umbrellas–we need our hands) \nFor children ages 6 – 12 (finished Kindergarten). \nA Rocha is a Christian environmental stewardship organization and our camp will include short reflections on Creation Care. For inquiries\, please email education.bc@arocha.ca or call 604 542 9006.  \n \n*Note: Ask us about financial assistance. \n \n\n\n\n\nFinancial assistance is available. \nContact us for more information. \n×Contact us at Brooksdale\n    \n    \n    \n    \n                    \n                \n                                    \n                \n                \n\n    \n\n    \n    \n    \n    \n    \n\n\n\n    \n    \n\nContact: Contact Us Page\n\n\n\nName\n\n\nEmail Address\n\n\n\nYour Subject\n\n\nYour Message:\n\n\n\n\n\n\n\n\n\nreCAPTCHA helps prevent automated form spam.\n\nThe submit button will be disabled until you complete the CAPTCHA.\n\n\n\n\n\n\n\nContact Information \n  \n       \n \nClose
URL:https://arocha.ca/event/spectacular-spring-day-camp-surrey-bc/
LOCATION:A Rocha’s Brooksdale Environmental Centre\, 1620 192 St\, Surrey\, British Columbia\, V3Z 9V2\, Canada
CATEGORIES:Brooksdale,Day Camps
ATTACH;FMTTYPE=image/jpeg:https://arocha.ca/wp-content/uploads/2025/01/DSCF0576-scaled-e1740092128404.jpg
END:VEVENT
END:VCALENDAR