BEGIN:VCALENDAR
VERSION:2.0
PRODID:-//A Rocha - ECPv6.15.19//NONSGML v1.0//EN
CALSCALE:GREGORIAN
METHOD:PUBLISH
X-WR-CALNAME:A Rocha
X-ORIGINAL-URL:https://arocha.ca
X-WR-CALDESC:Events for A Rocha
REFRESH-INTERVAL;VALUE=DURATION:PT1H
X-Robots-Tag:noindex
X-PUBLISHED-TTL:PT1H
BEGIN:VTIMEZONE
TZID:America/Toronto
BEGIN:DAYLIGHT
TZOFFSETFROM:-0500
TZOFFSETTO:-0400
TZNAME:EDT
DTSTART:20220313T070000
END:DAYLIGHT
BEGIN:STANDARD
TZOFFSETFROM:-0400
TZOFFSETTO:-0500
TZNAME:EST
DTSTART:20221106T060000
END:STANDARD
BEGIN:DAYLIGHT
TZOFFSETFROM:-0500
TZOFFSETTO:-0400
TZNAME:EDT
DTSTART:20230312T070000
END:DAYLIGHT
BEGIN:STANDARD
TZOFFSETFROM:-0400
TZOFFSETTO:-0500
TZNAME:EST
DTSTART:20231105T060000
END:STANDARD
BEGIN:DAYLIGHT
TZOFFSETFROM:-0500
TZOFFSETTO:-0400
TZNAME:EDT
DTSTART:20240310T070000
END:DAYLIGHT
BEGIN:STANDARD
TZOFFSETFROM:-0400
TZOFFSETTO:-0500
TZNAME:EST
DTSTART:20241103T060000
END:STANDARD
END:VTIMEZONE
BEGIN:VEVENT
DTSTART;TZID=America/Toronto:20230320T090000
DTEND;TZID=America/Toronto:20230324T150000
DTSTAMP:20260421T154555
CREATED:20230208T212839Z
LAST-MODIFIED:20230221T222906Z
UID:42130-1679302800-1679670000@arocha.ca
SUMMARY:Spring Up! Day Camp (Surrey\, BC)
DESCRIPTION:Join us for our Spring Up! Day Camp\, March 20-24 2023!\nExplore the forest\, garden and wetland as they jump into new spring growth! A world of discovery waits for you.  \n\nFor children ages 6 – 12 (finished kindergarten).\nCamp runs from 9am to 3pm.\nCome dressed for an active day outside (rain or shine). Wear gear for the weather: layers\, jacket\, pants\, hats\, gloves\, warm waterproof boots and rain protection. (No umbrellas\, please–you need your hands free!)\nBring extra set of clothing and socks.\nBring your own snacks (both morning and afternoon)\, hearty lunch & water bottle.\n\nHow to Register \nRegistration is now a simple one step process! Scroll down to see the Eventbrite registration\, click on it and select the number of child registration. Take time to fill in all the required information in one sitting\, pay and you are all set! \n If you would like financial assistance\, contact us for more information and we will consider your request on a case by case basis.  \nfor more information and we will consider your request on a case by case basis.  \nCANCELLATIONS & REFUNDS:   \nFamilies withdrawing with more than two weeks’ notice will be refunded full registration cost minus the Eventbrite administrative fee. If it is within the week prior to the program\, $50 will be non-refundable\, and the rest depending on if the spot is filled. \nThank you so much for your support! We look forward to seeing your child / children at our Spring Up Camp! \n— \nA Rocha is a Christian environmental stewardship organization and our camp will include short reflections on Creation Care. For inquiries\, please email canada.kids@arocha.ca or call 604 542 9006. \nHealth protocol: Please stay at home if you have illness symptoms.  \n \n\n\n\n\n×Contact us at Brooksdale\n    \n    \n    \n    \n                    \n                \n                                    \n                \n                \n\n    \n\n    \n    \n    \n    \n    \n\n\n\n    \n    \n\nContact: Contact Us Page\n\n\n\nName\n\n\nEmail Address\n\n\n\nYour Subject\n\n\nYour Message:\n\n\n\n\n\n\n\n\n\nreCAPTCHA helps prevent automated form spam.\n\nThe submit button will be disabled until you complete the CAPTCHA.\n\n\n\n\n\n\n\nContact Information \n  \n       \n \nClose
URL:https://arocha.ca/event/spring-up-day-camp-surrey-bc/
LOCATION:A Rocha’s Brooksdale Environmental Centre\, 1620 192 St\, Surrey\, British Columbia\, V3Z 9V2\, Canada
CATEGORIES:Brooksdale,Day Camps
ATTACH;FMTTYPE=image/jpeg:https://arocha.ca/wp-content/uploads/2022/11/PXL_20220715_170502830-scaled.jpg
END:VEVENT
END:VCALENDAR