BEGIN:VCALENDAR
VERSION:2.0
PRODID:-//A Rocha - ECPv6.15.19//NONSGML v1.0//EN
CALSCALE:GREGORIAN
METHOD:PUBLISH
X-WR-CALNAME:A Rocha
X-ORIGINAL-URL:https://arocha.ca
X-WR-CALDESC:Events for A Rocha
REFRESH-INTERVAL;VALUE=DURATION:PT1H
X-Robots-Tag:noindex
X-PUBLISHED-TTL:PT1H
BEGIN:VTIMEZONE
TZID:America/Vancouver
BEGIN:DAYLIGHT
TZOFFSETFROM:-0800
TZOFFSETTO:-0700
TZNAME:PDT
DTSTART:20210314T100000
END:DAYLIGHT
BEGIN:STANDARD
TZOFFSETFROM:-0700
TZOFFSETTO:-0800
TZNAME:PST
DTSTART:20211107T090000
END:STANDARD
BEGIN:DAYLIGHT
TZOFFSETFROM:-0800
TZOFFSETTO:-0700
TZNAME:PDT
DTSTART:20220313T100000
END:DAYLIGHT
BEGIN:STANDARD
TZOFFSETFROM:-0700
TZOFFSETTO:-0800
TZNAME:PST
DTSTART:20221106T090000
END:STANDARD
BEGIN:DAYLIGHT
TZOFFSETFROM:-0800
TZOFFSETTO:-0700
TZNAME:PDT
DTSTART:20230312T100000
END:DAYLIGHT
BEGIN:STANDARD
TZOFFSETFROM:-0700
TZOFFSETTO:-0800
TZNAME:PST
DTSTART:20231105T090000
END:STANDARD
END:VTIMEZONE
BEGIN:VEVENT
DTSTART;TZID=America/Vancouver:20220802T090000
DTEND;TZID=America/Vancouver:20220805T150000
DTSTAMP:20260424T074320
CREATED:20220223T034251Z
LAST-MODIFIED:20220327T010615Z
UID:38176-1659430800-1659711600@arocha.ca
SUMMARY:Farm Life Summer Day Camp 2 (Surrey\, BC)
DESCRIPTION:*FULL* Please join waitlist or check out Farm Life Camp 1 June 27-30!\nEnter into the daily hands-on rhythms of life on a farm: growing food and caring for animals\, as well as the ecosystems around us!\nJoin us for our Farm Life Day Camp! We will spend every day outdoors\, participating in all the daily farm and field activities around A Rocha’s Brooksdale Environmental Centre. Enjoy hands-on activities and discover connections to life in our ecosystems! \nNote: Camp 2 may have a different rhythm from Camp 1\, depending on the seasonal work that needs to be done. You can sign up for both camps if you feel this unique experience would be beneficial and enjoyable for your child.  \n\nFor children ages 6 – 12 (finished kindergarten).\nCamp runs from 9am to 3pm.\nCome dressed for an active day outside (rain or shine). Wear gear for the weather: hats\, boots and sun/rain protection. (No umbrellas\, please)\nBring extra set of clothing and socks.\nBring your own snacks (both morning and afternoon)\, lunch & water bottle.\nBring hand sanitizer and mask. We’ll use masks for activities where we’re in close proximity to one another. *(following the most current BC protocols)\n\nHow to Register \nRegistration is a 3-step process: \n1. Sign up\, and make payment through Eventbrite. If you would like financial assistance- Contact us for more information. \n2. Download and complete the A ROCHA Day Camp Registration Form and Parent Information & Agreement Form. (Note: You don’t have to submit the forms if your child has attended one of our 2021 programs\, unless info has changed.) \n3.  Return forms by 7 days prior to the day you registered for. Please email them to canada.kids@arocha.ca \nIMPORTANT: Your registration is NOT considered complete until we have received our A Rocha registration forms containing medical information and Consent waiver.  \nCANCELLATIONS & REFUNDS:  If a program is cancelled due to Covid-19 provincial health requirements\, all A Rocha camp fees will be fully refunded.    \nFamilies withdrawing with more than one week’s notice will be refunded full registration cost minus the Eventbrite administrative fee. If it is within the week prior to the program\, $50 will be non-refundable\, and the rest depending on if the spot is filled. \nThank you so much for your support and we look forward to seeing your child/children at our Summer Day Camp! \n— \nA Rocha is a Christian environmental stewardship organization and our camp will include short reflections on Creation Care. For inquiries\, please email canada.kids@arocha.ca or call  604 542 9006. \nIn light of COVID-19\, we are implementing changes in all areas of our work. As Day Camp activities take place outdoors\, we are still moving forward with this event but are taking extra precautions and maintaining physical distancing. Please stay at home if you have had symptoms or traveled\, or have been in contact with someone with symptoms or who has traveled in the last 14 days. Additional details on our prevention plan will be sent after registration. \n \n﻿﻿﻿﻿﻿﻿\nReminder: Please fill out the Day Camp Registration Form and Parent Information & Agreement Form and return it to canada.kids@arocha.ca \n×Contact us at Brooksdale\n\n    \n    \n    \n    \n                    \n                \n                                    \n                \n                \n\n    \n\n    \n    \n    \n    \n    \n\n\n\n    \n    \n\nContact: Contact Us Page\n\n\n\nName\n\n\nEmail Address\n\n\n\nYour Subject\n\n\nYour Message:\n\n\n\n\n\n\n\n\n\nreCAPTCHA helps prevent automated form spam.\n\nThe submit button will be disabled until you complete the CAPTCHA.\n\n\n\n\n\n\n\nContact Information \n  \n       \n \n\nClose
URL:https://arocha.ca/event/farm-life-summer-day-camp-2-surrey-bc/
LOCATION:A Rocha’s Brooksdale Environmental Centre\, 1620 192 St\, Surrey\, British Columbia\, V3Z 9V2\, Canada
CATEGORIES:Brooksdale,Day Camps
ATTACH;FMTTYPE=image/jpeg:https://arocha.ca/wp-content/uploads/2022/02/eggs-scaled.jpg
END:VEVENT
BEGIN:VEVENT
DTSTART;TZID=America/Vancouver:20220808T090000
DTEND;TZID=America/Vancouver:20220812T150000
DTSTAMP:20260424T074321
CREATED:20220223T033546Z
LAST-MODIFIED:20220223T033546Z
UID:38145-1659949200-1660316400@arocha.ca
SUMMARY:Fascinating Forests Summer Day Camp 2 (Surrey\, BC)
DESCRIPTION:Explore the secrets of the living community in the forest–giant trees\, wildlife and plants! Discover how they are all connected.\nWhat’s it like to be a tree? Do you know they thrive in communities like we do? Get to know the quiet giants of the forest through the senses\, ecological games and science. Spend the week exploring wildlife and plant ecology\, tracks and signs\, adaptations\, and the complex system by which all things in an ecosystem are connected. Discover all the different types of trees and understand how they serve different purposes in our interconnected world. Learn how trees impact the animal world\, and humans too! Come\, explore and have a “tree-mendous” week! \n\nFor children ages 6 – 12 (finished kindergarten).\nCamp runs from 9am to 3pm.\nCome dressed for an active day outside (rain or shine). Wear gear for the weather: hats\, gloves\, boots and rain protection. (No umbrellas\, please–you need your hands free!)\nBring extra set of clothing and socks.\nBring your own snacks (both morning and afternoon)\, lunch & water bottle.\nBring hand sanitizer and mask. We’ll use masks for activities where we’re in close proximity to one another. *(following the most current BC protocols)\n\nHow to Register \nRegistration is a 3-step process: \n1. Sign up\, and make payment through Eventbrite. If you would like financial assistance- Contact us for more information. \n2. Download and complete the A ROCHA Day Camp Registration Form and Parent Information & Agreement Form. (Note: You don’t have to submit the forms if your child has attended one of our 2022 programs\, unless info has changed.) \n3.  Return forms by 7 days prior to the day you registered for. Please email them to canada.kids@arocha.ca \nIMPORTANT: Your registration is NOT considered complete until we have received our A Rocha registration forms containing medical information and Consent waiver.  \nCANCELLATIONS & REFUNDS:  If a program is cancelled due to Covid-19 provincial health requirements\, all A Rocha camp fees will be fully refunded.    \nFamilies withdrawing with more than one week’s notice will be refunded full registration cost minus the Eventbrite administrative fee. If it is within the week prior to the program\, $50 will be non-refundable\, and the rest depending on if the spot is filled. \nThank you so much for your support! We look forward to seeing your child/children at our Spring Day Camp! \n— \nA Rocha is a Christian environmental stewardship organization and our camp will include short reflections on Creation Care. For inquiries\, please email canada.kids@arocha.ca or call 604 542 9006. \nIn light of COVID-19\, we are implementing changes in all areas of our work. As Day Camp activities take place outdoors\, we are still moving forward with this event but are taking extra precautions and maintaining physical distancing. Please stay at home if you have had symptoms or traveled\, or have been in contact with someone with symptoms or who has traveled in the last 14 days. Additional details on our prevention plan will be sent after registration. \n \n﻿﻿﻿﻿﻿﻿﻿﻿\nReminder: Please fill out the Day Camp Registration Form and Parent Information & Agreement Form and return it to canada.kids@arocha.ca \n  \n×Contact us at Brooksdale\n\n    \n    \n    \n    \n                    \n                \n                                    \n                \n                \n\n    \n\n    \n    \n    \n    \n    \n\n\n\n    \n    \n\nContact: Contact Us Page\n\n\n\nName\n\n\nEmail Address\n\n\n\nYour Subject\n\n\nYour Message:\n\n\n\n\n\n\n\n\n\nreCAPTCHA helps prevent automated form spam.\n\nThe submit button will be disabled until you complete the CAPTCHA.\n\n\n\n\n\n\n\nContact Information \n  \n       \n \n\nClose
URL:https://arocha.ca/event/fascinating-forests-summer-day-camp-2-surrey-bc/
LOCATION:A Rocha’s Brooksdale Environmental Centre\, 1620 192 St\, Surrey\, British Columbia\, V3Z 9V2\, Canada
CATEGORIES:Brooksdale,Day Camps
ATTACH;FMTTYPE=image/jpeg:https://arocha.ca/wp-content/uploads/2022/02/Kids-Education-by-Brooke-McAllister51.jpg
END:VEVENT
END:VCALENDAR