BEGIN:VCALENDAR
VERSION:2.0
PRODID:-//A Rocha - ECPv6.15.19//NONSGML v1.0//EN
CALSCALE:GREGORIAN
METHOD:PUBLISH
X-ORIGINAL-URL:https://arocha.ca
X-WR-CALDESC:Events for A Rocha
REFRESH-INTERVAL;VALUE=DURATION:PT1H
X-Robots-Tag:noindex
X-PUBLISHED-TTL:PT1H
BEGIN:VTIMEZONE
TZID:America/Vancouver
BEGIN:DAYLIGHT
TZOFFSETFROM:-0800
TZOFFSETTO:-0700
TZNAME:PDT
DTSTART:20210314T100000
END:DAYLIGHT
BEGIN:STANDARD
TZOFFSETFROM:-0700
TZOFFSETTO:-0800
TZNAME:PST
DTSTART:20211107T090000
END:STANDARD
BEGIN:DAYLIGHT
TZOFFSETFROM:-0800
TZOFFSETTO:-0700
TZNAME:PDT
DTSTART:20220313T100000
END:DAYLIGHT
BEGIN:STANDARD
TZOFFSETFROM:-0700
TZOFFSETTO:-0800
TZNAME:PST
DTSTART:20221106T090000
END:STANDARD
BEGIN:DAYLIGHT
TZOFFSETFROM:-0800
TZOFFSETTO:-0700
TZNAME:PDT
DTSTART:20230312T100000
END:DAYLIGHT
BEGIN:STANDARD
TZOFFSETFROM:-0700
TZOFFSETTO:-0800
TZNAME:PST
DTSTART:20231105T090000
END:STANDARD
END:VTIMEZONE
BEGIN:VEVENT
DTSTART;TZID=America/Vancouver:20220225T090000
DTEND;TZID=America/Vancouver:20220225T150000
DTSTAMP:20260424T185452
CREATED:20220119T003004Z
LAST-MODIFIED:20220119T003004Z
UID:37813-1645779600-1645801200@arocha.ca
SUMMARY:Winter Exploration Pro-D Day (Surrey Schools) (Surrey\, BC)
DESCRIPTION:Explore with us in nature! Discover strategies for how plants and creatures are surviving the long winter.\n\n\n\nFor children Grade K – 7.\nCamp runs from 9am to 3pm.\nCome dressed for an active day outside (rain\, snow or shine) in the weather: hats\, boots\, gloves\, layers and rain gear. (No umbrellas\, please)\nBring an extra set of clothing and socks.\nBring your own snack (both morning and afternoon)\, lunch & water bottle.\nBring hand sanitizer and mask. We’ll use masks for activities if we’re in close proximity to one another. *(following the most current BC protocols)\n\n\n\nHow to Register: \nRegistration is a 3-step process: \n1. Sign up\, and make payment through Eventbrite. If you would like to request financial assistance- Contact us for more information. \n2. Download and complete the Day Camp Registration Form and Parent Information & Agreement Form.  \n3.  Return forms by 7 days prior to the day you registered for. Please email them to canada.kids@arocha.ca \nIMPORTANT: Your registration is NOT considered complete until we have received the registration forms containing medical information and Consent waiver.  \nCANCELLATIONS & REFUNDS:  If a camp is cancelled due to Covid-19 provincial health requirements\, all camp fees will be fully refunded to affected families.    \nFamilies withdrawing with more than one week’s notice will be refunded full registration cost minus the Eventbrite administrative fee. If it is within the week prior to the camp\, $50 will be non-refundable\, and the rest depending on if the spot is filled. \nThank you so much for your support! We look forward to seeing your child/children at our Pro-D Day! \n— \nA Rocha is a Christian environmental stewardship organization and our camp will include short reflections on Creation Care. For inquiries\, please email canada.kids@arocha.ca or call 604 542 9006. \n  \nIn light of COVID-19\, we are implementing changes in all areas of our work. As Pro-D Day activities take place outdoors\, we are still moving forward with this event but are taking extra precautions and maintaining physical distancing. Please stay at home if you have had symptoms or traveled\, or have been in contact with someone with symptoms or who has traveled in the last 14 days. Additional details on our prevention plan will be sent after registration. \n \n﻿﻿﻿﻿﻿﻿﻿﻿﻿﻿﻿﻿﻿\nReminder: Please fill out the Day Camp Registration Form and Parent Information & Agreement Form  and return it to canada.kids@arocha.ca \n×Contact us at Brooksdale\n\n    \n    \n    \n    \n                    \n                \n                                    \n                \n                \n\n    \n\n    \n    \n    \n    \n    \n\n\n\n    \n    \n\nContact: Contact Us Page\n\n\n\nName\n\n\nEmail Address\n\n\n\nYour Subject\n\n\nYour Message:\n\n\n\n\n\n\n\n\n\nreCAPTCHA helps prevent automated form spam.\n\nThe submit button will be disabled until you complete the CAPTCHA.\n\n\n\n\n\n\n\nContact Information \n  \n       \n \n\nClose
URL:https://arocha.ca/event/winter-exploration-pro-d-day-surrey-schools-surrey-bc/
LOCATION:A Rocha’s Brooksdale Environmental Centre\, 1620 192 St\, Surrey\, British Columbia\, V3Z 9V2\, Canada
CATEGORIES:Brooksdale,Day Camps
ATTACH;FMTTYPE=image/jpeg:https://arocha.ca/wp-content/uploads/2021/10/DSCN7700-scaled.jpg
END:VEVENT
END:VCALENDAR