BEGIN:VCALENDAR
VERSION:2.0
PRODID:-//A Rocha - ECPv6.15.19//NONSGML v1.0//EN
CALSCALE:GREGORIAN
METHOD:PUBLISH
X-WR-CALNAME:A Rocha
X-ORIGINAL-URL:https://arocha.ca
X-WR-CALDESC:Events for A Rocha
REFRESH-INTERVAL;VALUE=DURATION:PT1H
X-Robots-Tag:noindex
X-PUBLISHED-TTL:PT1H
BEGIN:VTIMEZONE
TZID:America/Vancouver
BEGIN:DAYLIGHT
TZOFFSETFROM:-0800
TZOFFSETTO:-0700
TZNAME:PDT
DTSTART:20200308T100000
END:DAYLIGHT
BEGIN:STANDARD
TZOFFSETFROM:-0700
TZOFFSETTO:-0800
TZNAME:PST
DTSTART:20201101T090000
END:STANDARD
BEGIN:DAYLIGHT
TZOFFSETFROM:-0800
TZOFFSETTO:-0700
TZNAME:PDT
DTSTART:20210314T100000
END:DAYLIGHT
BEGIN:STANDARD
TZOFFSETFROM:-0700
TZOFFSETTO:-0800
TZNAME:PST
DTSTART:20211107T090000
END:STANDARD
BEGIN:DAYLIGHT
TZOFFSETFROM:-0800
TZOFFSETTO:-0700
TZNAME:PDT
DTSTART:20220313T100000
END:DAYLIGHT
BEGIN:STANDARD
TZOFFSETFROM:-0700
TZOFFSETTO:-0800
TZNAME:PST
DTSTART:20221106T090000
END:STANDARD
END:VTIMEZONE
BEGIN:VEVENT
DTSTART;TZID=America/Vancouver:20210319T090000
DTEND;TZID=America/Vancouver:20210319T150000
DTSTAMP:20260425T144034
CREATED:20210303T231100Z
LAST-MODIFIED:20210304T025658Z
UID:34652-1616144400-1616166000@arocha.ca
SUMMARY:Spring Discovery Day (Surrey\, BC)
DESCRIPTION:Join us for an exploration of our ecosystem in spring!\nExperience the thrill of searching for different kinds of life in our local wetland and forest areas. \n\nChildren grades K – 7 \nCamp runs from 9am to 3pm.\nCome dressed for an active day outside (rain or shine). Wear warm clothes\, layers\, gloves\, hat\, boots and rain gear!\nBring your own snacks (morning and afternoon)\, lunch & water bottle.\nMake sure you bring a mask. We want to keep everyone safe!\n\nHow to Register \nRegistration is a 3-step process: \n1. Sign up\, and make payment through Eventbrite.  \n2. Download and complete the Day Camp Registration Form and Parent Information & Agreement Form. \n3.  Return forms by 7 days prior to the day you registered for. Please email them to canada.kids@arocha.ca \nIMPORTANT: Your registration is NOT considered complete until we have received the registration forms containing medical information and Consent waiver.  \nCANCELLATIONS & REFUNDS:  If a camp is cancelled due to Covid-19 provincial health requirements\, all camp fees will be fully refunded to affected families.    \nFamilies withdrawing with more than one week’s notice will be refunded full registration cost minus the Eventbrite administrative fee. If it is within the week prior to the camp\, $50 will be non-refundable\, and the rest depending on if the spot is filled. \nThank you so much for your support and we look forward to seeing your child/children at our Spring Discovery Day! \nA Rocha is a Christian environmental stewardship organization and our camp will include short reflections on Creation Care. For inquiries\, please email canada.kids@arocha.ca or call  604 542 9006. \n— \nIn light of COVID-19\, we are implementing changes in all areas of our work. As Day Camp activities take place outdoors\, we are still moving forward with this event but are taking extra precautions and maintaining physical distancing. Please stay at home if you have had symptoms or traveled\, or have been in contact with someone with symptoms or who has traveled in the last 14 days. Additional details on our prevention plan will be sent upon registration. \n﻿﻿﻿﻿﻿\nPlease fill out the Day Camp Registration Form  and return it to canada.kids@arocha.ca \nFinancial assistance available. Contact us for more information. \n×Contact us at Brooksdale\n\n    \n    \n    \n    \n                    \n                \n                                    \n                \n                \n\n    \n\n    \n    \n    \n    \n    \n\n\n\n    \n    \n\nContact: Contact Us Page\n\n\n\nName\n\n\nEmail Address\n\n\n\nYour Subject\n\n\nYour Message:\n\n\n\n\n\n\n\n\n\nreCAPTCHA helps prevent automated form spam.\n\nThe submit button will be disabled until you complete the CAPTCHA.\n\n\n\n\n\n\n\nContact Information \n  \n       \n \n\nClose
URL:https://arocha.ca/event/spring-discovery-day-surrey-bc/
LOCATION:A Rocha’s Brooksdale Environmental Centre\, 1620 192 St\, Surrey\, British Columbia\, V3Z 9V2\, Canada
CATEGORIES:Brooksdale,Day Camps
ATTACH;FMTTYPE=image/jpeg:https://arocha.ca/wp-content/uploads/2021/03/bughunt-scaled.jpg
END:VEVENT
BEGIN:VEVENT
DTSTART;TZID=America/Vancouver:20210322T090000
DTEND;TZID=America/Vancouver:20210326T150000
DTSTAMP:20260425T144034
CREATED:20210113T041806Z
LAST-MODIFIED:20210303T231806Z
UID:33894-1616403600-1616770800@arocha.ca
SUMMARY:Signs of Spring Day Camp (Surrey\, BC)
DESCRIPTION:PLEASE NOTE: This event is now full\, but you are welcome to sign up to be on the waitlist!\nJoin us for a week of exploration on March 22-26!\nJoin us for our Spring Break Day Camp! We will spend every day (9am-3pm) outdoors\, exploring the signs of spring in the wetland\, forest and farmland at A Rocha’s Brooksdale Environmental Centre. Enjoy hands-on activities and discover life in our ecosystems! \n\nChildren ages 6 – 12 welcome. (Must be finished kindergarten.)\nCamp runs from 9am to 3pm daily.\nCome dressed warmly for activities outside (rain or shine). Wear a hat\, gloves\, and warm layers with waterproof outer jackets. Boots required! Bring an extra set of clothes\, just in case. (*please no umbrellas–we need our hands)\nBring your own snacks (morning and afternoon)\, lunch & water bottle.\n\nA Rocha is a Christian environmental stewardship organization and our camp will include short reflections on Creation Care. For inquiries\, please email canada.kids@arocha.ca or call  604 542 9006. \n— \nIn light of COVID-19\, we are implementing changes in all areas of our work. As Day Camp activities take place outdoors\, we are still moving forward with this event but are taking extra precautions and maintaining physical distancing. Please stay at home if you have had symptoms or traveled\, or have been in contact with someone with symptoms or who has traveled in the last 14 days. Additional details on our prevention plan will be sent upon registration. \n﻿﻿﻿﻿\nPlease fill out the Day Camp Registration Form  and return it to canada.kids@arocha.ca \nFinancial assistance available. Contact us for more information. \n×Contact us at Brooksdale\n\n    \n    \n    \n    \n                    \n                \n                                    \n                \n                \n\n    \n\n    \n    \n    \n    \n    \n\n\n\n    \n    \n\nContact: Contact Us Page\n\n\n\nName\n\n\nEmail Address\n\n\n\nYour Subject\n\n\nYour Message:\n\n\n\n\n\n\n\n\n\nreCAPTCHA helps prevent automated form spam.\n\nThe submit button will be disabled until you complete the CAPTCHA.\n\n\n\n\n\n\n\nContact Information \n  \n       \n \n\nClose
URL:https://arocha.ca/event/signs-of-spring-day-camp-surrey-bc-2/
LOCATION:A Rocha’s Brooksdale Environmental Centre\, 1620 192 St\, Surrey\, British Columbia\, V3Z 9V2\, Canada
CATEGORIES:Brooksdale,Day Camps
ATTACH;FMTTYPE=image/jpeg:https://arocha.ca/wp-content/uploads/2021/01/123Rocha2019_BMC4627-scaled.jpg
END:VEVENT
END:VCALENDAR