BEGIN:VCALENDAR
VERSION:2.0
PRODID:-//A Rocha - ECPv6.15.19//NONSGML v1.0//EN
CALSCALE:GREGORIAN
METHOD:PUBLISH
X-WR-CALNAME:A Rocha
X-ORIGINAL-URL:https://arocha.ca
X-WR-CALDESC:Events for A Rocha
REFRESH-INTERVAL;VALUE=DURATION:PT1H
X-Robots-Tag:noindex
X-PUBLISHED-TTL:PT1H
BEGIN:VTIMEZONE
TZID:UTC
BEGIN:STANDARD
TZOFFSETFROM:+0000
TZOFFSETTO:+0000
TZNAME:UTC
DTSTART:20210101T000000
END:STANDARD
END:VTIMEZONE
BEGIN:VTIMEZONE
TZID:America/Vancouver
BEGIN:DAYLIGHT
TZOFFSETFROM:-0800
TZOFFSETTO:-0700
TZNAME:PDT
DTSTART:20210314T100000
END:DAYLIGHT
BEGIN:STANDARD
TZOFFSETFROM:-0700
TZOFFSETTO:-0800
TZNAME:PST
DTSTART:20211107T090000
END:STANDARD
BEGIN:DAYLIGHT
TZOFFSETFROM:-0800
TZOFFSETTO:-0700
TZNAME:PDT
DTSTART:20220313T100000
END:DAYLIGHT
BEGIN:STANDARD
TZOFFSETFROM:-0700
TZOFFSETTO:-0800
TZNAME:PST
DTSTART:20221106T090000
END:STANDARD
BEGIN:DAYLIGHT
TZOFFSETFROM:-0800
TZOFFSETTO:-0700
TZNAME:PDT
DTSTART:20230312T100000
END:DAYLIGHT
BEGIN:STANDARD
TZOFFSETFROM:-0700
TZOFFSETTO:-0800
TZNAME:PST
DTSTART:20231105T090000
END:STANDARD
END:VTIMEZONE
BEGIN:VEVENT
DTSTART;TZID=UTC:20221203T130000
DTEND;TZID=UTC:20221203T160000
DTSTAMP:20260419T060658
CREATED:20221117T231821Z
LAST-MODIFIED:20221117T232533Z
UID:41607-1670072400-1670083200@arocha.ca
SUMMARY:Christmas Store Open House (Surrey\, BC)
DESCRIPTION:Bring your family to Brooksdale Environmental Centre for some good holiday cheer. Join us for carolling by the fireplace\, site tours\, warm drinks and yummy treats\, and local & fair-trade gifts for sale! \nThe Market will be open for regular store hours\, 10am-4pm\, with Christmas Caroling & treats happening from 1pm-4pm.
URL:https://arocha.ca/event/christmas-store-open-house-surrey-bc/
LOCATION:A Rocha Market: Farm & Gift Shop\, 1620 192 Street\, Surrey\, British Columbia\, V3Z 9V2\, Canada
CATEGORIES:BC Special Events
ATTACH;FMTTYPE=image/jpeg:https://arocha.ca/wp-content/uploads/2022/11/ARC-Open-House-50-scaled.jpg
END:VEVENT
BEGIN:VEVENT
DTSTART;TZID=America/Vancouver:20221222T100000
DTEND;TZID=America/Vancouver:20221223T140000
DTSTAMP:20260419T060658
CREATED:20221214T220845Z
LAST-MODIFIED:20221214T220845Z
UID:41929-1671703200-1671804000@arocha.ca
SUMMARY:Christmas Open House (Houston\, BC)
DESCRIPTION:Christmas Open House\nYou’re invited to the Christmas Open House at the Buck Creek Canfor Hatchery and Nature Centre on Thursday\, Dec. 22 from 10am to 2pm. Drop in for some festive fun! Create a upcycled Christmas craft\, design a winter scene in the sand table\, say Merry Christmas to the coho and chinook fry and Mabel the turtle\, and enjoy some tea or hot chocolate! We’d love to see you here – bring your family and/or holiday visitors!\nLocation: Buck Creek Canfor Hatchery & Nature Centre\, Houston BC (3125 Highway 16)
URL:https://arocha.ca/event/christmas-open-house-houston-bc/
LOCATION:Buck Creek Hatchery and Nature Centre\, 3125 Highway 16\, Houston\, British Columbia\, V0J 1Z0\, Canada
CATEGORIES:BC Special Events,Northern BC
ATTACH;FMTTYPE=image/png:https://arocha.ca/wp-content/uploads/2022/12/2.png
ORGANIZER;CN="A Rocha Northern BC":MAILTO:houston.bc@arocha.ca
END:VEVENT
END:VCALENDAR