BEGIN:VCALENDAR
VERSION:2.0
PRODID:-//A Rocha - ECPv6.15.19//NONSGML v1.0//EN
CALSCALE:GREGORIAN
METHOD:PUBLISH
X-ORIGINAL-URL:https://arocha.ca
X-WR-CALDESC:Events for A Rocha
REFRESH-INTERVAL;VALUE=DURATION:PT1H
X-Robots-Tag:noindex
X-PUBLISHED-TTL:PT1H
BEGIN:VTIMEZONE
TZID:America/Vancouver
BEGIN:DAYLIGHT
TZOFFSETFROM:-0800
TZOFFSETTO:-0700
TZNAME:PDT
DTSTART:20210314T100000
END:DAYLIGHT
BEGIN:STANDARD
TZOFFSETFROM:-0700
TZOFFSETTO:-0800
TZNAME:PST
DTSTART:20211107T090000
END:STANDARD
BEGIN:DAYLIGHT
TZOFFSETFROM:-0800
TZOFFSETTO:-0700
TZNAME:PDT
DTSTART:20220313T100000
END:DAYLIGHT
BEGIN:STANDARD
TZOFFSETFROM:-0700
TZOFFSETTO:-0800
TZNAME:PST
DTSTART:20221106T090000
END:STANDARD
BEGIN:DAYLIGHT
TZOFFSETFROM:-0800
TZOFFSETTO:-0700
TZNAME:PDT
DTSTART:20230312T100000
END:DAYLIGHT
BEGIN:STANDARD
TZOFFSETFROM:-0700
TZOFFSETTO:-0800
TZNAME:PST
DTSTART:20231105T090000
END:STANDARD
END:VTIMEZONE
BEGIN:VEVENT
DTSTART;TZID=America/Vancouver:20220910T093000
DTEND;TZID=America/Vancouver:20220910T120000
DTSTAMP:20260419T112543
CREATED:20220710T025232Z
LAST-MODIFIED:20220710T035720Z
UID:40098-1662802200-1662811200@arocha.ca
SUMMARY:Restoration Saturday (Surrey\, BC)
DESCRIPTION:Join A Rocha’s Brooksdale conservation team for a morning of habitat restoration and enhancement.\nNote: This event coincides with Volunteer Day\, when we welcome volunteers for projects in other areas\, such as the farm\, grounds\, and heritage buildings. Sign up below if you specifically want to join the restoration work! \n  \nGet your hands dirty planting native trees and shrubs\, removing invasive vegetation (such as Himalayan blackberry or English ivy) and much more. \nThe team will meet at Brooksdale Environmental Centre (1620 192 St – Surrey\, BC) and will travel to the restoration site from there. All ages welcome to participate! Please bring your own pair of gloves and water; tools and other equipment will be provided. \nHope to see you there! \n 
URL:https://arocha.ca/event/restoration-saturday-surrey-bc-28/
LOCATION:A Rocha’s Brooksdale Environmental Centre\, 1620 192 St\, Surrey\, British Columbia\, V3Z 9V2\, Canada
CATEGORIES:BC Special Events,Brooksdale,Restoration Days
ATTACH;FMTTYPE=image/jpeg:https://arocha.ca/wp-content/uploads/2022/05/Restoration-Saturdays.jpeg
END:VEVENT
BEGIN:VEVENT
DTSTART;TZID=America/Vancouver:20220916T093000
DTEND;TZID=America/Vancouver:20220916T123000
DTSTAMP:20260419T112543
CREATED:20220909T002425Z
LAST-MODIFIED:20220915T200938Z
UID:40831-1663320600-1663331400@arocha.ca
SUMMARY:Restoration Friday (Surrey\, BC)
DESCRIPTION:Join A Rocha’s Brooksdale conservation team for a morning of habitat restoration and enhancement.\nGet your hands dirty planting native trees and shrubs\, removing invasive vegetation (such as Himalayan blackberry or English ivy) and much more. Today we will be organizing our native plant nursery for some upcoming restoration projects and removing blackberry from a section of the Brooksdale property. \nThe team will meet at Brooksdale Environmental Centre (1620 192 St – Surrey\, BC). All ages welcome to participate! Please bring your own pair of blackberry-resistant gloves\, water\, and weather-appropriate clothing; tools and other equipment will be provided. \nHope to see you there! \n\n\n\n\n\n 
URL:https://arocha.ca/event/restoration-friday-surrey-bc/
LOCATION:A Rocha’s Brooksdale Environmental Centre\, 1620 192 St\, Surrey\, British Columbia\, V3Z 9V2\, Canada
CATEGORIES:BC Special Events,Brooksdale,Restoration Days
ATTACH;FMTTYPE=image/jpeg:https://arocha.ca/wp-content/uploads/2022/05/Restoration-Saturdays.jpeg
END:VEVENT
BEGIN:VEVENT
DTSTART;TZID=America/Vancouver:20220917T093000
DTEND;TZID=America/Vancouver:20220917T120000
DTSTAMP:20260419T112543
CREATED:20220710T030225Z
LAST-MODIFIED:20220915T201114Z
UID:40103-1663407000-1663416000@arocha.ca
SUMMARY:Restoration Saturday (Surrey\, BC)
DESCRIPTION:Join A Rocha’s Brooksdale conservation team for a morning of habitat restoration and enhancement.\nGet your hands dirty planting native trees and shrubs\, removing invasive vegetation (such as Himalayan blackberry or English ivy) and much more. Today we will be planting native reeds and rushes at a nearby wetland we are constructing. \nThe team will meet at Brooksdale Environmental Centre (1620 192 St – Surrey\, BC) and will travel to the restoration site from there. All ages welcome to participate! Please bring your own pair of gloves and water; tools and other equipment will be provided. \nHope to see you there! \n 
URL:https://arocha.ca/event/restoration-saturday-surrey-bc-30/
LOCATION:A Rocha’s Brooksdale Environmental Centre\, 1620 192 St\, Surrey\, British Columbia\, V3Z 9V2\, Canada
CATEGORIES:BC Special Events,Brooksdale,Restoration Days
ATTACH;FMTTYPE=image/jpeg:https://arocha.ca/wp-content/uploads/2022/05/Restoration-Saturdays.jpeg
END:VEVENT
BEGIN:VEVENT
DTSTART;TZID=America/Vancouver:20220920T133000
DTEND;TZID=America/Vancouver:20220920T163000
DTSTAMP:20260419T112543
CREATED:20220908T222622Z
LAST-MODIFIED:20220908T222802Z
UID:40803-1663680600-1663691400@arocha.ca
SUMMARY:Restoration Tuesday (Surrey\, BC)
DESCRIPTION:Join A Rocha’s Brooksdale conservation team for an afternoon of habitat restoration and enhancement.\nGet your hands dirty planting native trees and shrubs\, removing invasive vegetation (such as Himalayan blackberry or English ivy) and much more. \nThe team will meet at Brooksdale Environmental Centre (1620 192 St – Surrey\, BC) and will travel to the restoration site from there. All ages welcome to participate! Please bring your own pair of gloves\, water\, and weather-appropriate clothing; tools and other equipment will be provided. \nHope to see you there! \n 
URL:https://arocha.ca/event/restoration-tuesday-surrey-bc/
LOCATION:A Rocha’s Brooksdale Environmental Centre\, 1620 192 St\, Surrey\, British Columbia\, V3Z 9V2\, Canada
CATEGORIES:BC Special Events,Brooksdale,Restoration Days
ATTACH;FMTTYPE=image/jpeg:https://arocha.ca/wp-content/uploads/2022/05/Restoration-Saturdays.jpeg
END:VEVENT
BEGIN:VEVENT
DTSTART;TZID=America/Vancouver:20220927T133000
DTEND;TZID=America/Vancouver:20220927T163000
DTSTAMP:20260419T112543
CREATED:20220908T222935Z
LAST-MODIFIED:20220908T222935Z
UID:40806-1664285400-1664296200@arocha.ca
SUMMARY:Restoration Tuesday (Surrey\, BC)
DESCRIPTION:Join A Rocha’s Brooksdale conservation team for an afternoon of habitat restoration and enhancement.\nGet your hands dirty planting native trees and shrubs\, removing invasive vegetation (such as Himalayan blackberry or English ivy) and much more. \nThe team will meet at Brooksdale Environmental Centre (1620 192 St – Surrey\, BC) and will travel to the restoration site from there. All ages welcome to participate! Please bring your own pair of gloves\, water\, and weather-appropriate clothing; tools and other equipment will be provided. \nHope to see you there! \n 
URL:https://arocha.ca/event/restoration-tuesday-surrey-bc-2/
LOCATION:A Rocha’s Brooksdale Environmental Centre\, 1620 192 St\, Surrey\, British Columbia\, V3Z 9V2\, Canada
CATEGORIES:BC Special Events,Brooksdale,Restoration Days
ATTACH;FMTTYPE=image/jpeg:https://arocha.ca/wp-content/uploads/2022/05/Restoration-Saturdays.jpeg
END:VEVENT
END:VCALENDAR