BEGIN:VCALENDAR
VERSION:2.0
PRODID:-//A Rocha - ECPv6.15.19//NONSGML v1.0//EN
CALSCALE:GREGORIAN
METHOD:PUBLISH
X-ORIGINAL-URL:https://arocha.ca
X-WR-CALDESC:Events for A Rocha
REFRESH-INTERVAL;VALUE=DURATION:PT1H
X-Robots-Tag:noindex
X-PUBLISHED-TTL:PT1H
BEGIN:VTIMEZONE
TZID:America/Vancouver
BEGIN:DAYLIGHT
TZOFFSETFROM:-0800
TZOFFSETTO:-0700
TZNAME:PDT
DTSTART:20210314T100000
END:DAYLIGHT
BEGIN:STANDARD
TZOFFSETFROM:-0700
TZOFFSETTO:-0800
TZNAME:PST
DTSTART:20211107T090000
END:STANDARD
BEGIN:DAYLIGHT
TZOFFSETFROM:-0800
TZOFFSETTO:-0700
TZNAME:PDT
DTSTART:20220313T100000
END:DAYLIGHT
BEGIN:STANDARD
TZOFFSETFROM:-0700
TZOFFSETTO:-0800
TZNAME:PST
DTSTART:20221106T090000
END:STANDARD
BEGIN:DAYLIGHT
TZOFFSETFROM:-0800
TZOFFSETTO:-0700
TZNAME:PDT
DTSTART:20230312T100000
END:DAYLIGHT
BEGIN:STANDARD
TZOFFSETFROM:-0700
TZOFFSETTO:-0800
TZNAME:PST
DTSTART:20231105T090000
END:STANDARD
END:VTIMEZONE
BEGIN:VTIMEZONE
TZID:UTC
BEGIN:STANDARD
TZOFFSETFROM:+0000
TZOFFSETTO:+0000
TZNAME:UTC
DTSTART:20210101T000000
END:STANDARD
END:VTIMEZONE
BEGIN:VEVENT
DTSTART;TZID=America/Vancouver:20220805T120000
DTEND;TZID=America/Vancouver:20220806T120000
DTSTAMP:20260419T131255
CREATED:20220526T211010Z
LAST-MODIFIED:20220614T234155Z
UID:39570-1659700800-1659787200@arocha.ca
SUMMARY:Buck Creek Yard Sale (Houston\, BC)
DESCRIPTION:Yard Sale Fundraiser\nDonate your new or used items and come shop as well! All proceeds support the Nature Centre!\n\nThurs. Aug 4 – Drop off donated items 12pm – 6 pm at the nature centre\nFri. Aug 5 – Sale from 12pm – 7 pm\nSat. Aug 6 – Sale from 8am -12 pm\nLocation: Buck Creek Canfor Hatchery & Nature Centre\, Houston BC \nCash Only
URL:https://arocha.ca/event/yard-sale-houston-bc/
LOCATION:Buck Creek Hatchery and Nature Centre\, 3125 Highway 16\, Houston\, British Columbia\, V0J 1Z0\, Canada
CATEGORIES:BC Special Events,Northern BC
ATTACH;FMTTYPE=image/jpeg:https://arocha.ca/wp-content/uploads/2022/05/20220510_162506-scaled.jpg
END:VEVENT
BEGIN:VEVENT
DTSTART;TZID=America/Vancouver:20220806T093000
DTEND;TZID=America/Vancouver:20220806T120000
DTSTAMP:20260419T131255
CREATED:20220625T222942Z
LAST-MODIFIED:20220710T024605Z
UID:39948-1659778200-1659787200@arocha.ca
SUMMARY:Restoration Saturday (Surrey\, BC)
DESCRIPTION:Join A Rocha’s Brooksdale conservation team for a morning of habitat restoration and enhancement.\nGet your hands dirty planting native trees and shrubs\, removing invasive vegetation (such as Himalayan blackberry or English ivy) and much more. \nThe team will meet at Brooksdale Environmental Centre (1620 192 St – Surrey\, BC) and will travel to the restoration site from there. All ages welcome to participate! Please bring your own pair of gloves and water; tools and other equipment will be provided. \nHope to see you there! \n 
URL:https://arocha.ca/event/restoration-saturdays-8/
LOCATION:A Rocha’s Brooksdale Environmental Centre\, 1620 192 St\, Surrey\, British Columbia\, V3Z 9V2\, Canada
CATEGORIES:BC Special Events,Brooksdale,Restoration Days
ATTACH;FMTTYPE=image/jpeg:https://arocha.ca/wp-content/uploads/2022/05/Restoration-Saturdays.jpeg
END:VEVENT
BEGIN:VEVENT
DTSTART;VALUE=DATE:20220810
DTEND;VALUE=DATE:20220811
DTSTAMP:20260419T131255
CREATED:20220527T185751Z
LAST-MODIFIED:20220614T234234Z
UID:39622-1660089600-1660175999@arocha.ca
SUMMARY:Streamkeepers (Houston\, BC)
DESCRIPTION:ZoAnn Morton from the Pacific Streamkeepers Federation will be at the Buck Creek Hatchery & Nature Centre during open hours on Wed. Aug 10. Come learn more about streams\, salmon\, insects and what streamkeepers are doing around the province to care for our salmon!
URL:https://arocha.ca/event/streamkeepers-houston-bc/
LOCATION:Buck Creek Hatchery and Nature Centre\, 3125 Highway 16\, Houston\, British Columbia\, V0J 1Z0\, Canada
CATEGORIES:BC Special Events,Northern BC
ATTACH;FMTTYPE=image/jpeg:https://arocha.ca/wp-content/uploads/2022/05/Streamkeepers-016.jpg
ORGANIZER;CN="A Rocha Northern BC":MAILTO:houston.bc@arocha.ca
END:VEVENT
BEGIN:VEVENT
DTSTART;TZID=America/Vancouver:20220812T100000
DTEND;TZID=America/Vancouver:20220812T170000
DTSTAMP:20260419T131255
CREATED:20220309T214902Z
LAST-MODIFIED:20220615T035911Z
UID:38451-1660298400-1660323600@arocha.ca
SUMMARY:August Contemplative Prayer Retreat (Surrey\, BC)
DESCRIPTION:A one day mini-retreat designed to help you connect with God\, creation and your truest self through solitude\, prayer\, and shared liturgy. \nWe will enjoy the beauty of the Brooksdale Environmental Centre as we spend time exploring themes dealing with creation and contemplation. There will be ample time for solitude as you enjoy the peace and beauty of A Rocha’s property.  \nA farm-fresh lunch and yummy snacks will be provided. \nYour facilitator: Leah Kostamo \nLeah is a trained spiritual director\, retreat leader and Co-founder of A Rocha Canada. \nCost: $85.00\nSpace is limited to 10 people so register early.\nCurious to find out more? You can contact Leah directly at leah.kostamo@arocha.ca \n\n\n\n\n\n\n\n﻿﻿﻿﻿﻿﻿﻿﻿﻿﻿﻿﻿﻿﻿﻿
URL:https://arocha.ca/event/august-contemplative-prayer-retreat-2/
LOCATION:A Rocha’s Brooksdale Environmental Centre\, 1620 192 St\, Surrey\, British Columbia\, V3Z 9V2\, Canada
CATEGORIES:BC Special Events,Brooksdale
ATTACH;FMTTYPE=image/jpeg:https://arocha.ca/wp-content/uploads/2022/03/https___cdn.evbuc_.com_images_240422599_107531319831_1_original.jpg
END:VEVENT
BEGIN:VEVENT
DTSTART;TZID=America/Vancouver:20220813T093000
DTEND;TZID=America/Vancouver:20220813T120000
DTSTAMP:20260419T131255
CREATED:20220709T214557Z
LAST-MODIFIED:20220710T024150Z
UID:40076-1660383000-1660392000@arocha.ca
SUMMARY:Restoration Saturday (Surrey\, BC)
DESCRIPTION:Join A Rocha’s Brooksdale conservation team for a morning of habitat restoration and enhancement.\nNote: This event coincides with Volunteer Day\, when we welcome volunteers for projects in other areas\, such as the farm\, grounds\, and heritage buildings. Sign up below if you specifically want to join the restoration work! \n  \nGet your hands dirty planting native trees and shrubs\, removing invasive vegetation (such as Himalayan blackberry or English ivy) and much more. \nThe team will meet at Brooksdale Environmental Centre (1620 192 St – Surrey\, BC) and will travel to the restoration site from there. All ages welcome to participate! Please bring your own pair of gloves and water; tools and other equipment will be provided. \nHope to see you there! \n 
URL:https://arocha.ca/event/restoration-saturdays-9/
LOCATION:A Rocha’s Brooksdale Environmental Centre\, 1620 192 St\, Surrey\, British Columbia\, V3Z 9V2\, Canada
CATEGORIES:BC Special Events,Brooksdale,Restoration Days
ATTACH;FMTTYPE=image/jpeg:https://arocha.ca/wp-content/uploads/2022/05/Restoration-Saturdays.jpeg
END:VEVENT
BEGIN:VEVENT
DTSTART;TZID=America/Vancouver:20220827T093000
DTEND;TZID=America/Vancouver:20220827T120000
DTSTAMP:20260419T131255
CREATED:20220710T024500Z
LAST-MODIFIED:20220710T024826Z
UID:40090-1661592600-1661601600@arocha.ca
SUMMARY:Restoration Saturday (Surrey\, BC)
DESCRIPTION:Join A Rocha’s Brooksdale conservation team for a morning of habitat restoration and enhancement.\nGet your hands dirty planting native trees and shrubs\, removing invasive vegetation (such as Himalayan blackberry or English ivy) and much more. \nThe team will meet at Brooksdale Environmental Centre (1620 192 St – Surrey\, BC) and will travel to the restoration site from there. All ages welcome to participate! Please bring your own pair of gloves and water; tools and other equipment will be provided. \nHope to see you there! \n 
URL:https://arocha.ca/event/restoration-saturday-surrey-bc-27/
LOCATION:A Rocha’s Brooksdale Environmental Centre\, 1620 192 St\, Surrey\, British Columbia\, V3Z 9V2\, Canada
CATEGORIES:BC Special Events,Brooksdale,Restoration Days
ATTACH;FMTTYPE=image/jpeg:https://arocha.ca/wp-content/uploads/2022/05/Restoration-Saturdays.jpeg
END:VEVENT
END:VCALENDAR