BEGIN:VCALENDAR
VERSION:2.0
PRODID:-//A Rocha - ECPv6.15.19//NONSGML v1.0//EN
CALSCALE:GREGORIAN
METHOD:PUBLISH
X-WR-CALNAME:A Rocha
X-ORIGINAL-URL:https://arocha.ca
X-WR-CALDESC:Events for A Rocha
REFRESH-INTERVAL;VALUE=DURATION:PT1H
X-Robots-Tag:noindex
X-PUBLISHED-TTL:PT1H
BEGIN:VTIMEZONE
TZID:America/Vancouver
BEGIN:DAYLIGHT
TZOFFSETFROM:-0800
TZOFFSETTO:-0700
TZNAME:PDT
DTSTART:20210314T100000
END:DAYLIGHT
BEGIN:STANDARD
TZOFFSETFROM:-0700
TZOFFSETTO:-0800
TZNAME:PST
DTSTART:20211107T090000
END:STANDARD
BEGIN:DAYLIGHT
TZOFFSETFROM:-0800
TZOFFSETTO:-0700
TZNAME:PDT
DTSTART:20220313T100000
END:DAYLIGHT
BEGIN:STANDARD
TZOFFSETFROM:-0700
TZOFFSETTO:-0800
TZNAME:PST
DTSTART:20221106T090000
END:STANDARD
BEGIN:DAYLIGHT
TZOFFSETFROM:-0800
TZOFFSETTO:-0700
TZNAME:PDT
DTSTART:20230312T100000
END:DAYLIGHT
BEGIN:STANDARD
TZOFFSETFROM:-0700
TZOFFSETTO:-0800
TZNAME:PST
DTSTART:20231105T090000
END:STANDARD
END:VTIMEZONE
BEGIN:VEVENT
DTSTART;TZID=America/Vancouver:20220708T100000
DTEND;TZID=America/Vancouver:20220708T170000
DTSTAMP:20260419T151048
CREATED:20220309T214240Z
LAST-MODIFIED:20220615T035710Z
UID:38448-1657274400-1657299600@arocha.ca
SUMMARY:July Contemplative Prayer Retreat (Surrey\, BC)
DESCRIPTION:A one day mini-retreat designed to help you connect with God\, creation and your truest self through solitude\, prayer\, and shared liturgy. \nWe will meet IN PERSON and spend time exploring the theme of HOPE together. There will also be ample time for solitude as you enjoy the peace and tranquility of the Brooksdale property.  \nA farm-fresh lunch and yummy snacks will be provided. \nYour facilitator: Leah Kostamo \nLeah is a trained spiritual director\, retreat leader and Co-founder of A Rocha Canada. \nCost: $85.00\nSpace is limited to 10 people so register early.\nCurious to find out more? You can contact Leah directly at leah.kostamo@arocha.ca \n\n\n\n\n\n\n\n﻿﻿﻿﻿﻿﻿﻿﻿﻿﻿﻿﻿﻿﻿
URL:https://arocha.ca/event/july-contemplative-prayer-retreat-2/
LOCATION:A Rocha’s Brooksdale Environmental Centre\, 1620 192 St\, Surrey\, British Columbia\, V3Z 9V2\, Canada
CATEGORIES:BC Special Events,Brooksdale
ATTACH;FMTTYPE=image/jpeg:https://arocha.ca/wp-content/uploads/2022/03/https___cdn.evbuc_.com_images_223213619_107531319831_1_original.jpg
END:VEVENT
BEGIN:VEVENT
DTSTART;TZID=America/Vancouver:20220709T093000
DTEND;TZID=America/Vancouver:20220709T120000
DTSTAMP:20260419T151048
CREATED:20220527T012108Z
LAST-MODIFIED:20220615T035839Z
UID:39605-1657359000-1657368000@arocha.ca
SUMMARY:Restoration Saturdays (Surrey\, BC)
DESCRIPTION:Join A Rocha’s Brooksdale conservation team for a morning of habitat restoration and enhancement. \nGet your hands dirty planting native trees and shrubs\, removing invasive vegetation (such as Himalayan blackberry or English Ivy) and much more. \nThe team will meet at Brooksdale Environmental Centre (1620 192 St – Surrey\, BC) and will travel to the restoration site from there. All ages welcome to participate! Please bring your own pair of gloves and water; tools and other equipment will be provided. \nHope to see you there!!
URL:https://arocha.ca/event/restoration-saturdays-5/
LOCATION:A Rocha’s Brooksdale Environmental Centre\, 1620 192 St\, Surrey\, British Columbia\, V3Z 9V2\, Canada
CATEGORIES:BC Special Events,Brooksdale,Restoration Days
ATTACH;FMTTYPE=image/png:https://arocha.ca/wp-content/uploads/2022/03/Act-Now-Slider-Gradient.png
END:VEVENT
BEGIN:VEVENT
DTSTART;TZID=America/Vancouver:20220709T120000
DTEND;TZID=America/Vancouver:20220709T160000
DTSTAMP:20260419T151048
CREATED:20220601T194056Z
LAST-MODIFIED:20220615T035841Z
UID:39661-1657368000-1657382400@arocha.ca
SUMMARY:Market Summer Celebration! (Surrey\, BC)
DESCRIPTION:An afternoon full of fun games\, tasty food\, good community\, an abundance of farm fresh veggies\, and more! \nThe market will be open for regular hours (10-4pm) on July 9th\, with summer celebration festivities starting at noon! Drop by and join us for: \n\nDelicious pizza from the Raving Gamer food truck\nLots of fun lawn games\nFace painting\nShop our selection of local goodies\nLots of summer veggies!\n\nSelf-guided tours will be available for you to enjoy our nature trails and the beauty of the Brooksdale Environmental Centre. See you there!
URL:https://arocha.ca/event/market-summer-celebration/
LOCATION:A Rocha’s Brooksdale Environmental Centre\, 1620 192 St\, Surrey\, British Columbia\, V3Z 9V2\, Canada
CATEGORIES:BC Special Events,Brooksdale
ATTACH;FMTTYPE=image/jpeg:https://arocha.ca/wp-content/uploads/2022/06/ARochaBrooksdale_2020_WB-115-scaled.jpg
END:VEVENT
BEGIN:VEVENT
DTSTART;TZID=America/Vancouver:20220716T093000
DTEND;TZID=America/Vancouver:20220716T120000
DTSTAMP:20260419T151048
CREATED:20220527T012601Z
LAST-MODIFIED:20220710T024231Z
UID:39608-1657963800-1657972800@arocha.ca
SUMMARY:Restoration Saturday (Surrey\, BC)
DESCRIPTION:Join A Rocha’s Brooksdale conservation team for a morning of habitat restoration and enhancement.\nGet your hands dirty planting native trees and shrubs\, removing invasive vegetation (such as Himalayan blackberry or English ivy) and much more. \nThe team will meet at Brooksdale Environmental Centre (1620 192 St – Surrey\, BC) and will travel to the restoration site from there. All ages welcome to participate! Please bring your own pair of gloves and water; tools and other equipment will be provided. \nHope to see you there! \n 
URL:https://arocha.ca/event/restoration-saturdays-6/
LOCATION:A Rocha’s Brooksdale Environmental Centre\, 1620 192 St\, Surrey\, British Columbia\, V3Z 9V2\, Canada
CATEGORIES:BC Special Events,Brooksdale,Restoration Days
ATTACH;FMTTYPE=image/png:https://arocha.ca/wp-content/uploads/2022/03/Act-Now-Slider-Gradient.png
END:VEVENT
BEGIN:VEVENT
DTSTART;TZID=America/Vancouver:20220723T093000
DTEND;TZID=America/Vancouver:20220723T120000
DTSTAMP:20260419T151048
CREATED:20220527T013428Z
LAST-MODIFIED:20220710T024241Z
UID:39613-1658568600-1658577600@arocha.ca
SUMMARY:Restoration Saturday (Surrey\, BC)
DESCRIPTION:Join A Rocha’s Brooksdale conservation team for a morning of habitat restoration and enhancement.\nGet your hands dirty planting native trees and shrubs\, removing invasive vegetation (such as Himalayan blackberry or English ivy) and much more. \nThe team will meet at Brooksdale Environmental Centre (1620 192 St – Surrey\, BC) and will travel to the restoration site from there. All ages welcome to participate! Please bring your own pair of gloves and water; tools and other equipment will be provided. \nHope to see you there! \n 
URL:https://arocha.ca/event/restoration-saturdays-7/
LOCATION:A Rocha’s Brooksdale Environmental Centre\, 1620 192 St\, Surrey\, British Columbia\, V3Z 9V2\, Canada
CATEGORIES:BC Special Events,Brooksdale,Restoration Days
ATTACH;FMTTYPE=image/png:https://arocha.ca/wp-content/uploads/2022/03/Act-Now-Slider-Gradient.png
END:VEVENT
END:VCALENDAR