BEGIN:VCALENDAR
VERSION:2.0
PRODID:-//A Rocha - ECPv6.15.19//NONSGML v1.0//EN
CALSCALE:GREGORIAN
METHOD:PUBLISH
X-WR-CALNAME:A Rocha
X-ORIGINAL-URL:https://arocha.ca
X-WR-CALDESC:Events for A Rocha
REFRESH-INTERVAL;VALUE=DURATION:PT1H
X-Robots-Tag:noindex
X-PUBLISHED-TTL:PT1H
BEGIN:VTIMEZONE
TZID:America/Vancouver
BEGIN:DAYLIGHT
TZOFFSETFROM:-0800
TZOFFSETTO:-0700
TZNAME:PDT
DTSTART:20210314T100000
END:DAYLIGHT
BEGIN:STANDARD
TZOFFSETFROM:-0700
TZOFFSETTO:-0800
TZNAME:PST
DTSTART:20211107T090000
END:STANDARD
BEGIN:DAYLIGHT
TZOFFSETFROM:-0800
TZOFFSETTO:-0700
TZNAME:PDT
DTSTART:20220313T100000
END:DAYLIGHT
BEGIN:STANDARD
TZOFFSETFROM:-0700
TZOFFSETTO:-0800
TZNAME:PST
DTSTART:20221106T090000
END:STANDARD
BEGIN:DAYLIGHT
TZOFFSETFROM:-0800
TZOFFSETTO:-0700
TZNAME:PDT
DTSTART:20230312T100000
END:DAYLIGHT
BEGIN:STANDARD
TZOFFSETFROM:-0700
TZOFFSETTO:-0800
TZNAME:PST
DTSTART:20231105T090000
END:STANDARD
END:VTIMEZONE
BEGIN:VEVENT
DTSTART;TZID=America/Vancouver:20220618T093000
DTEND;TZID=America/Vancouver:20220618T120000
DTSTAMP:20260419T164741
CREATED:20220525T010725Z
LAST-MODIFIED:20220615T035656Z
UID:39523-1655544600-1655553600@arocha.ca
SUMMARY:Restoration Saturdays (Surrey\, BC)
DESCRIPTION:Join A Rocha’s Brooksdale conservation team for a morning of habitat restoration and enhancement. \nGet your hands dirty planting native trees and shrubs\, removing invasive vegetation (such as Himalayan blackberry or English Ivy) and much more. \nThe team will meet at Brooksdale Environmental Centre (1620 192 St – Surrey\, BC) and will travel to the restoration site from there. All ages welcome to participate! Please bring your own pair of gloves and water; tools and other equipment will be provided. \nHope to see you there!!
URL:https://arocha.ca/event/restoration-saturdays-4/
LOCATION:A Rocha’s Brooksdale Environmental Centre\, 1620 192 St\, Surrey\, British Columbia\, V3Z 9V2\, Canada
CATEGORIES:BC Special Events,Brooksdale,Restoration Days
ATTACH;FMTTYPE=image/jpeg:https://arocha.ca/wp-content/uploads/2022/05/Restoration-Saturdays.jpeg
END:VEVENT
BEGIN:VEVENT
DTSTART;TZID=America/Vancouver:20220625T093000
DTEND;TZID=America/Vancouver:20220625T120000
DTSTAMP:20260419T164741
CREATED:20220525T005539Z
LAST-MODIFIED:20220615T035702Z
UID:39519-1656149400-1656158400@arocha.ca
SUMMARY:Restoration Saturdays (Surrey\, BC)
DESCRIPTION:Join A Rocha’s Brooksdale conservation team for a morning of habitat restoration and enhancement. \nGet your hands dirty planting native trees and shrubs\, removing invasive vegetation (such as Himalayan blackberry or English Ivy) and much more. \nThe team will meet at Brooksdale Environmental Centre (1620 192 St – Surrey\, BC) and will travel to the restoration site from there. All ages welcome to participate! Please bring your own pair of gloves and water; tools and other equipment will be provided. \nHope to see you there!!
URL:https://arocha.ca/event/restoration-saturdays-3/
LOCATION:A Rocha’s Brooksdale Environmental Centre\, 1620 192 St\, Surrey\, British Columbia\, V3Z 9V2\, Canada
CATEGORIES:BC Special Events,Brooksdale,Restoration Days
ATTACH;FMTTYPE=image/jpeg:https://arocha.ca/wp-content/uploads/2022/05/Restoration-Saturdays.jpeg
END:VEVENT
END:VCALENDAR